BEGIN:VCALENDAR
VERSION:2.0
PRODID:-//Autism Society of Maryland - ECPv6.15.17.1//NONSGML v1.0//EN
CALSCALE:GREGORIAN
METHOD:PUBLISH
X-ORIGINAL-URL:https://autismsocietymd.org
X-WR-CALDESC:Events for Autism Society of Maryland
REFRESH-INTERVAL;VALUE=DURATION:PT1H
X-Robots-Tag:noindex
X-PUBLISHED-TTL:PT1H
BEGIN:VTIMEZONE
TZID:America/New_York
BEGIN:DAYLIGHT
TZOFFSETFROM:-0500
TZOFFSETTO:-0400
TZNAME:EDT
DTSTART:20180311T070000
END:DAYLIGHT
BEGIN:STANDARD
TZOFFSETFROM:-0400
TZOFFSETTO:-0500
TZNAME:EST
DTSTART:20181104T060000
END:STANDARD
BEGIN:DAYLIGHT
TZOFFSETFROM:-0500
TZOFFSETTO:-0400
TZNAME:EDT
DTSTART:20190310T070000
END:DAYLIGHT
BEGIN:STANDARD
TZOFFSETFROM:-0400
TZOFFSETTO:-0500
TZNAME:EST
DTSTART:20191103T060000
END:STANDARD
BEGIN:DAYLIGHT
TZOFFSETFROM:-0500
TZOFFSETTO:-0400
TZNAME:EDT
DTSTART:20200308T070000
END:DAYLIGHT
BEGIN:STANDARD
TZOFFSETFROM:-0400
TZOFFSETTO:-0500
TZNAME:EST
DTSTART:20201101T060000
END:STANDARD
BEGIN:DAYLIGHT
TZOFFSETFROM:-0500
TZOFFSETTO:-0400
TZNAME:EDT
DTSTART:20210314T070000
END:DAYLIGHT
BEGIN:STANDARD
TZOFFSETFROM:-0400
TZOFFSETTO:-0500
TZNAME:EST
DTSTART:20211107T060000
END:STANDARD
END:VTIMEZONE
BEGIN:VEVENT
DTSTART;TZID=America/New_York:20200215T153000
DTEND;TZID=America/New_York:20200215T163000
DTSTAMP:20260424T200255
CREATED:20200115T174033Z
LAST-MODIFIED:20200115T181724Z
UID:10000885-1581780600-1581784200@autismsocietymd.org
SUMMARY:FREE Yoga for Children\, Teens & Young Adults with ASD
DESCRIPTION:Please arrive 10 minutes early to sign in and prepare
URL:https://autismsocietymd.org/event/free-yoga-for-children-teens-young-adults-with-asd-5/
LOCATION:ONLINE\, MD\, United States
CATEGORIES:Yoga
ATTACH;FMTTYPE=image/png:https://autismsocietymd.org/wp-content/uploads/2019/05/default-free-yoga.png
END:VEVENT
BEGIN:VEVENT
DTSTART;TZID=America/New_York:20200208T153000
DTEND;TZID=America/New_York:20200208T163000
DTSTAMP:20260424T200255
CREATED:20200115T173601Z
LAST-MODIFIED:20200115T173601Z
UID:10000882-1581175800-1581179400@autismsocietymd.org
SUMMARY:FREE Yoga for Children\, Teens & Young Adults with ASD
DESCRIPTION:Please arrive 10 minutes early to sign in and prepare
URL:https://autismsocietymd.org/event/free-yoga-for-children-teens-young-adults-with-asd-4/
LOCATION:ONLINE\, MD\, United States
CATEGORIES:Yoga
ATTACH;FMTTYPE=image/png:https://autismsocietymd.org/wp-content/uploads/2019/05/default-free-yoga.png
END:VEVENT
BEGIN:VEVENT
DTSTART;TZID=America/New_York:20200201T153000
DTEND;TZID=America/New_York:20200201T163000
DTSTAMP:20260424T200255
CREATED:20200115T172354Z
LAST-MODIFIED:20200115T172354Z
UID:10000878-1580571000-1580574600@autismsocietymd.org
SUMMARY:FREE Yoga for Children\, Teens & Young Adults with ASD
DESCRIPTION:Please arrive 10 minutes early to sign in and prepare
URL:https://autismsocietymd.org/event/free-yoga-for-children-teens-young-adults-with-asd-3/
LOCATION:ONLINE\, MD\, United States
CATEGORIES:Yoga
ATTACH;FMTTYPE=image/png:https://autismsocietymd.org/wp-content/uploads/2019/05/default-free-yoga.png
END:VEVENT
BEGIN:VEVENT
DTSTART;TZID=America/New_York:20200125T153000
DTEND;TZID=America/New_York:20200125T163000
DTSTAMP:20260424T200255
CREATED:20200114T192048Z
LAST-MODIFIED:20200114T192048Z
UID:10000866-1579966200-1579969800@autismsocietymd.org
SUMMARY:FREE Yoga for Children\, Teens & Young Adults with ASD
DESCRIPTION:Please arrive 10 minutes early to sign in and prepare\nFREE Yoga for Children\, Teens & Young Adults with ASD
URL:https://autismsocietymd.org/event/free-yoga-for-children-teens-young-adults-with-asd-2/
LOCATION:ONLINE\, MD\, United States
CATEGORIES:Yoga
ATTACH;FMTTYPE=image/png:https://autismsocietymd.org/wp-content/uploads/2019/05/default-free-yoga.png
END:VEVENT
BEGIN:VEVENT
DTSTART;TZID=America/New_York:20200118T153000
DTEND;TZID=America/New_York:20200118T163000
DTSTAMP:20260424T200255
CREATED:20200114T191829Z
LAST-MODIFIED:20200114T191829Z
UID:10000864-1579361400-1579365000@autismsocietymd.org
SUMMARY:FREE Yoga for Children\, Teens & Young Adults with ASD
DESCRIPTION:Please arrive 10 minutes early to sign in and prepare\nFREE Yoga for Children\, Teens & Young Adults with ASD
URL:https://autismsocietymd.org/event/free-yoga-for-children-teens-young-adults-with-asd/
LOCATION:ONLINE\, MD\, United States
CATEGORIES:Yoga
ATTACH;FMTTYPE=image/png:https://autismsocietymd.org/wp-content/uploads/2019/05/default-free-yoga.png
END:VEVENT
BEGIN:VEVENT
DTSTART;TZID=America/New_York:20190615T153000
DTEND;TZID=America/New_York:20190615T173000
DTSTAMP:20260424T200255
CREATED:20190515T154031Z
LAST-MODIFIED:20190515T155903Z
UID:10000861-1560612600-1560619800@autismsocietymd.org
SUMMARY:FREE Yoga for Children & Teens With Autism
DESCRIPTION:FREE Yoga for Children & Teens With Autism
URL:https://autismsocietymd.org/event/free-yoga-for-children-teens-with-autism-4/
LOCATION:ONLINE\, MD\, United States
CATEGORIES:Yoga
ATTACH;FMTTYPE=image/png:https://autismsocietymd.org/wp-content/uploads/2019/05/default-free-yoga.png
END:VEVENT
BEGIN:VEVENT
DTSTART;TZID=America/New_York:20190601T153000
DTEND;TZID=America/New_York:20190601T173000
DTSTAMP:20260424T200255
CREATED:20190515T153508Z
LAST-MODIFIED:20190515T201703Z
UID:10000856-1559403000-1559410200@autismsocietymd.org
SUMMARY:FREE Yoga for Children & Teens With Autism
DESCRIPTION:FREE Yoga for Children & Teens With Autism\n 
URL:https://autismsocietymd.org/event/free-yoga-for-children-teens-with-autism-3/
LOCATION:ONLINE\, MD\, United States
CATEGORIES:Yoga
ATTACH;FMTTYPE=image/png:https://autismsocietymd.org/wp-content/uploads/2019/05/default-free-yoga.png
END:VEVENT
BEGIN:VEVENT
DTSTART;TZID=America/New_York:20190525T153000
DTEND;TZID=America/New_York:20190525T173000
DTSTAMP:20260424T200255
CREATED:20190515T153159Z
LAST-MODIFIED:20190515T201557Z
UID:10000853-1558798200-1558805400@autismsocietymd.org
SUMMARY:FREE Yoga for Children & Teens With Autism
DESCRIPTION:FREE Yoga for Children & Teens With Autism
URL:https://autismsocietymd.org/event/free-yoga-for-children-teens-with-autism-2/
LOCATION:ONLINE\, MD\, United States
CATEGORIES:Yoga
ATTACH;FMTTYPE=image/png:https://autismsocietymd.org/wp-content/uploads/2019/05/default-free-yoga.png
END:VEVENT
BEGIN:VEVENT
DTSTART;TZID=America/New_York:20190511T153000
DTEND;TZID=America/New_York:20190511T173000
DTSTAMP:20260424T200255
CREATED:20190515T151738Z
LAST-MODIFIED:20190515T151738Z
UID:10000841-1557588600-1557595800@autismsocietymd.org
SUMMARY:FREE Yoga for Children & Teens With Autism
DESCRIPTION:
URL:https://autismsocietymd.org/event/free-yoga-for-children-teens-with-autism/
LOCATION:ONLINE\, MD\, United States
CATEGORIES:Yoga
END:VEVENT
END:VCALENDAR