BEGIN:VCALENDAR
VERSION:2.0
PRODID:-//Autism Society of Maryland - ECPv6.15.17.1//NONSGML v1.0//EN
CALSCALE:GREGORIAN
METHOD:PUBLISH
X-ORIGINAL-URL:https://autismsocietymd.org
X-WR-CALDESC:Events for Autism Society of Maryland
REFRESH-INTERVAL;VALUE=DURATION:PT1H
X-Robots-Tag:noindex
X-PUBLISHED-TTL:PT1H
BEGIN:VTIMEZONE
TZID:America/New_York
BEGIN:DAYLIGHT
TZOFFSETFROM:-0500
TZOFFSETTO:-0400
TZNAME:EDT
DTSTART:20220313T070000
END:DAYLIGHT
BEGIN:STANDARD
TZOFFSETFROM:-0400
TZOFFSETTO:-0500
TZNAME:EST
DTSTART:20221106T060000
END:STANDARD
BEGIN:DAYLIGHT
TZOFFSETFROM:-0500
TZOFFSETTO:-0400
TZNAME:EDT
DTSTART:20230312T070000
END:DAYLIGHT
BEGIN:STANDARD
TZOFFSETFROM:-0400
TZOFFSETTO:-0500
TZNAME:EST
DTSTART:20231105T060000
END:STANDARD
BEGIN:DAYLIGHT
TZOFFSETFROM:-0500
TZOFFSETTO:-0400
TZNAME:EDT
DTSTART:20240310T070000
END:DAYLIGHT
BEGIN:STANDARD
TZOFFSETFROM:-0400
TZOFFSETTO:-0500
TZNAME:EST
DTSTART:20241103T060000
END:STANDARD
END:VTIMEZONE
BEGIN:VEVENT
DTSTART;TZID=America/New_York:20231216T140000
DTEND;TZID=America/New_York:20231216T150000
DTSTAMP:20260423T235923
CREATED:20231011T190524Z
LAST-MODIFIED:20231102T174418Z
UID:10001588-1702735200-1702738800@autismsocietymd.org
SUMMARY:Yoga Together - In Person
DESCRIPTION:For ages 6+ with an adult caregiver \nFREE! Drop-in. Advance registration is not required. \nMade possible through a grant from The Hussman Foundation. \nYoga Center of Columbia \n8950 State Route 108\, Suite 109\, Columbia\, MD 21045
URL:https://autismsocietymd.org/event/yoga-together-in-person-8/
LOCATION:Yoga Center of Columbia\, 8950 State Route 108\, Suite 109\, Columbia\, MD\, 21045
CATEGORIES:Yoga
ATTACH;FMTTYPE=image/png:https://autismsocietymd.org/wp-content/uploads/2023/10/YOGA-for-All-Logo-10.2023.png
END:VEVENT
BEGIN:VEVENT
DTSTART;TZID=America/New_York:20231111T140000
DTEND;TZID=America/New_York:20231111T150000
DTSTAMP:20260423T235923
CREATED:20231011T190446Z
LAST-MODIFIED:20231031T031830Z
UID:10001587-1699711200-1699714800@autismsocietymd.org
SUMMARY:Yoga Together - In Person
DESCRIPTION:For ages 6+ with an adult caregiver \nFREE! Drop-in. Advance registration is not required. \nMade possible through a grant from The Hussman Foundation. \nYoga Center of Columbia \n8950 State Route 108\, Suite 109\, Columbia\, MD 21045
URL:https://autismsocietymd.org/event/yoga-together-in-person-7/
LOCATION:Yoga Center of Columbia\, 8950 State Route 108\, Suite 109\, Columbia\, MD\, 21045
CATEGORIES:Yoga
ATTACH;FMTTYPE=image/png:https://autismsocietymd.org/wp-content/uploads/2023/10/YOGA-for-All-Logo-10.2023.png
END:VEVENT
BEGIN:VEVENT
DTSTART;TZID=America/New_York:20231014T140000
DTEND;TZID=America/New_York:20231014T150000
DTSTAMP:20260423T235923
CREATED:20231011T190411Z
LAST-MODIFIED:20231011T191655Z
UID:10001586-1697292000-1697295600@autismsocietymd.org
SUMMARY:Yoga Together - In Person
DESCRIPTION:For ages 6+ with an adult caregiver \nFREE! Drop-in. Advance registration is not required. \nMade possible through a grant from The Hussman Foundation. \nYoga Center of Columbia \n8950 State Route 108\, Suite 109\, Columbia\, MD 21045
URL:https://autismsocietymd.org/event/yoga-together-in-person-6/
LOCATION:Yoga Center of Columbia\, 8950 State Route 108\, Suite 109\, Columbia\, MD\, 21045
CATEGORIES:Yoga
END:VEVENT
BEGIN:VEVENT
DTSTART;TZID=America/New_York:20230930T140000
DTEND;TZID=America/New_York:20230930T150000
DTSTAMP:20260423T235923
CREATED:20230622T165757Z
LAST-MODIFIED:20230622T170850Z
UID:10001578-1696082400-1696086000@autismsocietymd.org
SUMMARY:Yoga Together (In-Person)
DESCRIPTION:Join your AUSOM friends and the fabulous Yoga Center of Columbia instructors for an hour of rejuvenating\, in-person yoga. \n\n\nIn-person on these dates: \nSaturday July 22\, August 19\, September 30\n2:00-3:00PM at the Yoga Center \nFor ages 6+ with an adult caregiver \nFREE! Drop-in. Advance registration is not required. \nYoga Center of Columbia\n8950 State Route 108\, Suite 109\nColumbia\, MD 21045 \nMade possible through a grant from The Hussman Foundation!
URL:https://autismsocietymd.org/event/yoga-together-in-person-5/
LOCATION:Yoga Center of Columbia\, 8950 State Route 108\, Suite 109\, Columbia\, MD\, 21045
CATEGORIES:Yoga
ATTACH;FMTTYPE=image/png:https://autismsocietymd.org/wp-content/uploads/2021/12/YOGA-for-children-teens-adults.png
END:VEVENT
BEGIN:VEVENT
DTSTART;TZID=America/New_York:20230819T140000
DTEND;TZID=America/New_York:20230819T150000
DTSTAMP:20260423T235923
CREATED:20230622T165642Z
LAST-MODIFIED:20230622T165642Z
UID:10001577-1692453600-1692457200@autismsocietymd.org
SUMMARY:Yoga Together (In-Person)
DESCRIPTION:Join your AUSOM friends and the fabulous Yoga Center of Columbia instructors for an hour of rejuvenating\, in-person yoga. \n\n\nIn-person on these dates: \nSaturday July 22\, August 19\, September 30\n2:00-3:00PM at the Yoga Center \nFor ages 6+ with an adult caregiver \nFREE! Drop-in. Advance registration is not required. \nYoga Center of Columbia\n8950 State Route 108\, Suite 109\nColumbia\, MD 21045 \nMade possible through a grant from The Hussman Foundation!
URL:https://autismsocietymd.org/event/yoga-together-in-person-4/
LOCATION:Yoga Center of Columbia\, 8950 State Route 108\, Suite 109\, Columbia\, MD\, 21045
CATEGORIES:Yoga
ATTACH;FMTTYPE=image/png:https://autismsocietymd.org/wp-content/uploads/2021/12/YOGA-for-children-teens-adults.png
END:VEVENT
BEGIN:VEVENT
DTSTART;TZID=America/New_York:20230722T140000
DTEND;TZID=America/New_York:20230722T150000
DTSTAMP:20260423T235923
CREATED:20230622T165541Z
LAST-MODIFIED:20230622T165541Z
UID:10001576-1690034400-1690038000@autismsocietymd.org
SUMMARY:Yoga Together (In-Person)
DESCRIPTION:Join your AUSOM friends and the fabulous Yoga Center of Columbia instructors for an hour of rejuvenating\, in-person yoga. \n\n\nIn-person on these dates: \nSaturday July 22\, August 19\, September 30\n2:00-3:00PM at the Yoga Center \nFor ages 6+ with an adult caregiver \nFREE! Drop-in. Advance registration is not required. \nYoga Center of Columbia\n8950 State Route 108\, Suite 109\nColumbia\, MD 21045 \nMade possible through a grant from The Hussman Foundation!
URL:https://autismsocietymd.org/event/yoga-together-in-person-3/
LOCATION:Yoga Center of Columbia\, 8950 State Route 108\, Suite 109\, Columbia\, MD\, 21045
CATEGORIES:Yoga
ATTACH;FMTTYPE=image/png:https://autismsocietymd.org/wp-content/uploads/2021/12/YOGA-for-children-teens-adults.png
END:VEVENT
BEGIN:VEVENT
DTSTART;TZID=America/New_York:20230610T140000
DTEND;TZID=America/New_York:20230610T150000
DTSTAMP:20260423T235923
CREATED:20230517T225327Z
LAST-MODIFIED:20230517T225327Z
UID:10001552-1686405600-1686409200@autismsocietymd.org
SUMMARY:Yoga Together (in-person)
DESCRIPTION:Join your AUSOM friends and the fabulous Yoga Center of Columbia instructors for an hour of rejuvenating yoga.\n\n\nNEW!  Yoga Together\nIn-person  \nSaturday April 29\, May 6 & June 10\n2:00-3:00PM at the Yoga Center \nFor ages 6+ with an adult caregiver \nFREE! Drop-in. Advance registration is not required. \nYoga Center of Columbia\n8950 State Route 108\, Suite 109\nColumbia\, MD 21045
URL:https://autismsocietymd.org/event/yoga-together-in-person-2/
LOCATION:Yoga Center of Columbia\, 8950 State Route 108\, Suite 109\, Columbia\, MD\, 21045
CATEGORIES:Yoga
ATTACH;FMTTYPE=image/png:https://autismsocietymd.org/wp-content/uploads/2021/12/YOGA-for-children-teens-adults.png
END:VEVENT
END:VCALENDAR