BEGIN:VCALENDAR
VERSION:2.0
PRODID:-//Autism Society of Maryland - ECPv6.15.17.1//NONSGML v1.0//EN
CALSCALE:GREGORIAN
METHOD:PUBLISH
X-ORIGINAL-URL:https://autismsocietymd.org
X-WR-CALDESC:Events for Autism Society of Maryland
REFRESH-INTERVAL;VALUE=DURATION:PT1H
X-Robots-Tag:noindex
X-PUBLISHED-TTL:PT1H
BEGIN:VTIMEZONE
TZID:America/New_York
BEGIN:DAYLIGHT
TZOFFSETFROM:-0500
TZOFFSETTO:-0400
TZNAME:EDT
DTSTART:20200308T070000
END:DAYLIGHT
BEGIN:STANDARD
TZOFFSETFROM:-0400
TZOFFSETTO:-0500
TZNAME:EST
DTSTART:20201101T060000
END:STANDARD
BEGIN:DAYLIGHT
TZOFFSETFROM:-0500
TZOFFSETTO:-0400
TZNAME:EDT
DTSTART:20210314T070000
END:DAYLIGHT
BEGIN:STANDARD
TZOFFSETFROM:-0400
TZOFFSETTO:-0500
TZNAME:EST
DTSTART:20211107T060000
END:STANDARD
BEGIN:DAYLIGHT
TZOFFSETFROM:-0500
TZOFFSETTO:-0400
TZNAME:EDT
DTSTART:20220313T070000
END:DAYLIGHT
BEGIN:STANDARD
TZOFFSETFROM:-0400
TZOFFSETTO:-0500
TZNAME:EST
DTSTART:20221106T060000
END:STANDARD
BEGIN:DAYLIGHT
TZOFFSETFROM:-0500
TZOFFSETTO:-0400
TZNAME:EDT
DTSTART:20230312T070000
END:DAYLIGHT
BEGIN:STANDARD
TZOFFSETFROM:-0400
TZOFFSETTO:-0500
TZNAME:EST
DTSTART:20231105T060000
END:STANDARD
END:VTIMEZONE
BEGIN:VEVENT
DTSTART;TZID=America/New_York:20221012T180000
DTEND;TZID=America/New_York:20221012T200000
DTSTAMP:20260424T022058
CREATED:20220902T152542Z
LAST-MODIFIED:20220902T152728Z
UID:10001467-1665597600-1665604800@autismsocietymd.org
SUMMARY:HCPSS Transition Fair
DESCRIPTION:The Howard County Public School System (HCPSS) will present its Transition Fair on 10/12 from 6-8pm at Wilde Lake High School  Learn about community and school resources available to help prepare youth with disabilities prepare for adult life. \nQuestions? Please contact: Dawson Robertson\, 410-313-5640 or dawson_robertson@hcpss.org\nCLICK TO REGISTER
URL:https://autismsocietymd.org/event/hcpss-transition-fair/
LOCATION:Wilde Lake High School
CATEGORIES:Education
ATTACH;FMTTYPE=image/png:https://autismsocietymd.org/wp-content/uploads/2022/09/TransitionFairHCPSS2022.png
END:VEVENT
BEGIN:VEVENT
DTSTART;TZID=America/New_York:20211115T190000
DTEND;TZID=America/New_York:20211115T203000
DTSTAMP:20260424T022058
CREATED:20211104T185531Z
LAST-MODIFIED:20211109T182637Z
UID:10001096-1637002800-1637008200@autismsocietymd.org
SUMMARY:NEW DATE! Laws That Protect Individuals With Disabilities
DESCRIPTION:Join AUSOM and Howard County SECAC for a presentation by Leslie Margolis of Disability Rights Maryland and Beth Benevides of Autism Society of Maryland that focuses on the laws that protect individuals with disabilities — IDEA\, ADA and 504. Presented as part of the monthly SECAC meeting.   To attend\, please register at https://us02web.zoom.us/meeting/register/tZIud-GtpjwsHNXnxtWLKS4-fZLldOY_mwZo\nAttend in person at Wilde Lake Middle School (Cafeteria) or via Zoom.
URL:https://autismsocietymd.org/event/monthly-speakers-series-laws-the-protect-individuals-with-disabilities/
LOCATION:Wilde Lake High School
CATEGORIES:Education
ATTACH;FMTTYPE=image/png:https://autismsocietymd.org/wp-content/uploads/2021/11/MonthlySpeakerSeriesNov2021.png
END:VEVENT
END:VCALENDAR