BEGIN:VCALENDAR
VERSION:2.0
PRODID:-//Autism Society of Maryland - ECPv6.15.17.1//NONSGML v1.0//EN
CALSCALE:GREGORIAN
METHOD:PUBLISH
X-ORIGINAL-URL:https://autismsocietymd.org
X-WR-CALDESC:Events for Autism Society of Maryland
REFRESH-INTERVAL;VALUE=DURATION:PT1H
X-Robots-Tag:noindex
X-PUBLISHED-TTL:PT1H
BEGIN:VTIMEZONE
TZID:America/New_York
BEGIN:DAYLIGHT
TZOFFSETFROM:-0500
TZOFFSETTO:-0400
TZNAME:EDT
DTSTART:20210314T070000
END:DAYLIGHT
BEGIN:STANDARD
TZOFFSETFROM:-0400
TZOFFSETTO:-0500
TZNAME:EST
DTSTART:20211107T060000
END:STANDARD
BEGIN:DAYLIGHT
TZOFFSETFROM:-0500
TZOFFSETTO:-0400
TZNAME:EDT
DTSTART:20220313T070000
END:DAYLIGHT
BEGIN:STANDARD
TZOFFSETFROM:-0400
TZOFFSETTO:-0500
TZNAME:EST
DTSTART:20221106T060000
END:STANDARD
BEGIN:DAYLIGHT
TZOFFSETFROM:-0500
TZOFFSETTO:-0400
TZNAME:EDT
DTSTART:20230312T070000
END:DAYLIGHT
BEGIN:STANDARD
TZOFFSETFROM:-0400
TZOFFSETTO:-0500
TZNAME:EST
DTSTART:20231105T060000
END:STANDARD
BEGIN:DAYLIGHT
TZOFFSETFROM:-0500
TZOFFSETTO:-0400
TZNAME:EDT
DTSTART:20240310T070000
END:DAYLIGHT
BEGIN:STANDARD
TZOFFSETFROM:-0400
TZOFFSETTO:-0500
TZNAME:EST
DTSTART:20241103T060000
END:STANDARD
BEGIN:DAYLIGHT
TZOFFSETFROM:-0500
TZOFFSETTO:-0400
TZNAME:EDT
DTSTART:20250309T070000
END:DAYLIGHT
BEGIN:STANDARD
TZOFFSETFROM:-0400
TZOFFSETTO:-0500
TZNAME:EST
DTSTART:20251102T060000
END:STANDARD
BEGIN:DAYLIGHT
TZOFFSETFROM:-0500
TZOFFSETTO:-0400
TZNAME:EDT
DTSTART:20260308T070000
END:DAYLIGHT
BEGIN:STANDARD
TZOFFSETFROM:-0400
TZOFFSETTO:-0500
TZNAME:EST
DTSTART:20261101T060000
END:STANDARD
BEGIN:DAYLIGHT
TZOFFSETFROM:-0500
TZOFFSETTO:-0400
TZNAME:EDT
DTSTART:20270314T070000
END:DAYLIGHT
BEGIN:STANDARD
TZOFFSETFROM:-0400
TZOFFSETTO:-0500
TZNAME:EST
DTSTART:20271107T060000
END:STANDARD
END:VTIMEZONE
BEGIN:VEVENT
DTSTART;TZID=America/New_York:20260421T180000
DTEND;TZID=America/New_York:20260421T200000
DTSTAMP:20260423T113135
CREATED:20260315T185716Z
LAST-MODIFIED:20260406T183138Z
UID:10002751-1776794400-1776801600@autismsocietymd.org
SUMMARY:Dads' Night Out
DESCRIPTION:Dads’ Night Out!\nJoin us for a fun night out – just the dads! \nDate: April 21\, 2026\nTime: 6:00-8:30pm\nVenue:  TBD \nContact the AUSOM office to be added to the email list\, info@autismsocietymd.org or 410-290-3466.​​​​​​​ \n 
URL:https://autismsocietymd.org/event/dads-night-out-30/
LOCATION:White Oak Tavern\, 10300 Baltimore National Pike\, Ellicott City\, Maryland\, 21042
CATEGORIES:Social
ATTACH;FMTTYPE=image/png:https://autismsocietymd.org/wp-content/uploads/2025/09/Dads-Night-Out.png
END:VEVENT
BEGIN:VEVENT
DTSTART;TZID=America/New_York:20260324T180000
DTEND;TZID=America/New_York:20260324T200000
DTSTAMP:20260423T113135
CREATED:20260115T163000Z
LAST-MODIFIED:20260315T185506Z
UID:10002613-1774375200-1774382400@autismsocietymd.org
SUMMARY:Dads' Night Out
DESCRIPTION:Dads’ Night Out!\nJoin us for a fun night out – just the dads! \nMarch 24\, 2026\n6:00 PM\nLocation: White Oak Tavern\n6:00 PM\n10030 Baltimore National Pike D240\, Ellicott City\, MD 21042 \nContact the AUSOM office to be added to the email list\, info@autismsocietymd.org or 410-290-3466.​​​​​​​
URL:https://autismsocietymd.org/event/dads-night-out-3_26/
LOCATION:White Oak Tavern\, 10300 Baltimore National Pike\, Ellicott City\, Maryland\, 21042
CATEGORIES:Social
ATTACH;FMTTYPE=image/png:https://autismsocietymd.org/wp-content/uploads/2025/09/Dads-Night-Out.png
END:VEVENT
BEGIN:VEVENT
DTSTART;TZID=America/New_York:20221215T180000
DTEND;TZID=America/New_York:20221215T200000
DTSTAMP:20260423T113135
CREATED:20221113T132911Z
LAST-MODIFIED:20221113T132911Z
UID:10001229-1671127200-1671134400@autismsocietymd.org
SUMMARY:Dads' Night Out!
DESCRIPTION:Join other Autism dads for a night out at White Oak Tavern in Ellicott City!  Ask for Dan McDonald!
URL:https://autismsocietymd.org/event/dads-night-out-12/
LOCATION:White Oak Tavern\, 10300 Baltimore National Pike\, Ellicott City\, Maryland\, 21042
CATEGORIES:Social
ATTACH;FMTTYPE=image/png:https://autismsocietymd.org/wp-content/uploads/2022/03/Who-let-the-Dads-out-logo1.png
END:VEVENT
END:VCALENDAR