BEGIN:VCALENDAR
VERSION:2.0
PRODID:-//Autism Society of Maryland - ECPv6.15.17.1//NONSGML v1.0//EN
CALSCALE:GREGORIAN
METHOD:PUBLISH
X-ORIGINAL-URL:https://autismsocietymd.org
X-WR-CALDESC:Events for Autism Society of Maryland
REFRESH-INTERVAL;VALUE=DURATION:PT1H
X-Robots-Tag:noindex
X-PUBLISHED-TTL:PT1H
BEGIN:VTIMEZONE
TZID:America/New_York
BEGIN:DAYLIGHT
TZOFFSETFROM:-0500
TZOFFSETTO:-0400
TZNAME:EDT
DTSTART:20230312T070000
END:DAYLIGHT
BEGIN:STANDARD
TZOFFSETFROM:-0400
TZOFFSETTO:-0500
TZNAME:EST
DTSTART:20231105T060000
END:STANDARD
BEGIN:DAYLIGHT
TZOFFSETFROM:-0500
TZOFFSETTO:-0400
TZNAME:EDT
DTSTART:20240310T070000
END:DAYLIGHT
BEGIN:STANDARD
TZOFFSETFROM:-0400
TZOFFSETTO:-0500
TZNAME:EST
DTSTART:20241103T060000
END:STANDARD
BEGIN:DAYLIGHT
TZOFFSETFROM:-0500
TZOFFSETTO:-0400
TZNAME:EDT
DTSTART:20250309T070000
END:DAYLIGHT
BEGIN:STANDARD
TZOFFSETFROM:-0400
TZOFFSETTO:-0500
TZNAME:EST
DTSTART:20251102T060000
END:STANDARD
END:VTIMEZONE
BEGIN:VEVENT
DTSTART;TZID=America/New_York:20240218T170000
DTEND;TZID=America/New_York:20240218T200000
DTSTAMP:20260423T192236
CREATED:20240202T033703Z
LAST-MODIFIED:20240202T034146Z
UID:10002194-1708275600-1708286400@autismsocietymd.org
SUMMARY:¡NOCHE DE LOTERIA GRATIS! ​​​​​​​
DESCRIPTION:¡Acompañe a la Sociedad de Autismo de Maryland (AUSOM) y a la Asociación para Mentes Extraordinarias (xMinds) para una noche de diversión y juegos! Perfecto para todas las edades y habilidades. \nDomingo\, Febrero 18\, 2024  \nLas puertas se abren a las 5PM; Loteria es de 5:30PM-8:00PM  \n10501 New Hampshire Ave\, Silver Spring\, MD  \n\n¡Cada persona recibe un libro de 10 juegos de LOTERIA más un juego de bono especial!\n¡Grandes premios para cada juego!\nPlatos de cena a la carta disponibles para comprar.\nRefrigerios gratis y botellas de agua serán proveídas.\n\nGRATIS\, pero registrarse es requerido para asistir. El espacio es limitado. ¡Inscríbase temprano! \nHAGA CLIC PARA REGISTRARSE en BINGO
URL:https://autismsocietymd.org/event/noche-de-loteria-gratis/
LOCATION:We Achieve\, 10501 New Hampshire Ave\, Silver Spring\, MD\, United States
ATTACH;FMTTYPE=image/png:https://autismsocietymd.org/wp-content/uploads/2024/02/BINGO2024-Social-1-1.png
END:VEVENT
BEGIN:VEVENT
DTSTART;TZID=America/New_York:20240218T170000
DTEND;TZID=America/New_York:20240218T200000
DTSTAMP:20260423T192236
CREATED:20240202T033033Z
LAST-MODIFIED:20240205T163046Z
UID:10002193-1708275600-1708286400@autismsocietymd.org
SUMMARY:Free Bingo Night
DESCRIPTION:Join the Autism Society of Maryland (AUSOM) and Partnership for Extraordinary Minds (xMinds) for a night of fun and games. This family friendly event is perfect for all ages and abilities.  \nDate: Sunday\, February 18\, 2024 \nTime: Doors open at 5:00 PM; Bingo from 5:30 – 8:00PM \nLocation: We Achieve – 10501 New Hampshire Ave\, Silver Spring\, MD \n\nEach person will receive a 10-game BINGO book plus a special bonus game\nDinner snacks and drinks will be available for purchase on-site (cash or credit cards accepted).\nFree snacks and bottled water will be provided​​​​​​​ and/or you can bring your own\n\nThis event is free but registration is required for all BINGO players. Space is limited for this event so please register early! \nCLICK HERE TO REGISTER! \nIf you’d like to join us as a VOLUNTEER\, please click below \nCLICK HERE TO VOLUNTEER!
URL:https://autismsocietymd.org/event/free-bingo-night/
LOCATION:We Achieve\, 10501 New Hampshire Ave\, Silver Spring\, MD\, United States
ATTACH;FMTTYPE=image/png:https://autismsocietymd.org/wp-content/uploads/2024/02/BINGO2024-Social-1.png
END:VEVENT
END:VCALENDAR