BEGIN:VCALENDAR
VERSION:2.0
PRODID:-//Autism Society of Maryland - ECPv6.15.17.1//NONSGML v1.0//EN
CALSCALE:GREGORIAN
METHOD:PUBLISH
X-WR-CALNAME:Autism Society of Maryland
X-ORIGINAL-URL:https://autismsocietymd.org
X-WR-CALDESC:Events for Autism Society of Maryland
REFRESH-INTERVAL;VALUE=DURATION:PT1H
X-Robots-Tag:noindex
X-PUBLISHED-TTL:PT1H
BEGIN:VTIMEZONE
TZID:America/New_York
BEGIN:DAYLIGHT
TZOFFSETFROM:-0500
TZOFFSETTO:-0400
TZNAME:EDT
DTSTART:20190310T070000
END:DAYLIGHT
BEGIN:STANDARD
TZOFFSETFROM:-0400
TZOFFSETTO:-0500
TZNAME:EST
DTSTART:20191103T060000
END:STANDARD
BEGIN:DAYLIGHT
TZOFFSETFROM:-0500
TZOFFSETTO:-0400
TZNAME:EDT
DTSTART:20200308T070000
END:DAYLIGHT
BEGIN:STANDARD
TZOFFSETFROM:-0400
TZOFFSETTO:-0500
TZNAME:EST
DTSTART:20201101T060000
END:STANDARD
BEGIN:DAYLIGHT
TZOFFSETFROM:-0500
TZOFFSETTO:-0400
TZNAME:EDT
DTSTART:20210314T070000
END:DAYLIGHT
BEGIN:STANDARD
TZOFFSETFROM:-0400
TZOFFSETTO:-0500
TZNAME:EST
DTSTART:20211107T060000
END:STANDARD
BEGIN:DAYLIGHT
TZOFFSETFROM:-0500
TZOFFSETTO:-0400
TZNAME:EDT
DTSTART:20220313T070000
END:DAYLIGHT
BEGIN:STANDARD
TZOFFSETFROM:-0400
TZOFFSETTO:-0500
TZNAME:EST
DTSTART:20221106T060000
END:STANDARD
BEGIN:DAYLIGHT
TZOFFSETFROM:-0500
TZOFFSETTO:-0400
TZNAME:EDT
DTSTART:20230312T070000
END:DAYLIGHT
BEGIN:STANDARD
TZOFFSETFROM:-0400
TZOFFSETTO:-0500
TZNAME:EST
DTSTART:20231105T060000
END:STANDARD
BEGIN:DAYLIGHT
TZOFFSETFROM:-0500
TZOFFSETTO:-0400
TZNAME:EDT
DTSTART:20240310T070000
END:DAYLIGHT
BEGIN:STANDARD
TZOFFSETFROM:-0400
TZOFFSETTO:-0500
TZNAME:EST
DTSTART:20241103T060000
END:STANDARD
END:VTIMEZONE
BEGIN:VEVENT
DTSTART;TZID=America/New_York:20230311T070000
DTEND;TZID=America/New_York:20230311T230000
DTSTAMP:20260424T085101
CREATED:20220622T030008Z
LAST-MODIFIED:20230217T190829Z
UID:10001436-1678518000-1678575600@autismsocietymd.org
SUMMARY:AUSOM 30th Anniversary Gala! - SOLD OUT EVENT!
DESCRIPTION:We are at capacity for our CASINO NIGHT and 30th Anniversary Celebration on March 11th.  Thank you to everyone for your incredible response.  If you are still interested in attending\, please contact our office to be added to the waiting list at 410-290-3466 or info@autismsocietymd.org.”
URL:https://autismsocietymd.org/event/hcas-30th-anniversary-gala/
LOCATION:Turf Valley Resort\, 2700 Turf Valley Rd\, Ellicott City\, 21042\, United States
CATEGORIES:Fundraiser
ATTACH;FMTTYPE=image/png:https://autismsocietymd.org/wp-content/uploads/2023/02/SOLD-OUT.png
END:VEVENT
BEGIN:VEVENT
DTSTART;TZID=America/New_York:20200425T190000
DTEND;TZID=America/New_York:20200425T190000
DTSTAMP:20260424T085101
CREATED:20200115T192419Z
LAST-MODIFIED:20200323T130840Z
UID:10000811-1587841200-1587841200@autismsocietymd.org
SUMMARY:Canceled - 2020 AUSOM Pieces of the Puzzle Gala — CASINO NIGHT!
DESCRIPTION:This event has been canceled.  Thank you to our sponsors and supporters.  We hope to see you at this event next spring.\nTitle Sponsor: The Hussman Foundation \nHCAS’s CASINO NIGHT! Gala promises a thrilling vintage Vegas evening of fun and friendly competition! With $200 in Fun Bucks included in the ticket price\, guests will experience the excitement of going all in at the Craps\, Roulette\, Blackjack and Texas Hold ‘Em tables. Additional Fun Bucks will be available for purchase throughout the evening. \nThe evening will include opportunities to: \n• Win LIVE AUCTION packages offering exciting destination travel and experiences selected for YOU! \n• Cash in your winnings or buy tickets to win upscale themed baskets in our BASKET RAFFLE \n• Catch a glimpse of Elvis or snap a selfie with a Vegas showgirl! \n• Dance to the hits of the Rat Pack crooners and period pop songs \nSuggested attire is Cocktail. \nINDIVIDUAL TICKETS: (Ticket sales end April 10th) \n$150 per person from Feb. 1 – March 25\, 2020 \n$175 per person from March 26 – April 10\, 2020 \nTABLE FOR 10: \n$1\,500 from Feb. 1 – March 25\, 2020 \n$1\,750 from March 26 – April 10\, 2020 \nPurchase your gala tickets by March 25th to be eligible to win a FREE hotel room at Turf Valley to use the night of the gala. Winner announced on March 26th. \nElected Officials\, please call the AUSOM office for ticket purchase at 410-290-3466. \nDinner will feature buffet stations that include Gluten-Free\, Casein-Free and Vegetarian/Vegan options. Please indicate dietary preferences for you and your guests when you register. \nFor sponsorship information\, contact melissa.rosenberg@autismsocietymd.org. \nPlease contact us with your questions at info@autismsocietymd.org\, or by phone at 410-290-3466.
URL:https://autismsocietymd.org/event/2020-hcas-pieces-of-the-puzzle-gala-casino-night/
LOCATION:Turf Valley Resort\, 2700 Turf Valley Rd\, Ellicott City\, 21042\, United States
CATEGORIES:Family Support,General Support,Social,Workshops
ATTACH;FMTTYPE=image/png:https://autismsocietymd.org/wp-content/uploads/2020/01/TICKETS-NOW-ON-SALE-1.png
END:VEVENT
END:VCALENDAR