BEGIN:VCALENDAR
VERSION:2.0
PRODID:-//Autism Society of Maryland - ECPv6.15.17.1//NONSGML v1.0//EN
CALSCALE:GREGORIAN
METHOD:PUBLISH
X-ORIGINAL-URL:https://autismsocietymd.org
X-WR-CALDESC:Events for Autism Society of Maryland
REFRESH-INTERVAL;VALUE=DURATION:PT1H
X-Robots-Tag:noindex
X-PUBLISHED-TTL:PT1H
BEGIN:VTIMEZONE
TZID:America/New_York
BEGIN:DAYLIGHT
TZOFFSETFROM:-0500
TZOFFSETTO:-0400
TZNAME:EDT
DTSTART:20210314T070000
END:DAYLIGHT
BEGIN:STANDARD
TZOFFSETFROM:-0400
TZOFFSETTO:-0500
TZNAME:EST
DTSTART:20211107T060000
END:STANDARD
BEGIN:DAYLIGHT
TZOFFSETFROM:-0500
TZOFFSETTO:-0400
TZNAME:EDT
DTSTART:20220313T070000
END:DAYLIGHT
BEGIN:STANDARD
TZOFFSETFROM:-0400
TZOFFSETTO:-0500
TZNAME:EST
DTSTART:20221106T060000
END:STANDARD
BEGIN:DAYLIGHT
TZOFFSETFROM:-0500
TZOFFSETTO:-0400
TZNAME:EDT
DTSTART:20230312T070000
END:DAYLIGHT
BEGIN:STANDARD
TZOFFSETFROM:-0400
TZOFFSETTO:-0500
TZNAME:EST
DTSTART:20231105T060000
END:STANDARD
BEGIN:DAYLIGHT
TZOFFSETFROM:-0500
TZOFFSETTO:-0400
TZNAME:EDT
DTSTART:20240310T070000
END:DAYLIGHT
BEGIN:STANDARD
TZOFFSETFROM:-0400
TZOFFSETTO:-0500
TZNAME:EST
DTSTART:20241103T060000
END:STANDARD
END:VTIMEZONE
BEGIN:VEVENT
DTSTART;TZID=America/New_York:20230602T190000
DTEND;TZID=America/New_York:20230602T210000
DTSTAMP:20260424T055722
CREATED:20230515T145632Z
LAST-MODIFIED:20230515T145643Z
UID:10001551-1685732400-1685739600@autismsocietymd.org
SUMMARY:Respite Golf Night for Autism Dads!
DESCRIPTION:  \n\n\n\n\n\n\n\n\n\n\n\nThe Scott Chernack Family Fund \nannounces its second \nRespite Golf Night for Autism Dads! \nFriday\, June 2\, 2023 . 7:00-9:00pm \n​​​​​​​Topgolf\, 20101 Century Blvd.\, Germantown\, MD \n\n\n\n\n\n\nIn a salute to Howard County Autism Dads\, the Scott Chernack Family Fund is hosting this FREE event for dads and their plus ones to unwind and recharge while participating in one of Scott’s favorite activities … golf.  \n\n\n\n\n\n\n\n\n\n\n\n\n\n\n\n\n\n\n\n\n\n\nThe event\, open to dads who are residents of Howard County\, includes a buffet dinner and two hours of play at Topgolf\, a sports entertainment center that offers high tech golf games\, climate-controlled hitting bays\, and music.  You don’t need to be a great golfer to participate. Come out and enjoy the evening!  More information about Topgolf here\,  https://topgolf.com/us/\nCLICK HERE TO REGISTER! Registration does not guarantee a spot in this free event. If we have more than 33 registrants (including plus ones)\, we will select final participants via a lottery system.  Deadline to apply is May 19\, 2023.  Participants will be notified of their selection by May 20th.\nQuestions?   Contact 410-290-3466 or melissa.rosenberg@autismsocietymd.org
URL:https://autismsocietymd.org/event/respite-golf-night-for-autism-dads-2/
LOCATION:Topgolf\, 20101 Century Blvd.\, Germantown\, Maryland\, 20782
CATEGORIES:Social
ATTACH;FMTTYPE=image/png:https://autismsocietymd.org/wp-content/uploads/2023/05/Chernack-Fund-2023-Golf-Event.png
END:VEVENT
BEGIN:VEVENT
DTSTART;TZID=America/New_York:20220617T190000
DTEND;TZID=America/New_York:20220617T210000
DTSTAMP:20260424T055722
CREATED:20220505T031020Z
LAST-MODIFIED:20220505T031844Z
UID:10001421-1655492400-1655499600@autismsocietymd.org
SUMMARY:Respite Golf Night for Autism Dads!
DESCRIPTION:Just in time for Father’s Day! \nThe Scott Chernack Family Fund announces its Respite Golf Night for Autism Dads! \nFriday\, June 17th 7-9 pm at Topgolf\, 20101 Century Blvd.\, Germantown\, MD 20874    \nREGISTER HERE \nIn a salute to local Autism Dads\, the Scott Chernack Family Fund is hosting this free event for a total of 40 individuals (dads and a plus one) to unwind and recharge while participating in one of Scott’s favorite activities…golf! The event\, open to dads who are residents of Howard County or AUSOM members\, includes a buffet dinner and two hours of play at Topgolf\, a sports entertainment center that offers high tech golf games\, climate-controlled hitting bays\, and music.  You don’t need to be a great golfer to participate – come out and enjoy the evening!  More information about Topgolf:  https://topgolf.com/us/ \nNote: Registration does not guarantee a spot in this free event. The deadline to apply is May 25\, 2022 for the June 17th event. If more than 40 applicants sign up\, participants will be selected by lottery and winners will be notified by May 27. \nAbout Scott \nThe Scott Chernack Family Fund was created in memory of Scott Chernack\, a loving father\, husband\, son\, brother and friend.  Scott’s ability to make people smile was uplifting to all who met him.  Scott lived every day with optimism\, kindness and humor\, which he generously shared with everyone he met. Scott had a passion for golf and spent rare and cherished moments on the golf course.  Scott also loved football and supported his favorite teams with the same relentless energy he used to support his family and friends.  Scott understood that the need to recharge was necessary to face daily challenges experienced while caring for his son. This fund and a yearly event were created to honor him and Autism dads in Howard County\, MD. \nQuestions?   Contact 410-290-3466 or melissa.rosenberg@autismsocietymd.org
URL:https://autismsocietymd.org/event/respite-golf-night-for-autism-dads/
LOCATION:Topgolf\, 20101 Century Blvd.\, Germantown\, Maryland\, 20782
CATEGORIES:Social
ATTACH;FMTTYPE=image/png:https://autismsocietymd.org/wp-content/uploads/2022/05/ScottChernack2022Event-2.png
END:VEVENT
END:VCALENDAR