BEGIN:VCALENDAR
VERSION:2.0
PRODID:-//Autism Society of Maryland - ECPv6.15.17.1//NONSGML v1.0//EN
CALSCALE:GREGORIAN
METHOD:PUBLISH
X-ORIGINAL-URL:https://autismsocietymd.org
X-WR-CALDESC:Events for Autism Society of Maryland
REFRESH-INTERVAL;VALUE=DURATION:PT1H
X-Robots-Tag:noindex
X-PUBLISHED-TTL:PT1H
BEGIN:VTIMEZONE
TZID:America/New_York
BEGIN:DAYLIGHT
TZOFFSETFROM:-0500
TZOFFSETTO:-0400
TZNAME:EDT
DTSTART:20230312T070000
END:DAYLIGHT
BEGIN:STANDARD
TZOFFSETFROM:-0400
TZOFFSETTO:-0500
TZNAME:EST
DTSTART:20231105T060000
END:STANDARD
BEGIN:DAYLIGHT
TZOFFSETFROM:-0500
TZOFFSETTO:-0400
TZNAME:EDT
DTSTART:20240310T070000
END:DAYLIGHT
BEGIN:STANDARD
TZOFFSETFROM:-0400
TZOFFSETTO:-0500
TZNAME:EST
DTSTART:20241103T060000
END:STANDARD
BEGIN:DAYLIGHT
TZOFFSETFROM:-0500
TZOFFSETTO:-0400
TZNAME:EDT
DTSTART:20250309T070000
END:DAYLIGHT
BEGIN:STANDARD
TZOFFSETFROM:-0400
TZOFFSETTO:-0500
TZNAME:EST
DTSTART:20251102T060000
END:STANDARD
END:VTIMEZONE
BEGIN:VEVENT
DTSTART;TZID=America/New_York:20240912T193000
DTEND;TZID=America/New_York:20240912T210000
DTSTAMP:20260424T010530
CREATED:20240826T211353Z
LAST-MODIFIED:20240827T203139Z
UID:10002333-1726169400-1726174800@autismsocietymd.org
SUMMARY:MoCo Spectrum in the Spotlight
DESCRIPTION:Thank you for your interest in our Adult Social Groups. Please fill out the one-time membership registration listed below\, you will receive monthly emails announcing upcoming events and activities that you are welcome to attend. \nThe Montgomery County-based social group\, Spectrum in the Spotlight\, is for Autistic adults ages 18+ who have graduated high school and are able to participate in events independently. This group meets about once a month for social gatherings and activities in and around the Rockville area. The events are supported by AUSOM staff members. \nMembership in the AUSOM MoCo adult groups requires a one-time\, online registration\, which includes completing the AUSOM participation waiver. Click the link below to register. \nRegister to join the AUSOM MoCo adult groups:  https://app.donorview.com/jvJmJ \nFor more information about these MoCo groups\, contact Kristen at kristen.letnick@autismsocietymd.org.
URL:https://autismsocietymd.org/event/moco-spectrum-in-the-spotlight-asian-food-dinner-social/
LOCATION:The Spot Asion Food Hall\, 255 N. Washington St.\, Rockville\, MD\, 20850
CATEGORIES:Adult Social Group
ATTACH;FMTTYPE=image/png:https://autismsocietymd.org/wp-content/uploads/2023/11/MoCo-Adult-Group-Logo-1.png
END:VEVENT
END:VCALENDAR