BEGIN:VCALENDAR
VERSION:2.0
PRODID:-//Autism Society of Maryland - ECPv6.15.17.1//NONSGML v1.0//EN
CALSCALE:GREGORIAN
METHOD:PUBLISH
X-ORIGINAL-URL:https://autismsocietymd.org
X-WR-CALDESC:Events for Autism Society of Maryland
REFRESH-INTERVAL;VALUE=DURATION:PT1H
X-Robots-Tag:noindex
X-PUBLISHED-TTL:PT1H
BEGIN:VTIMEZONE
TZID:America/New_York
BEGIN:DAYLIGHT
TZOFFSETFROM:-0500
TZOFFSETTO:-0400
TZNAME:EDT
DTSTART:20200308T070000
END:DAYLIGHT
BEGIN:STANDARD
TZOFFSETFROM:-0400
TZOFFSETTO:-0500
TZNAME:EST
DTSTART:20201101T060000
END:STANDARD
BEGIN:DAYLIGHT
TZOFFSETFROM:-0500
TZOFFSETTO:-0400
TZNAME:EDT
DTSTART:20210314T070000
END:DAYLIGHT
BEGIN:STANDARD
TZOFFSETFROM:-0400
TZOFFSETTO:-0500
TZNAME:EST
DTSTART:20211107T060000
END:STANDARD
BEGIN:DAYLIGHT
TZOFFSETFROM:-0500
TZOFFSETTO:-0400
TZNAME:EDT
DTSTART:20220313T070000
END:DAYLIGHT
BEGIN:STANDARD
TZOFFSETFROM:-0400
TZOFFSETTO:-0500
TZNAME:EST
DTSTART:20221106T060000
END:STANDARD
END:VTIMEZONE
BEGIN:VEVENT
DTSTART;TZID=America/New_York:20211105T180000
DTEND;TZID=America/New_York:20211105T200000
DTSTAMP:20260424T123513
CREATED:20211025T185819Z
LAST-MODIFIED:20211025T185949Z
UID:10001092-1636135200-1636142400@autismsocietymd.org
SUMMARY:Dad's Night Out!
DESCRIPTION:Join other AUSOM Dads at The Rathskeller Restaurant for a night out!  Hope to see you there for beer\, schnitzel and wurst!  Rathskeller is an employer partner for HCAS’ Autism Hiring Program and they will be doing a fundraiser for AUSOM 11/4-11/6. The restaurant is located at 5782 Main Street in Elkridge\, MD. \n 
URL:https://autismsocietymd.org/event/dads-night-out-4/
LOCATION:The Rathskeller\, 5782 Main Street\, Ellicott City\, Maryland\, 21075
CATEGORIES:Social
ATTACH;FMTTYPE=image/jpeg:https://autismsocietymd.org/wp-content/uploads/2020/05/dads-night-out-1.jpg
END:VEVENT
BEGIN:VEVENT
DTSTART;VALUE=DATE:20211104
DTEND;VALUE=DATE:20211107
DTSTAMP:20260424T123513
CREATED:20211011T193700Z
LAST-MODIFIED:20211011T193802Z
UID:10001334-1635984000-1636243199@autismsocietymd.org
SUMMARY:Fundraiser at Rathskeller!
DESCRIPTION:Join us at The Rathskeller restaurant in Elkridge for wurst\, schnitzel\, beer and a little fundraising!  $10 from the purchase of a Josh Platter will go to HCAS.  And there will be other opportunities to donate.  The Rathskeller is a proud partner of The Autism Hiring Program and currently employs one of that program’s alumni!
URL:https://autismsocietymd.org/event/fundraiser-at-rathskeller/
LOCATION:The Rathskeller\, 5782 Main Street\, Ellicott City\, Maryland\, 21075
CATEGORIES:Fundraiser
ATTACH;FMTTYPE=image/png:https://autismsocietymd.org/wp-content/uploads/2021/10/RathskellerFundraiser11.4.21-2.png
END:VEVENT
END:VCALENDAR