BEGIN:VCALENDAR
VERSION:2.0
PRODID:-//Autism Society of Maryland - ECPv6.15.17.1//NONSGML v1.0//EN
CALSCALE:GREGORIAN
METHOD:PUBLISH
X-WR-CALNAME:Autism Society of Maryland
X-ORIGINAL-URL:https://autismsocietymd.org
X-WR-CALDESC:Events for Autism Society of Maryland
REFRESH-INTERVAL;VALUE=DURATION:PT1H
X-Robots-Tag:noindex
X-PUBLISHED-TTL:PT1H
BEGIN:VTIMEZONE
TZID:America/New_York
BEGIN:DAYLIGHT
TZOFFSETFROM:-0500
TZOFFSETTO:-0400
TZNAME:EDT
DTSTART:20200308T070000
END:DAYLIGHT
BEGIN:STANDARD
TZOFFSETFROM:-0400
TZOFFSETTO:-0500
TZNAME:EST
DTSTART:20201101T060000
END:STANDARD
BEGIN:DAYLIGHT
TZOFFSETFROM:-0500
TZOFFSETTO:-0400
TZNAME:EDT
DTSTART:20210314T070000
END:DAYLIGHT
BEGIN:STANDARD
TZOFFSETFROM:-0400
TZOFFSETTO:-0500
TZNAME:EST
DTSTART:20211107T060000
END:STANDARD
BEGIN:DAYLIGHT
TZOFFSETFROM:-0500
TZOFFSETTO:-0400
TZNAME:EDT
DTSTART:20220313T070000
END:DAYLIGHT
BEGIN:STANDARD
TZOFFSETFROM:-0400
TZOFFSETTO:-0500
TZNAME:EST
DTSTART:20221106T060000
END:STANDARD
BEGIN:DAYLIGHT
TZOFFSETFROM:-0500
TZOFFSETTO:-0400
TZNAME:EDT
DTSTART:20230312T070000
END:DAYLIGHT
BEGIN:STANDARD
TZOFFSETFROM:-0400
TZOFFSETTO:-0500
TZNAME:EST
DTSTART:20231105T060000
END:STANDARD
BEGIN:DAYLIGHT
TZOFFSETFROM:-0500
TZOFFSETTO:-0400
TZNAME:EDT
DTSTART:20240310T070000
END:DAYLIGHT
BEGIN:STANDARD
TZOFFSETFROM:-0400
TZOFFSETTO:-0500
TZNAME:EST
DTSTART:20241103T060000
END:STANDARD
END:VTIMEZONE
BEGIN:VEVENT
DTSTART;TZID=America/New_York:20230330T180000
DTEND;TZID=America/New_York:20230330T200000
DTSTAMP:20260423T224641
CREATED:20230303T004442Z
LAST-MODIFIED:20230303T015345Z
UID:10001285-1680199200-1680206400@autismsocietymd.org
SUMMARY:Dads' Night Out!
DESCRIPTION:Join other Autism dads for a fun night out at the Ale House Columbia on March 30th from 6-8pm.  The Ale House is located at 6480 Dobbin Center Way in Columbia\, MD.  Ask for the AUSOM Dads Group.
URL:https://autismsocietymd.org/event/dads-night-out-15/
LOCATION:The Ale House\, 6480 Dobbin Road\, Columbia\, MD\, 21045\, United States
CATEGORIES:Social
ATTACH;FMTTYPE=image/jpeg:https://autismsocietymd.org/wp-content/uploads/2020/05/dads-night-out-1.jpg
END:VEVENT
BEGIN:VEVENT
DTSTART;TZID=America/New_York:20210526T180000
DTEND;TZID=America/New_York:20210526T193000
DTSTAMP:20260423T224641
CREATED:20210506T185026Z
LAST-MODIFIED:20210506T185026Z
UID:10001203-1622052000-1622057400@autismsocietymd.org
SUMMARY:Dad's Night Out at The Ale House
DESCRIPTION:Join other dads for a fun night out at The Ale House in Columbia\, MD. This will be an in person event observing all necessary precautions as set forth by the CDC and State of Maryland. Ask for Roger Thibaudeau and the AUSOM Dad’s Group when you arrive!
URL:https://autismsocietymd.org/event/dads-night-out-at-the-ale-house/
LOCATION:The Ale House\, 6480 Dobbin Road\, Columbia\, MD\, 21045\, United States
CATEGORIES:Social
ATTACH;FMTTYPE=image/jpeg:https://autismsocietymd.org/wp-content/uploads/2020/01/dads-night-out.jpg
END:VEVENT
END:VCALENDAR