BEGIN:VCALENDAR
VERSION:2.0
PRODID:-//Autism Society of Maryland - ECPv6.15.17.1//NONSGML v1.0//EN
CALSCALE:GREGORIAN
METHOD:PUBLISH
X-ORIGINAL-URL:https://autismsocietymd.org
X-WR-CALDESC:Events for Autism Society of Maryland
REFRESH-INTERVAL;VALUE=DURATION:PT1H
X-Robots-Tag:noindex
X-PUBLISHED-TTL:PT1H
BEGIN:VTIMEZONE
TZID:America/New_York
BEGIN:DAYLIGHT
TZOFFSETFROM:-0500
TZOFFSETTO:-0400
TZNAME:EDT
DTSTART:20190310T070000
END:DAYLIGHT
BEGIN:STANDARD
TZOFFSETFROM:-0400
TZOFFSETTO:-0500
TZNAME:EST
DTSTART:20191103T060000
END:STANDARD
BEGIN:DAYLIGHT
TZOFFSETFROM:-0500
TZOFFSETTO:-0400
TZNAME:EDT
DTSTART:20200308T070000
END:DAYLIGHT
BEGIN:STANDARD
TZOFFSETFROM:-0400
TZOFFSETTO:-0500
TZNAME:EST
DTSTART:20201101T060000
END:STANDARD
BEGIN:DAYLIGHT
TZOFFSETFROM:-0500
TZOFFSETTO:-0400
TZNAME:EDT
DTSTART:20210314T070000
END:DAYLIGHT
BEGIN:STANDARD
TZOFFSETFROM:-0400
TZOFFSETTO:-0500
TZNAME:EST
DTSTART:20211107T060000
END:STANDARD
END:VTIMEZONE
BEGIN:VEVENT
DTSTART;TZID=America/New_York:20201001T160000
DTEND;TZID=America/New_York:20201001T180000
DTSTAMP:20260423T191626
CREATED:20200918T141446Z
LAST-MODIFIED:20200918T141537Z
UID:10000902-1601568000-1601575200@autismsocietymd.org
SUMMARY:Packet Pick-Up 10/1 - Every Step Counts Autism Walk & 5K
DESCRIPTION:Pick Up Your Every Step Counts Packets — t-shirts\, add-ons and other items — at one of these three dates & locations! \n  \nSeptember 27th – 2-4pm at AUSOM Office Parking Lot (rear of building) \n9770 Patuxent Woods Drive\, Columbia\, MD 21046 \n  \nSeptember 29th – Noon-2pm\, at AUSOM Office Parking Lot (rear of building) \n9770 Patuxent Woods Drive\, Columbia\, MD 21046 \n  \nOctober 1st – 4-6pm at RoadRunner Sports (parking lot) \n6630-C Marie Curie Dr\, Elkridge\, MD 21075 \n  \nQuestions?  Email info@autismsocietymd.org or call 410-290-3466
URL:https://autismsocietymd.org/event/packet-pick-up-10-1-every-step-counts-autism-walk-5k/
LOCATION:RoadRunner Sports\, 6630-C Marie Curie Drive\, Elkridge\, MD 21075\, 6630-C Marie Curie Drive\, Elkridge\, MD\, 21075\, United States
CATEGORIES:Walk/5KRun
ATTACH;FMTTYPE=image/jpeg:https://autismsocietymd.org/wp-content/uploads/2020/01/Logo-HCAS-Walk-Run-2020-FINAL-redsquare-allwhite-scaled.jpg
END:VEVENT
END:VCALENDAR