BEGIN:VCALENDAR
VERSION:2.0
PRODID:-//Autism Society of Maryland - ECPv6.15.17.1//NONSGML v1.0//EN
CALSCALE:GREGORIAN
METHOD:PUBLISH
X-ORIGINAL-URL:https://autismsocietymd.org
X-WR-CALDESC:Events for Autism Society of Maryland
REFRESH-INTERVAL;VALUE=DURATION:PT1H
X-Robots-Tag:noindex
X-PUBLISHED-TTL:PT1H
BEGIN:VTIMEZONE
TZID:America/New_York
BEGIN:DAYLIGHT
TZOFFSETFROM:-0500
TZOFFSETTO:-0400
TZNAME:EDT
DTSTART:20220313T070000
END:DAYLIGHT
BEGIN:STANDARD
TZOFFSETFROM:-0400
TZOFFSETTO:-0500
TZNAME:EST
DTSTART:20221106T060000
END:STANDARD
BEGIN:DAYLIGHT
TZOFFSETFROM:-0500
TZOFFSETTO:-0400
TZNAME:EDT
DTSTART:20230312T070000
END:DAYLIGHT
BEGIN:STANDARD
TZOFFSETFROM:-0400
TZOFFSETTO:-0500
TZNAME:EST
DTSTART:20231105T060000
END:STANDARD
BEGIN:DAYLIGHT
TZOFFSETFROM:-0500
TZOFFSETTO:-0400
TZNAME:EDT
DTSTART:20240310T070000
END:DAYLIGHT
BEGIN:STANDARD
TZOFFSETFROM:-0400
TZOFFSETTO:-0500
TZNAME:EST
DTSTART:20241103T060000
END:STANDARD
BEGIN:DAYLIGHT
TZOFFSETFROM:-0500
TZOFFSETTO:-0400
TZNAME:EDT
DTSTART:20250309T070000
END:DAYLIGHT
BEGIN:STANDARD
TZOFFSETFROM:-0400
TZOFFSETTO:-0500
TZNAME:EST
DTSTART:20251102T060000
END:STANDARD
BEGIN:DAYLIGHT
TZOFFSETFROM:-0500
TZOFFSETTO:-0400
TZNAME:EDT
DTSTART:20260308T070000
END:DAYLIGHT
BEGIN:STANDARD
TZOFFSETFROM:-0400
TZOFFSETTO:-0500
TZNAME:EST
DTSTART:20261101T060000
END:STANDARD
END:VTIMEZONE
BEGIN:VEVENT
DTSTART;TZID=America/New_York:20251016T180000
DTEND;TZID=America/New_York:20251016T200000
DTSTAMP:20260423T224304
CREATED:20250921T145725Z
LAST-MODIFIED:20250921T151930Z
UID:10002536-1760637600-1760644800@autismsocietymd.org
SUMMARY:Dads' Night Out
DESCRIPTION:Dads’ Night Out Social (In-person)\nAUSOM Dads—This One’s for You!Take a break\, recharge\, and connect with other fathers! Our Dads’ Night Out is a relaxed\, welcoming space to share experiences\, make new connections and enjoy some camaraderie. \nOctober 16\, 2025\n6:00 to 8:00 pm\nReckless Shepherd Brewing \nAsk for Brad when you get there!
URL:https://autismsocietymd.org/event/dads-night-out-26/
LOCATION:Reckless Shepherd\, 8895 McGaw Road\, Suite 1A\, Columbia\, MD
CATEGORIES:Social
ATTACH;FMTTYPE=image/png:https://autismsocietymd.org/wp-content/uploads/2025/09/Dads-Night-Out.png
END:VEVENT
BEGIN:VEVENT
DTSTART;TZID=America/New_York:20240416T180000
DTEND;TZID=America/New_York:20240416T200000
DTSTAMP:20260423T224304
CREATED:20240409T182919Z
LAST-MODIFIED:20240413T172041Z
UID:10002237-1713290400-1713297600@autismsocietymd.org
SUMMARY:Dads' Night Out
DESCRIPTION:Dads’ Night Out Social (In-person)\nJoin other Autism Dads for a night of fun! \n\nApril 16\, 2024\n6:00 to 8:00 pm​​​​​​​\n\n\n\nReckless Shepherd Brewing \nAsk for Brad or the AUSOM Dad’s Group!
URL:https://autismsocietymd.org/event/dads-night-out-20/
LOCATION:Reckless Shepherd\, 8895 McGaw Road\, Suite 1A\, Columbia\, MD
CATEGORIES:Social
ATTACH;FMTTYPE=image/png:https://autismsocietymd.org/wp-content/uploads/2024/04/Dads-Night-Out-1-650x650-1.png
END:VEVENT
BEGIN:VEVENT
DTSTART;TZID=America/New_York:20230223T180000
DTEND;TZID=America/New_York:20230223T200000
DTSTAMP:20260423T224304
CREATED:20221227T223414Z
LAST-MODIFIED:20221227T223414Z
UID:10001521-1677175200-1677182400@autismsocietymd.org
SUMMARY:Dad's Night Out!
DESCRIPTION:Join other Autism dads at the Reckless Shepherd Brew Pub (formerly Friscos)\, 8895 McGaw Road\, Suite 1A in Columbia\, MD (near Wegmans).  Hosted by Ed Lilley).
URL:https://autismsocietymd.org/event/dads-night-out-14/
LOCATION:Reckless Shepherd\, 8895 McGaw Road\, Suite 1A\, Columbia\, MD
CATEGORIES:Social
ATTACH;FMTTYPE=image/png:https://autismsocietymd.org/wp-content/uploads/2022/03/Who-let-the-Dads-out-logo1.png
END:VEVENT
END:VCALENDAR