BEGIN:VCALENDAR
VERSION:2.0
PRODID:-//Autism Society of Maryland - ECPv6.15.17.1//NONSGML v1.0//EN
CALSCALE:GREGORIAN
METHOD:PUBLISH
X-ORIGINAL-URL:https://autismsocietymd.org
X-WR-CALDESC:Events for Autism Society of Maryland
REFRESH-INTERVAL;VALUE=DURATION:PT1H
X-Robots-Tag:noindex
X-PUBLISHED-TTL:PT1H
BEGIN:VTIMEZONE
TZID:America/New_York
BEGIN:DAYLIGHT
TZOFFSETFROM:-0500
TZOFFSETTO:-0400
TZNAME:EDT
DTSTART:20230312T070000
END:DAYLIGHT
BEGIN:STANDARD
TZOFFSETFROM:-0400
TZOFFSETTO:-0500
TZNAME:EST
DTSTART:20231105T060000
END:STANDARD
BEGIN:DAYLIGHT
TZOFFSETFROM:-0500
TZOFFSETTO:-0400
TZNAME:EDT
DTSTART:20240310T070000
END:DAYLIGHT
BEGIN:STANDARD
TZOFFSETFROM:-0400
TZOFFSETTO:-0500
TZNAME:EST
DTSTART:20241103T060000
END:STANDARD
BEGIN:DAYLIGHT
TZOFFSETFROM:-0500
TZOFFSETTO:-0400
TZNAME:EDT
DTSTART:20250309T070000
END:DAYLIGHT
BEGIN:STANDARD
TZOFFSETFROM:-0400
TZOFFSETTO:-0500
TZNAME:EST
DTSTART:20251102T060000
END:STANDARD
END:VTIMEZONE
BEGIN:VEVENT
DTSTART;TZID=America/New_York:20241009T100000
DTEND;TZID=America/New_York:20241009T120000
DTSTAMP:20260423T144325
CREATED:20240923T230056Z
LAST-MODIFIED:20240929T192607Z
UID:10002351-1728468000-1728475200@autismsocietymd.org
SUMMARY:Patuxent Commons Ground Breaking
DESCRIPTION:This event has been postponed from Oct. 1 to October 9th! \nPlease join us for the long-awaited ground breaking celebration of Patuxent Commons! RSVP is requested \nOctober 9\, 2024 \n10:00 AM \n6441 Freetown Road  \nColumbia\, MD 21044 \nPatuxent Commons will be a 76-unit mixed income community for adults with disabilities\, seniors and families located at Freetown and Cedar Lane in Columbia\, MD. \nClick here to register: https://missionfirst.app.neoncrm.com/np/clients/missionfirst/eventRegistration.jsp?event=118& \n 
URL:https://autismsocietymd.org/event/patuxent-commons-ground-breaking/
LOCATION:Patuxent Commons\, 6441 Freetown Road\, Columbia\, MD\, 21044\, United States
ATTACH;FMTTYPE=image/png:https://autismsocietymd.org/wp-content/uploads/2024/09/Untitled-design-12.png
END:VEVENT
END:VCALENDAR