BEGIN:VCALENDAR
VERSION:2.0
PRODID:-//Autism Society of Maryland - ECPv6.15.17.1//NONSGML v1.0//EN
CALSCALE:GREGORIAN
METHOD:PUBLISH
X-ORIGINAL-URL:https://autismsocietymd.org
X-WR-CALDESC:Events for Autism Society of Maryland
REFRESH-INTERVAL;VALUE=DURATION:PT1H
X-Robots-Tag:noindex
X-PUBLISHED-TTL:PT1H
BEGIN:VTIMEZONE
TZID:America/New_York
BEGIN:DAYLIGHT
TZOFFSETFROM:-0500
TZOFFSETTO:-0400
TZNAME:EDT
DTSTART:20220313T070000
END:DAYLIGHT
BEGIN:STANDARD
TZOFFSETFROM:-0400
TZOFFSETTO:-0500
TZNAME:EST
DTSTART:20221106T060000
END:STANDARD
BEGIN:DAYLIGHT
TZOFFSETFROM:-0500
TZOFFSETTO:-0400
TZNAME:EDT
DTSTART:20230312T070000
END:DAYLIGHT
BEGIN:STANDARD
TZOFFSETFROM:-0400
TZOFFSETTO:-0500
TZNAME:EST
DTSTART:20231105T060000
END:STANDARD
BEGIN:DAYLIGHT
TZOFFSETFROM:-0500
TZOFFSETTO:-0400
TZNAME:EDT
DTSTART:20240310T070000
END:DAYLIGHT
BEGIN:STANDARD
TZOFFSETFROM:-0400
TZOFFSETTO:-0500
TZNAME:EST
DTSTART:20241103T060000
END:STANDARD
END:VTIMEZONE
BEGIN:VEVENT
DTSTART;TZID=America/New_York:20231112T100000
DTEND;TZID=America/New_York:20231112T120000
DTSTAMP:20260424T060205
CREATED:20231102T175934Z
LAST-MODIFIED:20231102T175934Z
UID:10002124-1699783200-1699790400@autismsocietymd.org
SUMMARY:Adaptive Hike for All Abilities!
DESCRIPTION:Bruce Clopein of the Friends of Patapsco Valley State Park will host an Adaptive Hike for all ages on Saturday\, November 12 at 10am.  The hike will take place in the Avalon area of Patapsco Valley State Park with a meeting location at 5120 South Street\, Halethorpe\, MD 21227. Look for Pavilion 106\, which is close to the River Road Trail where the hike will begin. \nThe River Road Trail is an accessible\, fairly level and scenic pathway that follows along close to the Patapsco River.  It begins as a paved surface and then becomes a wide\, hard crushed rock pathway.  Out and back\, the hike is about 1.5 miles in length. \nFREE to attend but registration required.  CLICK HERE \nMade possible through a grant from The Hussman Foundation!
URL:https://autismsocietymd.org/event/adaptive-hike-for-all-abilities/
LOCATION:Patapsco Valley State Park
CATEGORIES:Social
ATTACH;FMTTYPE=image/png:https://autismsocietymd.org/wp-content/uploads/2023/11/Adaptive-Hiking-11.2023.png
END:VEVENT
END:VCALENDAR