BEGIN:VCALENDAR
VERSION:2.0
PRODID:-//Autism Society of Maryland - ECPv6.15.17.1//NONSGML v1.0//EN
CALSCALE:GREGORIAN
METHOD:PUBLISH
X-WR-CALNAME:Autism Society of Maryland
X-ORIGINAL-URL:https://autismsocietymd.org
X-WR-CALDESC:Events for Autism Society of Maryland
REFRESH-INTERVAL;VALUE=DURATION:PT1H
X-Robots-Tag:noindex
X-PUBLISHED-TTL:PT1H
BEGIN:VTIMEZONE
TZID:America/New_York
BEGIN:DAYLIGHT
TZOFFSETFROM:-0500
TZOFFSETTO:-0400
TZNAME:EDT
DTSTART:20240310T070000
END:DAYLIGHT
BEGIN:STANDARD
TZOFFSETFROM:-0400
TZOFFSETTO:-0500
TZNAME:EST
DTSTART:20241103T060000
END:STANDARD
BEGIN:DAYLIGHT
TZOFFSETFROM:-0500
TZOFFSETTO:-0400
TZNAME:EDT
DTSTART:20250309T070000
END:DAYLIGHT
BEGIN:STANDARD
TZOFFSETFROM:-0400
TZOFFSETTO:-0500
TZNAME:EST
DTSTART:20251102T060000
END:STANDARD
BEGIN:DAYLIGHT
TZOFFSETFROM:-0500
TZOFFSETTO:-0400
TZNAME:EDT
DTSTART:20260308T070000
END:DAYLIGHT
BEGIN:STANDARD
TZOFFSETFROM:-0400
TZOFFSETTO:-0500
TZNAME:EST
DTSTART:20261101T060000
END:STANDARD
END:VTIMEZONE
BEGIN:VEVENT
DTSTART;TZID=America/New_York:20250222T100000
DTEND;TZID=America/New_York:20250222T130000
DTSTAMP:20260424T032521
CREATED:20250212T052620Z
LAST-MODIFIED:20250212T052620Z
UID:10002446-1740218400-1740229200@autismsocietymd.org
SUMMARY:Inspira y Empodera - Feria de Salud y Bienestar
DESCRIPTION:El sábado 22 de febrero de 10 a 13 horas. Las escuelas secundarias Meade y Brock Ridge organizarán una feria de salud holística para las familias en Meade Feeder. Nos gustaría aprovechar esta oportunidad para invitar a todas las familias locales a conocer los recursos y herramientas de salud mental y emocional disponibles en nuestra comunidad. Nuestros socios de apoyo podrán brindar a las familias recursos e información que respalden la salud física\, social\, emocional y mental.
URL:https://autismsocietymd.org/event/inspira-y-empodera-feria-de-salud-y-bienestar/
LOCATION:Meade Middle School\, 1103 26th Street\, Fort Meade\, MD\, 20755
ATTACH;FMTTYPE=image/jpeg:https://autismsocietymd.org/wp-content/uploads/2025/02/53f1e65a-4c92-4d99-a071-12684bd7c99c-1.jpeg
END:VEVENT
BEGIN:VEVENT
DTSTART;TZID=America/New_York:20250222T100000
DTEND;TZID=America/New_York:20250222T130000
DTSTAMP:20260424T032521
CREATED:20250212T052316Z
LAST-MODIFIED:20250212T052316Z
UID:10002445-1740218400-1740229200@autismsocietymd.org
SUMMARY:Inspire and Empower - Health and Wellness Fair
DESCRIPTION:On Saturday\, February 22nd from 10 a.m. – 1 p.m. Meade Middle School and Brock Ridge Middle School will be hosting a Holistic Health Fair for families in the Meade Feeder. We would like to take this opportunity to invite all local families to learn about the mental and emotional health resources and tools available in our community. Our supporting partners will be able to provide families with resources and information that support physical\, social\, emotional\, and mental health.
URL:https://autismsocietymd.org/event/inspire-and-empower-health-and-wellness-fair/
LOCATION:Meade Middle School\, 1103 26th Street\, Fort Meade\, MD\, 20755
ATTACH;FMTTYPE=image/jpeg:https://autismsocietymd.org/wp-content/uploads/2025/02/127b12a4-6182-44a3-9904-0784c6ecc4ee.jpeg
END:VEVENT
END:VCALENDAR