BEGIN:VCALENDAR
VERSION:2.0
PRODID:-//Autism Society of Maryland - ECPv6.15.17.1//NONSGML v1.0//EN
CALSCALE:GREGORIAN
METHOD:PUBLISH
X-WR-CALNAME:Autism Society of Maryland
X-ORIGINAL-URL:https://autismsocietymd.org
X-WR-CALDESC:Events for Autism Society of Maryland
REFRESH-INTERVAL;VALUE=DURATION:PT1H
X-Robots-Tag:noindex
X-PUBLISHED-TTL:PT1H
BEGIN:VTIMEZONE
TZID:America/New_York
BEGIN:DAYLIGHT
TZOFFSETFROM:-0500
TZOFFSETTO:-0400
TZNAME:EDT
DTSTART:20210314T070000
END:DAYLIGHT
BEGIN:STANDARD
TZOFFSETFROM:-0400
TZOFFSETTO:-0500
TZNAME:EST
DTSTART:20211107T060000
END:STANDARD
BEGIN:DAYLIGHT
TZOFFSETFROM:-0500
TZOFFSETTO:-0400
TZNAME:EDT
DTSTART:20220313T070000
END:DAYLIGHT
BEGIN:STANDARD
TZOFFSETFROM:-0400
TZOFFSETTO:-0500
TZNAME:EST
DTSTART:20221106T060000
END:STANDARD
BEGIN:DAYLIGHT
TZOFFSETFROM:-0500
TZOFFSETTO:-0400
TZNAME:EDT
DTSTART:20230312T070000
END:DAYLIGHT
BEGIN:STANDARD
TZOFFSETFROM:-0400
TZOFFSETTO:-0500
TZNAME:EST
DTSTART:20231105T060000
END:STANDARD
END:VTIMEZONE
BEGIN:VEVENT
DTSTART;TZID=America/New_York:20220521T120000
DTEND;TZID=America/New_York:20220521T170000
DTSTAMP:20260424T035156
CREATED:20220325T175441Z
LAST-MODIFIED:20220325T175441Z
UID:10001148-1653134400-1653152400@autismsocietymd.org
SUMMARY:Bags and Beers 2022 Cornhole Tournament!
DESCRIPTION:The “Bags Will Fly! on May 21st for the Autism Society of Maryland’s (HCAS’) 2nd Annual Cornhole Tournament. Why cornhole? It encourages team spirit\, friendly competition\, and camaraderie …things we all have been missing. Join us! \nBags and Beers Cornhole Tournament \nMay 21\, 2022 from Noon – 5pm (Bags fly at 12:30pm!) \nMary’s Land Farm  .  ​​​​​​​4979 Sheppard Lane  .  Ellicott City\, MD \nClick to REGISTER . SPONSOR . DONATE 
URL:https://autismsocietymd.org/event/bags-and-beers-2022-cornhole-tournament/
LOCATION:Mary’s Land Farm\, 4979 Sheppard Lane\, Ellicott City\, Maryland\, 21042
CATEGORIES:Fundraiser
ATTACH;FMTTYPE=image/png:https://autismsocietymd.org/wp-content/uploads/2022/03/RunSignUp-Icon-HCAS-Bags-Beers-Cornhole-Tournament-2022-2-002.png
END:VEVENT
END:VCALENDAR