BEGIN:VCALENDAR
VERSION:2.0
PRODID:-//Autism Society of Maryland - ECPv6.15.17.1//NONSGML v1.0//EN
CALSCALE:GREGORIAN
METHOD:PUBLISH
X-WR-CALNAME:Autism Society of Maryland
X-ORIGINAL-URL:https://autismsocietymd.org
X-WR-CALDESC:Events for Autism Society of Maryland
REFRESH-INTERVAL;VALUE=DURATION:PT1H
X-Robots-Tag:noindex
X-PUBLISHED-TTL:PT1H
BEGIN:VTIMEZONE
TZID:America/New_York
BEGIN:DAYLIGHT
TZOFFSETFROM:-0500
TZOFFSETTO:-0400
TZNAME:EDT
DTSTART:20230312T070000
END:DAYLIGHT
BEGIN:STANDARD
TZOFFSETFROM:-0400
TZOFFSETTO:-0500
TZNAME:EST
DTSTART:20231105T060000
END:STANDARD
BEGIN:DAYLIGHT
TZOFFSETFROM:-0500
TZOFFSETTO:-0400
TZNAME:EDT
DTSTART:20240310T070000
END:DAYLIGHT
BEGIN:STANDARD
TZOFFSETFROM:-0400
TZOFFSETTO:-0500
TZNAME:EST
DTSTART:20241103T060000
END:STANDARD
BEGIN:DAYLIGHT
TZOFFSETFROM:-0500
TZOFFSETTO:-0400
TZNAME:EDT
DTSTART:20250309T070000
END:DAYLIGHT
BEGIN:STANDARD
TZOFFSETFROM:-0400
TZOFFSETTO:-0500
TZNAME:EST
DTSTART:20251102T060000
END:STANDARD
END:VTIMEZONE
BEGIN:VEVENT
DTSTART;TZID=America/New_York:20241212T170000
DTEND;TZID=America/New_York:20241212T190000
DTSTAMP:20260423T222918
CREATED:20241204T183253Z
LAST-MODIFIED:20241204T185852Z
UID:10002379-1734022800-1734030000@autismsocietymd.org
SUMMARY:DIPLOMA O CERTIFICADO DE ESCUELA SECUNDARIA: ¿CUÁL ES LA DIFERENCIA?
DESCRIPTION:Taller de Educación Especial \nDIPLOMA O CERTIFICADO DE ESCUELA SECUNDARIA: ¿CUÁL ES LA DIFERENCIA? \nÚnase a nosotros para un taller informativo sobre cómo navegar la decisión entre un diploma de escuela secundaria o un certificado de finalización para estudiantes de educación especial. Esta sesión cubrirá las diferencias entre estas opciones\, los requisitos de graduación\, los factores clave a considerar y cómo abordar los desacuerdos con el equipo de Educación Especial. Aprenda cómo tomar la mejor decisión para el futuro de su hijo\, tanto en la escuela como fuera de ella. \nOradora: Beth Ann Hancock\, consultora de educación especial de AUSOM \nSi tiene preguntas\, comuníquese con Catalina Ramos al 443-518-7681\, envíe un mensaje de texto al 443-620-8441 o envíe un correo electrónico a catalina.ramos@autismsocietymd.org. \nSpecial Education Workshop\nHigh School Diploma or Certificate: What’s the Difference? \nJoin us for an informative workshop on navigating the decision between a high school diploma or a certificate of completion for special education students. This session will cover the differences between these options\, graduation requirements\, key factors to consider\, and how to approach disagreements with the Special Education team. Learn how to make the best choice for your child’s future\, both in school and beyond. \nSpeaker: Beth Ann Hancock\, AUSOM Special Education Consultant \nFor questions\, contact Catalina Ramos at 443-518-7681\, text 443-620-8441\, or email catalina.ramos@autismsocietymd.org.
URL:https://autismsocietymd.org/event/17331/
LOCATION:Maryland City at Russett Library\, 3501 Russett Common\, Laurel\, MD\, 20724
CATEGORIES:Education
ATTACH;FMTTYPE=image/png:https://autismsocietymd.org/wp-content/uploads/2024/12/Certificate-v-Diploma-Workshop-SPAN-Instagram-Post.png
END:VEVENT
BEGIN:VEVENT
DTSTART;TZID=America/New_York:20241126T080000
DTEND;TZID=America/New_York:20241126T170000
DTSTAMP:20260423T222918
CREATED:20241126T151930Z
LAST-MODIFIED:20241126T153403Z
UID:10002377-1732608000-1732640400@autismsocietymd.org
SUMMARY:¿Diploma o Certificado de Escuela Secundaria? ¿Cuál es la diferencia?
DESCRIPTION:Taller GRATUITO de Educación Especial \n\nCómo tomar la mejor decisión para el futuro de su hijo\, en la escuela y en la edad adulta. ¿Cuál es la diferencia entre buscar un diploma de escuela secundaria o un certificado de finalización para estudiantes de educación especial? ¿En qué se diferencian los requisitos para graduarse? ¿Qué factores se consideran al tomar la decisión? ¿Quién interviene en la toma de la decisión? ¿Qué puede hacer si usted y el equipo de Educación Especial no están de acuerdo? \n\n\nPresentadora: Beth Ann Hancock\, Consultora de Educación Especial de AUSOM \n\n\n\nFECHA: jueves\, diciembre 12 de 2024 HORA: 5:00pm – 7:00pm LUGAR: Biblioteca en Maryland City en Russett 3501 Russett Common\, Laurel\, MD 20724 \n\n\nSi tiene alguna pregunta\, favor de comunicarse con Catalina Ramos al 443-518-7681 or por texto al 443-620-8441 o a catalina.ramos@autismsocietymd.org. \n\n\nEste programa es hecho posible por una subvención otorgada por los Servicios de Desarrollo Comunitario de Arundel\, Inc. Fondo de Impacto del Hipódromo de Laurel.
URL:https://autismsocietymd.org/event/diploma-o-certificado-de-escuela-secundaria-cual-es-la-diferencia/
LOCATION:Maryland City at Russett Library\, 3501 Russett Common\, Laurel\, MD\, 20724
CATEGORIES:Latino Parent Support
ATTACH;FMTTYPE=image/png:https://autismsocietymd.org/wp-content/uploads/2024/11/Certificate-v-Diploma-FREE-Workshop-SPAN-rev11.26.24.png
END:VEVENT
BEGIN:VEVENT
DTSTART;TZID=America/New_York:20241009T103000
DTEND;TZID=America/New_York:20241009T120000
DTSTAMP:20260423T222918
CREATED:20240923T232430Z
LAST-MODIFIED:20240923T232430Z
UID:10002354-1728469800-1728475200@autismsocietymd.org
SUMMARY:The Perfect Blend - Anne Arundel Family Support Group
DESCRIPTION:AUSOM Anne Arundel Family Support Group\nTHE PERFECT BLEND\nHeld in-person; no pre-registration required.\n\nJoin other Autism parents and caregivers for an informal\, in-person discussion of topics that are of interest to you in a safe and supportive environment. Sessions will be held at public locations in Anne Arundel County.\n  \n\n\nAugust 14\, 2024\n10:30 AM – 12:00 PM\nRusset Library\, 3501 Russet Common\, Laurel\, MD 20724\n  \n\n\nFor more information\, contact:\nCatalina Ramos (en español e inglés) catalina.ramos@autismsocietymd.org\n443-518-7681 or 443-620-8441 (texts\, Google Voice)
URL:https://autismsocietymd.org/event/the-perfect-blend-anne-arundel-family-support-group-3/
LOCATION:Maryland City at Russett Library\, 3501 Russett Common\, Laurel\, MD\, 20724
CATEGORIES:Support AUSOM!
ATTACH;FMTTYPE=image/png:https://autismsocietymd.org/wp-content/uploads/2024/03/AACo_Perfect_Blend_Logo_1.2024-2.png
END:VEVENT
BEGIN:VEVENT
DTSTART;TZID=America/New_York:20240814T103000
DTEND;TZID=America/New_York:20240814T120000
DTSTAMP:20260423T222918
CREATED:20240802T013341Z
LAST-MODIFIED:20240802T013341Z
UID:10002293-1723631400-1723636800@autismsocietymd.org
SUMMARY:The Perfect Blend - Anne Arundel Family Support Group
DESCRIPTION:AUSOM Anne Arundel Family Support Group\nTHE PERFECT BLEND\nHeld in-person; no pre-registration required.\n\nJoin other Autism parents and caregivers for an informal\, in-person discussion of topics that are of interest to you in a safe and supportive environment. Sessions will be held at public locations in Anne Arundel County.\n  \n\n\nAugust 14\, 2024\n10:30 AM – 12:00 PM\nRusset Library\, 3501 Russet Common\, Laurel\, MD 20724\n  \n\n\nFor more information\, contact:\nCatalina Ramos (en español e inglés) catalina.ramos@autismsocietymd.org\n443-518-7681 or 443-620-8441 (texts\, Google Voice)
URL:https://autismsocietymd.org/event/the-perfect-blend-anne-arundel-family-support-group-2/
LOCATION:Maryland City at Russett Library\, 3501 Russett Common\, Laurel\, MD\, 20724
CATEGORIES:Support AUSOM!
ATTACH;FMTTYPE=image/png:https://autismsocietymd.org/wp-content/uploads/2024/03/AACo_Perfect_Blend_Logo_1.2024-2.png
END:VEVENT
BEGIN:VEVENT
DTSTART;TZID=America/New_York:20240403T103000
DTEND;TZID=America/New_York:20240403T120000
DTSTAMP:20260423T222918
CREATED:20240306T205405Z
LAST-MODIFIED:20240306T210514Z
UID:10002213-1712140200-1712145600@autismsocietymd.org
SUMMARY:The Perfect Blend – AUSOM Anne Arundel Family Support Group
DESCRIPTION:AUSOM Anne Arundel Family Support Group\nTHE PERFECT BLEND\n\n\nJoin other Autism parents and caregivers for an informal\, in-person discussion of topics that are of interest to you in a safe and supportive environment. Sessions will be held at public locations in Anne Arundel County.\n  \n\n\nApril 3\, 2024\n10:30 AM – 12:00 PM\nMaryland City at Russett Library\n3501 Russett Common\nLaurel\, MD20724\n  \n\n\nFor more information\, contact:\nCatalina Ramos (en español e inglés) catalina.ramos@autismsocietymd.org\n443-518-7681 or 443-620-8441 (texts\, Google Voice)
URL:https://autismsocietymd.org/event/the-perfect-blend-ausom-anne-arundel-family-support-group-2/
LOCATION:Maryland City at Russett Library\, 3501 Russett Common\, Laurel\, MD\, 20724
ATTACH;FMTTYPE=image/png:https://autismsocietymd.org/wp-content/uploads/2024/03/AACo_Perfect_Blend_Logo_1.2024-2.png
END:VEVENT
END:VCALENDAR