BEGIN:VCALENDAR
VERSION:2.0
PRODID:-//Autism Society of Maryland - ECPv6.15.17.1//NONSGML v1.0//EN
CALSCALE:GREGORIAN
METHOD:PUBLISH
X-ORIGINAL-URL:https://autismsocietymd.org
X-WR-CALDESC:Events for Autism Society of Maryland
REFRESH-INTERVAL;VALUE=DURATION:PT1H
X-Robots-Tag:noindex
X-PUBLISHED-TTL:PT1H
BEGIN:VTIMEZONE
TZID:America/New_York
BEGIN:DAYLIGHT
TZOFFSETFROM:-0500
TZOFFSETTO:-0400
TZNAME:EDT
DTSTART:20190310T070000
END:DAYLIGHT
BEGIN:STANDARD
TZOFFSETFROM:-0400
TZOFFSETTO:-0500
TZNAME:EST
DTSTART:20191103T060000
END:STANDARD
BEGIN:DAYLIGHT
TZOFFSETFROM:-0500
TZOFFSETTO:-0400
TZNAME:EDT
DTSTART:20200308T070000
END:DAYLIGHT
BEGIN:STANDARD
TZOFFSETFROM:-0400
TZOFFSETTO:-0500
TZNAME:EST
DTSTART:20201101T060000
END:STANDARD
BEGIN:DAYLIGHT
TZOFFSETFROM:-0500
TZOFFSETTO:-0400
TZNAME:EDT
DTSTART:20210314T070000
END:DAYLIGHT
BEGIN:STANDARD
TZOFFSETFROM:-0400
TZOFFSETTO:-0500
TZNAME:EST
DTSTART:20211107T060000
END:STANDARD
BEGIN:DAYLIGHT
TZOFFSETFROM:-0500
TZOFFSETTO:-0400
TZNAME:EDT
DTSTART:20220313T070000
END:DAYLIGHT
BEGIN:STANDARD
TZOFFSETFROM:-0400
TZOFFSETTO:-0500
TZNAME:EST
DTSTART:20221106T060000
END:STANDARD
BEGIN:DAYLIGHT
TZOFFSETFROM:-0500
TZOFFSETTO:-0400
TZNAME:EDT
DTSTART:20230312T070000
END:DAYLIGHT
BEGIN:STANDARD
TZOFFSETFROM:-0400
TZOFFSETTO:-0500
TZNAME:EST
DTSTART:20231105T060000
END:STANDARD
END:VTIMEZONE
BEGIN:VEVENT
DTSTART;TZID=America/New_York:20221105T140000
DTEND;TZID=America/New_York:20221105T160000
DTSTAMP:20260424T015056
CREATED:20221002T214100Z
LAST-MODIFIED:20221002T214100Z
UID:10001476-1667656800-1667664000@autismsocietymd.org
SUMMARY:Adult Social Group
DESCRIPTION:Meet-Up at Main Event in Columbia Mall at 2pm.  Join us for arcade games\, laser tag and more!  Jorge Tirigall is the contact for this event\, 443-774-5376 or jorgetirigall14@gmail.com. \nThis group is designed for independent Adults with Autism ages 24+ with activities planned and scheduled by a committee of the group. Currently alternating virtual and in-person event each Saturday.  FREE to join but requires a one-time registration at https://app.donorview.com/emKYX to receive the weekly email and schedule of events.  Questions? Email info@autismsocietymd.org
URL:https://autismsocietymd.org/event/adult-social-group-93/
LOCATION:Main Event\, 10300 Little Patuxent Pkyw. (Columbia Mall)\, Columbia\, Maryland\, 21044\, United States
CATEGORIES:Adult Social Group
ATTACH;FMTTYPE=image/png:https://autismsocietymd.org/wp-content/uploads/2020/12/adult-social-group.png
END:VEVENT
BEGIN:VEVENT
DTSTART;TZID=America/New_York:20200327T183000
DTEND;TZID=America/New_York:20200327T203000
DTSTAMP:20260424T015056
CREATED:20200310T171613Z
LAST-MODIFIED:20200402T164550Z
UID:10000929-1585333800-1585341000@autismsocietymd.org
SUMMARY:Canceled - Women's Social Group
DESCRIPTION:Out of an abundance of caution and after consulting with local officials\, the Autism Society of Maryland (HCAS) has decided to cancel several of its upcoming events and activities.  Please be assured\, we do not make this decision lightly and know the value our events and activities have for the AUSOM community. Below is a list of those events:
URL:https://autismsocietymd.org/event/womens-social-group-2/
LOCATION:Main Event\, 10300 Little Patuxent Pkyw. (Columbia Mall)\, Columbia\, Maryland\, 21044\, United States
CATEGORIES:Social
ATTACH;FMTTYPE=image/jpeg:https://autismsocietymd.org/wp-content/uploads/2020/02/womans-social-group.jpg
END:VEVENT
END:VCALENDAR