BEGIN:VCALENDAR
VERSION:2.0
PRODID:-//Autism Society of Maryland - ECPv6.15.17.1//NONSGML v1.0//EN
CALSCALE:GREGORIAN
METHOD:PUBLISH
X-WR-CALNAME:Autism Society of Maryland
X-ORIGINAL-URL:https://autismsocietymd.org
X-WR-CALDESC:Events for Autism Society of Maryland
REFRESH-INTERVAL;VALUE=DURATION:PT1H
X-Robots-Tag:noindex
X-PUBLISHED-TTL:PT1H
BEGIN:VTIMEZONE
TZID:America/New_York
BEGIN:DAYLIGHT
TZOFFSETFROM:-0500
TZOFFSETTO:-0400
TZNAME:EDT
DTSTART:20230312T070000
END:DAYLIGHT
BEGIN:STANDARD
TZOFFSETFROM:-0400
TZOFFSETTO:-0500
TZNAME:EST
DTSTART:20231105T060000
END:STANDARD
BEGIN:DAYLIGHT
TZOFFSETFROM:-0500
TZOFFSETTO:-0400
TZNAME:EDT
DTSTART:20240310T070000
END:DAYLIGHT
BEGIN:STANDARD
TZOFFSETFROM:-0400
TZOFFSETTO:-0500
TZNAME:EST
DTSTART:20241103T060000
END:STANDARD
BEGIN:DAYLIGHT
TZOFFSETFROM:-0500
TZOFFSETTO:-0400
TZNAME:EDT
DTSTART:20250309T070000
END:DAYLIGHT
BEGIN:STANDARD
TZOFFSETFROM:-0400
TZOFFSETTO:-0500
TZNAME:EST
DTSTART:20251102T060000
END:STANDARD
BEGIN:DAYLIGHT
TZOFFSETFROM:-0500
TZOFFSETTO:-0400
TZNAME:EDT
DTSTART:20260308T070000
END:DAYLIGHT
BEGIN:STANDARD
TZOFFSETFROM:-0400
TZOFFSETTO:-0500
TZNAME:EST
DTSTART:20261101T060000
END:STANDARD
END:VTIMEZONE
BEGIN:VEVENT
DTSTART;TZID=America/New_York:20251115T140000
DTEND;TZID=America/New_York:20251115T150000
DTSTAMP:20260424T014628
CREATED:20251031T215440Z
LAST-MODIFIED:20251113T203848Z
UID:10002591-1763215200-1763218800@autismsocietymd.org
SUMMARY:Drive-thru Santa
DESCRIPTION:DRIVE-THRU VISIT WITH SANTA \nSponsored by Stephanie Maric\, Realtor – The Legal Team of Long & Foster \nSensory-Friendly Event​​​​​​​​​​​​​​ \nNovember 15\, 2025 @ 2:00-3:00PM\n \n10805 Hickory Ridge Road\, Columbia\, MD 21044 \nKick off the holiday season by stopping by to visit with Santa from the comfort of your car! You’ll also have the opportunity to hop out for a photo with jolly ol’ Saint Nick. \nThis event is FREE and open to children of all ages and abilities. No registration needed. Join us rain or shine!
URL:https://autismsocietymd.org/event/drive-thru-santa-4/
LOCATION:Long & Foster Parking Lot\, 10805 Hickory Ridge Road\, Columbia\, MD\, 21044\, United States
CATEGORIES:Social
ATTACH;FMTTYPE=image/webp:https://autismsocietymd.org/wp-content/uploads/2025/10/Drive-ThruSanta-Flyer2025-3.webp
END:VEVENT
BEGIN:VEVENT
DTSTART;TZID=America/New_York:20241116T140000
DTEND;TZID=America/New_York:20241116T150000
DTSTAMP:20260424T014628
CREATED:20241103T183024Z
LAST-MODIFIED:20241103T183024Z
UID:10002372-1731765600-1731769200@autismsocietymd.org
SUMMARY:Drive-thru Santa
DESCRIPTION:DRIVE-THRU VISIT WITH SANTA \nSponsored by Stephanie Maric\, Realtor – The Legal Team of Long & Foster \nNovember 16\, 2024 @ 2:00PM – 3:00PM​​​​​​​ \nLong & Foster Parking Lot \n10805 Hickory Ridge Road\, Columbia\, MD 21044 \nKick off the holiday season by stopping by for a visit with Santa from the comfort of your car! You’ll also have the opportunity to hop out for a photo with jolly ol’ Saint Nick. \nThis event is FREE and open to children of all ages and abilities. No registration is needed. Join us rain or shine!
URL:https://autismsocietymd.org/event/drive-thru-santa-3/
LOCATION:Long & Foster Parking Lot\, 10805 Hickory Ridge Road\, Columbia\, MD\, 21044\, United States
CATEGORIES:Social
ATTACH;FMTTYPE=image/png:https://autismsocietymd.org/wp-content/uploads/2024/11/Drive-ThruSanta-Flyer2023.png
END:VEVENT
END:VCALENDAR