BEGIN:VCALENDAR
VERSION:2.0
PRODID:-//Autism Society of Maryland - ECPv6.15.17.1//NONSGML v1.0//EN
CALSCALE:GREGORIAN
METHOD:PUBLISH
X-WR-CALNAME:Autism Society of Maryland
X-ORIGINAL-URL:https://autismsocietymd.org
X-WR-CALDESC:Events for Autism Society of Maryland
REFRESH-INTERVAL;VALUE=DURATION:PT1H
X-Robots-Tag:noindex
X-PUBLISHED-TTL:PT1H
BEGIN:VTIMEZONE
TZID:America/New_York
BEGIN:DAYLIGHT
TZOFFSETFROM:-0500
TZOFFSETTO:-0400
TZNAME:EDT
DTSTART:20190310T070000
END:DAYLIGHT
BEGIN:STANDARD
TZOFFSETFROM:-0400
TZOFFSETTO:-0500
TZNAME:EST
DTSTART:20191103T060000
END:STANDARD
BEGIN:DAYLIGHT
TZOFFSETFROM:-0500
TZOFFSETTO:-0400
TZNAME:EDT
DTSTART:20200308T070000
END:DAYLIGHT
BEGIN:STANDARD
TZOFFSETFROM:-0400
TZOFFSETTO:-0500
TZNAME:EST
DTSTART:20201101T060000
END:STANDARD
BEGIN:DAYLIGHT
TZOFFSETFROM:-0500
TZOFFSETTO:-0400
TZNAME:EDT
DTSTART:20210314T070000
END:DAYLIGHT
BEGIN:STANDARD
TZOFFSETFROM:-0400
TZOFFSETTO:-0500
TZNAME:EST
DTSTART:20211107T060000
END:STANDARD
END:VTIMEZONE
BEGIN:VEVENT
DTSTART;TZID=America/New_York:20200228T173000
DTEND;TZID=America/New_York:20200228T210000
DTSTAMP:20260424T011819
CREATED:20200115T175644Z
LAST-MODIFIED:20200225T235753Z
UID:10000891-1582911000-1582923600@autismsocietymd.org
SUMMARY:Leap Year BINGO NIGHT!
DESCRIPTION:Join the Autism Society of Maryland for a Leap Year Inspired BINGO Night in partnership with Linwood Center!\nGreat prizes and exciting bonus game round!  All ages and abilities welcome.  No supervision will be available for kiddos\, but the event is family-friendly. \nLast BINGO card will be a 50/50 Raffle Cash Prize of $100! \n$10 per person (This pays for your entry and a 10-game BINGO book) \nAdditional BINGO books (10 games) and Last Game BINGO card may be purchased that evening for $5 each. \n5% processing fee will be charged to all credit cards – (no checks please) \nPlease purchase tickets with the link below – Limited Tickets Available! \nDinner snacks and drinks  will be available for purchase on-site (cash or credit cards accepted):\n(You can also bring your own snacks) \nMore Info
URL:https://autismsocietymd.org/event/leap-year-bingo-night/
LOCATION:Linwood Center\, 3421 Martha Bush Drive\, Ellicott City\, 21042\, United States
CATEGORIES:Social
ATTACH;FMTTYPE=image/png:https://autismsocietymd.org/wp-content/uploads/2020/01/bingo-night.png
END:VEVENT
END:VCALENDAR