BEGIN:VCALENDAR
VERSION:2.0
PRODID:-//Autism Society of Maryland - ECPv6.15.17.1//NONSGML v1.0//EN
CALSCALE:GREGORIAN
METHOD:PUBLISH
X-ORIGINAL-URL:https://autismsocietymd.org
X-WR-CALDESC:Events for Autism Society of Maryland
REFRESH-INTERVAL;VALUE=DURATION:PT1H
X-Robots-Tag:noindex
X-PUBLISHED-TTL:PT1H
BEGIN:VTIMEZONE
TZID:America/New_York
BEGIN:DAYLIGHT
TZOFFSETFROM:-0500
TZOFFSETTO:-0400
TZNAME:EDT
DTSTART:20230312T070000
END:DAYLIGHT
BEGIN:STANDARD
TZOFFSETFROM:-0400
TZOFFSETTO:-0500
TZNAME:EST
DTSTART:20231105T060000
END:STANDARD
BEGIN:DAYLIGHT
TZOFFSETFROM:-0500
TZOFFSETTO:-0400
TZNAME:EDT
DTSTART:20240310T070000
END:DAYLIGHT
BEGIN:STANDARD
TZOFFSETFROM:-0400
TZOFFSETTO:-0500
TZNAME:EST
DTSTART:20241103T060000
END:STANDARD
BEGIN:DAYLIGHT
TZOFFSETFROM:-0500
TZOFFSETTO:-0400
TZNAME:EDT
DTSTART:20250309T070000
END:DAYLIGHT
BEGIN:STANDARD
TZOFFSETFROM:-0400
TZOFFSETTO:-0500
TZNAME:EST
DTSTART:20251102T060000
END:STANDARD
END:VTIMEZONE
BEGIN:VEVENT
DTSTART;TZID=America/New_York:20240609T110000
DTEND;TZID=America/New_York:20240609T130000
DTSTAMP:20260424T085831
CREATED:20240504T152808Z
LAST-MODIFIED:20240504T152853Z
UID:10002253-1717930800-1717938000@autismsocietymd.org
SUMMARY:NEW DATE! Autism in the Park-Anne Arundel!
DESCRIPTION:NEW DATE!  (Rescheduled from May 5\, 2024 due to inclement weather) \nAUTISM IN THE PARK – ANNE ARUNDEL        AUTISMO EN EL PARQUE – ANNE ARUNDEL \nJune 9\, 2024 @ 11:00 AM – 1:00 PM                  9 de Junio de 2024 a las 11:00am – 1:00pm \nPlayground and Blue Jay Pavilion \nLake Waterford Park \n830 Pasadena Rd\, Pasadena MD 21122 \nYou’re invited to celebrate Autism acceptance and inclusion with AUSOM\, community partners\, entertainers\, elected officials and new friends. There’ll be a shuttle bus\, family-friendly activities for all ages\, entertainment and a food truck. Learn about AUSOM programs\, services and events\, and how we can support you on your Autism journey. \nLook for updates and reminders as we approach the new date. We look forward to seeing you at Autism in the Park – Anne Arundel on June 9th! \nEstá invitado a celebrar la aceptación e inclusión del autismo con AUSOM\, socios comunitarios\, artistas\, funcionarios electos y nuevos amigos. Habrá un autobús lanzadera\, actividades familiares para todas las edades\, entretenimiento y un food truck. Conozca los programas\, servicios y eventos de AUSOM\, y cómo podemos ayudarlo en su viaje hacia el autismo. \nBusque actualizaciones y recordatorios a medida que nos acercamos a la nueva fecha. ¡Esperamos verlo en Autism in the Park – Anne Arundel el 9 de junio! \nJessica Deadwyler \nResource Coordinator for Anne Arundel \njessica.deadwyler@autismsocietymd.org \n443-518-7682 \nPara más información: \nCatalina Ramos \ncatalina.ramos@autismsocietymd.org\, 443-518-7681
URL:https://autismsocietymd.org/event/new-date-autism-in-the-park-anne-arundel/
LOCATION:Lake Waterford Park\, 830 Pasadena Road\, Pasadena\, Maryland\, 21122
CATEGORIES:Autism Awarenss
ATTACH;FMTTYPE=image/png:https://autismsocietymd.org/wp-content/uploads/2024/05/AAAutisminthePark-NewDate2024.png
END:VEVENT
END:VCALENDAR