BEGIN:VCALENDAR
VERSION:2.0
PRODID:-//Autism Society of Maryland - ECPv6.15.17.1//NONSGML v1.0//EN
CALSCALE:GREGORIAN
METHOD:PUBLISH
X-ORIGINAL-URL:https://autismsocietymd.org
X-WR-CALDESC:Events for Autism Society of Maryland
REFRESH-INTERVAL;VALUE=DURATION:PT1H
X-Robots-Tag:noindex
X-PUBLISHED-TTL:PT1H
BEGIN:VTIMEZONE
TZID:America/New_York
BEGIN:DAYLIGHT
TZOFFSETFROM:-0500
TZOFFSETTO:-0400
TZNAME:EDT
DTSTART:20220313T070000
END:DAYLIGHT
BEGIN:STANDARD
TZOFFSETFROM:-0400
TZOFFSETTO:-0500
TZNAME:EST
DTSTART:20221106T060000
END:STANDARD
BEGIN:DAYLIGHT
TZOFFSETFROM:-0500
TZOFFSETTO:-0400
TZNAME:EDT
DTSTART:20230312T070000
END:DAYLIGHT
BEGIN:STANDARD
TZOFFSETFROM:-0400
TZOFFSETTO:-0500
TZNAME:EST
DTSTART:20231105T060000
END:STANDARD
BEGIN:DAYLIGHT
TZOFFSETFROM:-0500
TZOFFSETTO:-0400
TZNAME:EDT
DTSTART:20240310T070000
END:DAYLIGHT
BEGIN:STANDARD
TZOFFSETFROM:-0400
TZOFFSETTO:-0500
TZNAME:EST
DTSTART:20241103T060000
END:STANDARD
BEGIN:DAYLIGHT
TZOFFSETFROM:-0500
TZOFFSETTO:-0400
TZNAME:EDT
DTSTART:20250309T070000
END:DAYLIGHT
BEGIN:STANDARD
TZOFFSETFROM:-0400
TZOFFSETTO:-0500
TZNAME:EST
DTSTART:20251102T060000
END:STANDARD
BEGIN:DAYLIGHT
TZOFFSETFROM:-0500
TZOFFSETTO:-0400
TZNAME:EDT
DTSTART:20260308T070000
END:DAYLIGHT
BEGIN:STANDARD
TZOFFSETFROM:-0400
TZOFFSETTO:-0500
TZNAME:EST
DTSTART:20261101T060000
END:STANDARD
END:VTIMEZONE
BEGIN:VEVENT
DTSTART;TZID=America/New_York:20251112T180000
DTEND;TZID=America/New_York:20251112T200000
DTSTAMP:20260423T180033
CREATED:20251015T144832Z
LAST-MODIFIED:20251026T185738Z
UID:10002563-1762970400-1762977600@autismsocietymd.org
SUMMARY:Dads' Night Out
DESCRIPTION:Dads’ Night Out Social (In-person)\nAUSOM Dads—This One’s for You!Take a break\, recharge\, and connect with other fathers! Our Dads’ Night Out is a relaxed\, welcoming space to share experiences\, make new connections and enjoy some camaraderie. \nNovember 12\, 2025\n6:00 to 8:00 pm\nKelsey’s Restaurant \nAsk for Brad when you get there!
URL:https://autismsocietymd.org/event/dads-night-out-27/
LOCATION:Kelsey’s\, 8480 Baltimore National Pike\, Ellicott City\, 21043\, United States
CATEGORIES:Social
ATTACH;FMTTYPE=image/png:https://autismsocietymd.org/wp-content/uploads/2025/09/Dads-Night-Out.png
END:VEVENT
BEGIN:VEVENT
DTSTART;TZID=America/New_York:20231114T180000
DTEND;TZID=America/New_York:20231114T200000
DTSTAMP:20260423T180033
CREATED:20231011T192653Z
LAST-MODIFIED:20231102T180717Z
UID:10001595-1699984800-1699992000@autismsocietymd.org
SUMMARY:Mom's Night Out Social (In Person)
DESCRIPTION:November 14 from 6-8pm – Kelsey’s\, 8480 Baltimore National Pike\, Ellicott City\, MD \nTime to take a break and catch up with other moms for an informal night or afternoon out. \n*This is a one-time registration. CLICK HERE.  Once registered\, you will receive email notifications and reminders for all of our Moms’ Night events! \nRSVPs are encouraged to reserve seating. Please RSVP to the contact listed in the event announcement.
URL:https://autismsocietymd.org/event/moms-night-out-social-in-person-2/
LOCATION:Kelsey’s\, 8480 Baltimore National Pike\, Ellicott City\, 21043\, United States
CATEGORIES:Adult Social Group
ATTACH;FMTTYPE=image/png:https://autismsocietymd.org/wp-content/uploads/2023/10/Moms-Night-Out-logo-10.2023.png
END:VEVENT
END:VCALENDAR