BEGIN:VCALENDAR
VERSION:2.0
PRODID:-//Autism Society of Maryland - ECPv6.15.17.1//NONSGML v1.0//EN
CALSCALE:GREGORIAN
METHOD:PUBLISH
X-ORIGINAL-URL:https://autismsocietymd.org
X-WR-CALDESC:Events for Autism Society of Maryland
REFRESH-INTERVAL;VALUE=DURATION:PT1H
X-Robots-Tag:noindex
X-PUBLISHED-TTL:PT1H
BEGIN:VTIMEZONE
TZID:America/New_York
BEGIN:DAYLIGHT
TZOFFSETFROM:-0500
TZOFFSETTO:-0400
TZNAME:EDT
DTSTART:20220313T070000
END:DAYLIGHT
BEGIN:STANDARD
TZOFFSETFROM:-0400
TZOFFSETTO:-0500
TZNAME:EST
DTSTART:20221106T060000
END:STANDARD
BEGIN:DAYLIGHT
TZOFFSETFROM:-0500
TZOFFSETTO:-0400
TZNAME:EDT
DTSTART:20230312T070000
END:DAYLIGHT
BEGIN:STANDARD
TZOFFSETFROM:-0400
TZOFFSETTO:-0500
TZNAME:EST
DTSTART:20231105T060000
END:STANDARD
BEGIN:DAYLIGHT
TZOFFSETFROM:-0500
TZOFFSETTO:-0400
TZNAME:EDT
DTSTART:20240310T070000
END:DAYLIGHT
BEGIN:STANDARD
TZOFFSETFROM:-0400
TZOFFSETTO:-0500
TZNAME:EST
DTSTART:20241103T060000
END:STANDARD
END:VTIMEZONE
BEGIN:VEVENT
DTSTART;TZID=America/New_York:20230118T180000
DTEND;TZID=America/New_York:20230118T213000
DTSTAMP:20260424T102051
CREATED:20221227T223058Z
LAST-MODIFIED:20221227T223058Z
UID:10001520-1674064800-1674077400@autismsocietymd.org
SUMMARY:Dad's Night Out!
DESCRIPTION:Join other Autism dads for a Beer and Trivia night at the HoCo Brew Hive!  RSVPs encouraged to Roger Thibaudeau at rethibaudeau@verizon.net to ensure we get the right number of teams (start time at 6pm; trivia from 7-9:30pm). The HoCo Brew Hive is located at 4910 Waterloo Road\, Ellicott City\, MD 21043. Hosted by Kevin Powell.
URL:https://autismsocietymd.org/event/dads-night-out-13/
LOCATION:HoCo Brew Hive\, 4910 Waterloo Road\, Ellicott City\, MD\, 21042
CATEGORIES:Social
ATTACH;FMTTYPE=image/png:https://autismsocietymd.org/wp-content/uploads/2022/03/Who-let-the-Dads-out-logo1.png
END:VEVENT
END:VCALENDAR