BEGIN:VCALENDAR
VERSION:2.0
PRODID:-//Autism Society of Maryland - ECPv6.15.17.1//NONSGML v1.0//EN
CALSCALE:GREGORIAN
METHOD:PUBLISH
X-WR-CALNAME:Autism Society of Maryland
X-ORIGINAL-URL:https://autismsocietymd.org
X-WR-CALDESC:Events for Autism Society of Maryland
REFRESH-INTERVAL;VALUE=DURATION:PT1H
X-Robots-Tag:noindex
X-PUBLISHED-TTL:PT1H
BEGIN:VTIMEZONE
TZID:America/New_York
BEGIN:DAYLIGHT
TZOFFSETFROM:-0500
TZOFFSETTO:-0400
TZNAME:EDT
DTSTART:20230312T070000
END:DAYLIGHT
BEGIN:STANDARD
TZOFFSETFROM:-0400
TZOFFSETTO:-0500
TZNAME:EST
DTSTART:20231105T060000
END:STANDARD
BEGIN:DAYLIGHT
TZOFFSETFROM:-0500
TZOFFSETTO:-0400
TZNAME:EDT
DTSTART:20240310T070000
END:DAYLIGHT
BEGIN:STANDARD
TZOFFSETFROM:-0400
TZOFFSETTO:-0500
TZNAME:EST
DTSTART:20241103T060000
END:STANDARD
BEGIN:DAYLIGHT
TZOFFSETFROM:-0500
TZOFFSETTO:-0400
TZNAME:EDT
DTSTART:20250309T070000
END:DAYLIGHT
BEGIN:STANDARD
TZOFFSETFROM:-0400
TZOFFSETTO:-0500
TZNAME:EST
DTSTART:20251102T060000
END:STANDARD
END:VTIMEZONE
BEGIN:VEVENT
DTSTART;TZID=America/New_York:20240306T110000
DTEND;TZID=America/New_York:20240306T123000
DTSTAMP:20260423T180035
CREATED:20240202T035510Z
LAST-MODIFIED:20240202T035510Z
UID:10002198-1709722800-1709728200@autismsocietymd.org
SUMMARY:AUSOM MEET AND GREETS
DESCRIPTION:Drop in to visit with AUSOM Resource Coordinators and other members of the local Autism community. \nMontgomery County Meet and Greet \nWednesday\, March 6\, 2024 11:00am-12:30pm \nGermantown Library\, Medium Room A \n19840 Century Blvd\, Germantown\, MD 20874
URL:https://autismsocietymd.org/event/ausom-meet-and-greets-2/
LOCATION:Germantown Library\, 19840 Century BLVD\, Germantown\, MD\, 20874\, United States
ATTACH;FMTTYPE=image/png:https://autismsocietymd.org/wp-content/uploads/2024/02/2023-Meet-and-Greet-Graphic-Instagram-Post-1.png
END:VEVENT
END:VCALENDAR