BEGIN:VCALENDAR
VERSION:2.0
PRODID:-//Autism Society of Maryland - ECPv6.15.17.1//NONSGML v1.0//EN
CALSCALE:GREGORIAN
METHOD:PUBLISH
X-WR-CALNAME:Autism Society of Maryland
X-ORIGINAL-URL:https://autismsocietymd.org
X-WR-CALDESC:Events for Autism Society of Maryland
REFRESH-INTERVAL;VALUE=DURATION:PT1H
X-Robots-Tag:noindex
X-PUBLISHED-TTL:PT1H
BEGIN:VTIMEZONE
TZID:America/New_York
BEGIN:DAYLIGHT
TZOFFSETFROM:-0500
TZOFFSETTO:-0400
TZNAME:EDT
DTSTART:20220313T070000
END:DAYLIGHT
BEGIN:STANDARD
TZOFFSETFROM:-0400
TZOFFSETTO:-0500
TZNAME:EST
DTSTART:20221106T060000
END:STANDARD
BEGIN:DAYLIGHT
TZOFFSETFROM:-0500
TZOFFSETTO:-0400
TZNAME:EDT
DTSTART:20230312T070000
END:DAYLIGHT
BEGIN:STANDARD
TZOFFSETFROM:-0400
TZOFFSETTO:-0500
TZNAME:EST
DTSTART:20231105T060000
END:STANDARD
BEGIN:DAYLIGHT
TZOFFSETFROM:-0500
TZOFFSETTO:-0400
TZNAME:EDT
DTSTART:20240310T070000
END:DAYLIGHT
BEGIN:STANDARD
TZOFFSETFROM:-0400
TZOFFSETTO:-0500
TZNAME:EST
DTSTART:20241103T060000
END:STANDARD
END:VTIMEZONE
BEGIN:VEVENT
DTSTART;TZID=America/New_York:20231205T180000
DTEND;TZID=America/New_York:20231205T200000
DTSTAMP:20260424T055906
CREATED:20231106T114820Z
LAST-MODIFIED:20231106T114820Z
UID:10002130-1701799200-1701806400@autismsocietymd.org
SUMMARY:Meet & Greet in Montgomery County
DESCRIPTION:Join us for two Meet & Greet events in Montgomery County! Learn about resources\, services\, and activities available through the Autism Society of Maryland. Share your interests and needs with us! Dates\, locations and contact information is below. No need to RSVP.  Please drop by. Children welcome! \nMontgomery County: Kristen Letnick\, Resource Coordinator   \nKristen.Letnick@autismsocietymd.org  \n11/14 from Noon-3:00pm – Autism Society of America\, 6110 Executive Blvd.\, Suite 305\, Rockville\, MD 20852 \n12/5 from 6:00-8:00pm: Gaithersburg Regional Library (Medium Room 2)\, 18330 Montgomery Village Ave.\, Gaithersburg\, MD 20879
URL:https://autismsocietymd.org/event/meet-greet-in-montgomery-county-2/
LOCATION:Gaithersburg Regional Library\, 18330 Montgomery Village Ave.\, (Medium Room 2)\, Gaithersburg\, MD\, 20879
CATEGORIES:Outreach
ATTACH;FMTTYPE=image/png:https://autismsocietymd.org/wp-content/uploads/2023/11/2023-Meet-and-Greet-for-all-counties-Facebook-Post-1.png
END:VEVENT
END:VCALENDAR