BEGIN:VCALENDAR
VERSION:2.0
PRODID:-//Autism Society of Maryland - ECPv6.15.17.1//NONSGML v1.0//EN
CALSCALE:GREGORIAN
METHOD:PUBLISH
X-ORIGINAL-URL:https://autismsocietymd.org
X-WR-CALDESC:Events for Autism Society of Maryland
REFRESH-INTERVAL;VALUE=DURATION:PT1H
X-Robots-Tag:noindex
X-PUBLISHED-TTL:PT1H
BEGIN:VTIMEZONE
TZID:America/New_York
BEGIN:DAYLIGHT
TZOFFSETFROM:-0500
TZOFFSETTO:-0400
TZNAME:EDT
DTSTART:20230312T070000
END:DAYLIGHT
BEGIN:STANDARD
TZOFFSETFROM:-0400
TZOFFSETTO:-0500
TZNAME:EST
DTSTART:20231105T060000
END:STANDARD
BEGIN:DAYLIGHT
TZOFFSETFROM:-0500
TZOFFSETTO:-0400
TZNAME:EDT
DTSTART:20240310T070000
END:DAYLIGHT
BEGIN:STANDARD
TZOFFSETFROM:-0400
TZOFFSETTO:-0500
TZNAME:EST
DTSTART:20241103T060000
END:STANDARD
BEGIN:DAYLIGHT
TZOFFSETFROM:-0500
TZOFFSETTO:-0400
TZNAME:EDT
DTSTART:20250309T070000
END:DAYLIGHT
BEGIN:STANDARD
TZOFFSETFROM:-0400
TZOFFSETTO:-0500
TZNAME:EST
DTSTART:20251102T060000
END:STANDARD
END:VTIMEZONE
BEGIN:VEVENT
DTSTART;TZID=America/New_York:20241209T133000
DTEND;TZID=America/New_York:20241209T150000
DTSTAMP:20260424T183353
CREATED:20241126T030946Z
LAST-MODIFIED:20241127T011615Z
UID:10002375-1733751000-1733756400@autismsocietymd.org
SUMMARY:One Thing I Wish You Knew: Inclusive Communities of Faith Fostering Belonging Together
DESCRIPTION:The Autism Society is proud to join with Chabad of Ellicott City\, Kennedy Krieger Institute\, Maryland Center for Developmental Disabilities\, and the Howard County Office on Aging and Independence in welcoming Justice Richard Bernstein\, the first blind justice elected to Michigan’s Supreme Court and a renowned disability advocate. He will share his personal journey and experience of inclusion. December 9th at 1:30pm at the Howard County Dept. of Community Resources and Services\, 9830 Patuxent Woods Drive\, Columbia\, MD. Please join us!\n\nTo register and or request accommodations:please visit: https://www.chabadellicottcity.com/tools/events/register_cdo/eventid/18503
URL:https://autismsocietymd.org/event/one-thing-i-wish-you-knew-inclusive-communities-of-faith-fostering-belonging-together/
LOCATION:Department of Community Resources and Services\, 9830 Patuxent Woods Drive\, Columbia\, MD\, 21046
CATEGORIES:Autism Awarenss
ATTACH;FMTTYPE=image/png:https://autismsocietymd.org/wp-content/uploads/2024/11/Inclusion-Event-2024.png
END:VEVENT
END:VCALENDAR