BEGIN:VCALENDAR
VERSION:2.0
PRODID:-//Autism Society of Maryland - ECPv6.15.17.1//NONSGML v1.0//EN
CALSCALE:GREGORIAN
METHOD:PUBLISH
X-WR-CALNAME:Autism Society of Maryland
X-ORIGINAL-URL:https://autismsocietymd.org
X-WR-CALDESC:Events for Autism Society of Maryland
REFRESH-INTERVAL;VALUE=DURATION:PT1H
X-Robots-Tag:noindex
X-PUBLISHED-TTL:PT1H
BEGIN:VTIMEZONE
TZID:America/New_York
BEGIN:DAYLIGHT
TZOFFSETFROM:-0500
TZOFFSETTO:-0400
TZNAME:EDT
DTSTART:20220313T070000
END:DAYLIGHT
BEGIN:STANDARD
TZOFFSETFROM:-0400
TZOFFSETTO:-0500
TZNAME:EST
DTSTART:20221106T060000
END:STANDARD
BEGIN:DAYLIGHT
TZOFFSETFROM:-0500
TZOFFSETTO:-0400
TZNAME:EDT
DTSTART:20230312T070000
END:DAYLIGHT
BEGIN:STANDARD
TZOFFSETFROM:-0400
TZOFFSETTO:-0500
TZNAME:EST
DTSTART:20231105T060000
END:STANDARD
BEGIN:DAYLIGHT
TZOFFSETFROM:-0500
TZOFFSETTO:-0400
TZNAME:EDT
DTSTART:20240310T070000
END:DAYLIGHT
BEGIN:STANDARD
TZOFFSETFROM:-0400
TZOFFSETTO:-0500
TZNAME:EST
DTSTART:20241103T060000
END:STANDARD
END:VTIMEZONE
BEGIN:VEVENT
DTSTART;TZID=America/New_York:20231115T140000
DTEND;TZID=America/New_York:20231115T160000
DTSTAMP:20260424T003845
CREATED:20231106T115043Z
LAST-MODIFIED:20231106T115043Z
UID:10002131-1700056800-1700064000@autismsocietymd.org
SUMMARY:Meet & Greet in Anne Arundel County
DESCRIPTION:Join us for two Meet & Greet events in Anne Arundel County! Learn about resources\, services\, and activities available through the Autism Society of Maryland. Share your interests and needs with us! Dates\, locations and contact information is below. No need to RSVP.  Please drop by. Children welcome! \nAnne Arundel County: Jessica Deadwyler\, Resource Coordinator \nJessica.Deadwyler@autismsocietymd.org  \n11/15 from 2-4pm: Crofton Library Branch\, 1681 Riedel Road\, Crofton\, MD 21114 \n11/29 from 6-8pm: Odenton Library Branch\, 1325 Annapolis Road\, Odenton\, MD 21113
URL:https://autismsocietymd.org/event/meet-greet-in-anne-arundel-county/
LOCATION:Crofton Library Branch\, \, 1681 Riedel Road\, Crofton\, MD\, 21114
CATEGORIES:Outreach
ATTACH;FMTTYPE=image/png:https://autismsocietymd.org/wp-content/uploads/2023/11/2023-Meet-and-Greet-for-all-counties-Facebook-Post-1.png
END:VEVENT
END:VCALENDAR