BEGIN:VCALENDAR
VERSION:2.0
PRODID:-//Autism Society of Maryland - ECPv6.15.17.1//NONSGML v1.0//EN
CALSCALE:GREGORIAN
METHOD:PUBLISH
X-WR-CALNAME:Autism Society of Maryland
X-ORIGINAL-URL:https://autismsocietymd.org
X-WR-CALDESC:Events for Autism Society of Maryland
REFRESH-INTERVAL;VALUE=DURATION:PT1H
X-Robots-Tag:noindex
X-PUBLISHED-TTL:PT1H
BEGIN:VTIMEZONE
TZID:America/New_York
BEGIN:DAYLIGHT
TZOFFSETFROM:-0500
TZOFFSETTO:-0400
TZNAME:EDT
DTSTART:20230312T070000
END:DAYLIGHT
BEGIN:STANDARD
TZOFFSETFROM:-0400
TZOFFSETTO:-0500
TZNAME:EST
DTSTART:20231105T060000
END:STANDARD
BEGIN:DAYLIGHT
TZOFFSETFROM:-0500
TZOFFSETTO:-0400
TZNAME:EDT
DTSTART:20240310T070000
END:DAYLIGHT
BEGIN:STANDARD
TZOFFSETFROM:-0400
TZOFFSETTO:-0500
TZNAME:EST
DTSTART:20241103T060000
END:STANDARD
BEGIN:DAYLIGHT
TZOFFSETFROM:-0500
TZOFFSETTO:-0400
TZNAME:EDT
DTSTART:20250309T070000
END:DAYLIGHT
BEGIN:STANDARD
TZOFFSETFROM:-0400
TZOFFSETTO:-0500
TZNAME:EST
DTSTART:20251102T060000
END:STANDARD
END:VTIMEZONE
BEGIN:VEVENT
DTSTART;TZID=America/New_York:20241110T130000
DTEND;TZID=America/New_York:20241110T160000
DTSTAMP:20260424T001754
CREATED:20241103T163545Z
LAST-MODIFIED:20241103T163545Z
UID:10002366-1731243600-1731254400@autismsocietymd.org
SUMMARY:Camino a la Independencia - Feria de Recursos MOCO
DESCRIPTION:Lo invitamos a asistir a esta Feria GRATUITA de Recursos MOCO: Camino hacia la Independencia\, patrocinada por el Grupo de Trabajo de Transición del Condado de Montgomery.\n\nEsta feria de recursos es para jóvenes y adultos con discapacidades. Los asistentes tendrán la oportunidad de reunirse con organizaciones para discutir el empleo\, la educación\, la vivienda\, la recreación social y la independencia financiera.\n\ndomingo\, 10 de noviembre de 2024\n\n13:00 - 16:00\n\nExperiencia de vida universitaria (CLE)\n\n401 N. Calle Washington\n\nRockville\, Maryland\, EE.UU.\n\nHay aparcamiento gratuito disponible y la ubicación también está cerca del metro de Rockville.\n\n\n\n\n\n\n\n\n\n\n\n\n\n\n\n\n\n\n\n\n\n\n\n\n\n\n\n\n\n\n\n\n\n\n\n\n\n\n\n\n\n\n 
URL:https://autismsocietymd.org/event/camino-a-la-independencia-feria-de-recursos-moco/
LOCATION:College Living Experience\, 401 N. Washington Street\, Rockville\, MD\, United States
ATTACH;FMTTYPE=image/png:https://autismsocietymd.org/wp-content/uploads/2024/11/Spanish-1.png
END:VEVENT
BEGIN:VEVENT
DTSTART;TZID=America/New_York:20241110T130000
DTEND;TZID=America/New_York:20241110T160000
DTSTAMP:20260424T001754
CREATED:20241103T163334Z
LAST-MODIFIED:20241103T163334Z
UID:10002365-1731243600-1731254400@autismsocietymd.org
SUMMARY:Road to Independence - MOCO Resource Fair
DESCRIPTION:We invite you attend this FREE MOCO Resource Fair – Road to Independence\, sponsored by the Montgomery County Transition Work Group. \nThis resource fair is for youth and adults with disabilities. Attendees will have the opportunity to meet with organizations to discuss employment\, education\, housing\, social\, recreation and financial independence. \nSunday\, November 10\, 2024 \n1:00 PM – 4:00 PM \nCollege Living Experience (CLE) \n401 N. Washington Street \nRockville\, MD \nFree parking is available and the location is also near the rockville metro. \n 
URL:https://autismsocietymd.org/event/road-to-independence-moco-resource-fair/
LOCATION:College Living Experience\, 401 N. Washington Street\, Rockville\, MD\, United States
ATTACH;FMTTYPE=image/png:https://autismsocietymd.org/wp-content/uploads/2024/11/English-2024-1.png
END:VEVENT
END:VCALENDAR