BEGIN:VCALENDAR
VERSION:2.0
PRODID:-//Autism Society of Maryland - ECPv6.15.17.1//NONSGML v1.0//EN
CALSCALE:GREGORIAN
METHOD:PUBLISH
X-WR-CALNAME:Autism Society of Maryland
X-ORIGINAL-URL:https://autismsocietymd.org
X-WR-CALDESC:Events for Autism Society of Maryland
REFRESH-INTERVAL;VALUE=DURATION:PT1H
X-Robots-Tag:noindex
X-PUBLISHED-TTL:PT1H
BEGIN:VTIMEZONE
TZID:America/New_York
BEGIN:DAYLIGHT
TZOFFSETFROM:-0500
TZOFFSETTO:-0400
TZNAME:EDT
DTSTART:20190310T070000
END:DAYLIGHT
BEGIN:STANDARD
TZOFFSETFROM:-0400
TZOFFSETTO:-0500
TZNAME:EST
DTSTART:20191103T060000
END:STANDARD
BEGIN:DAYLIGHT
TZOFFSETFROM:-0500
TZOFFSETTO:-0400
TZNAME:EDT
DTSTART:20200308T070000
END:DAYLIGHT
BEGIN:STANDARD
TZOFFSETFROM:-0400
TZOFFSETTO:-0500
TZNAME:EST
DTSTART:20201101T060000
END:STANDARD
BEGIN:DAYLIGHT
TZOFFSETFROM:-0500
TZOFFSETTO:-0400
TZNAME:EDT
DTSTART:20210314T070000
END:DAYLIGHT
BEGIN:STANDARD
TZOFFSETFROM:-0400
TZOFFSETTO:-0500
TZNAME:EST
DTSTART:20211107T060000
END:STANDARD
END:VTIMEZONE
BEGIN:VEVENT
DTSTART;TZID=America/New_York:20201003T080000
DTEND;TZID=America/New_York:20201003T120000
DTSTAMP:20260424T132804
CREATED:20200115T210648Z
LAST-MODIFIED:20200730T160347Z
UID:10000915-1601712000-1601726400@autismsocietymd.org
SUMMARY:Every Step Counts Autism Walk & 5K Run
DESCRIPTION:Registration Now Open!  CLICK HERE\nEach year\, the Autism Society of Maryland’s (HCAS’) Every Step Counts Autism Walk & 5K Run  brings together those touched by autism and members of the wider community in a supportive\, energizing\, fun environment. The event has traditionally featured a 5K run and a 4K walk around Centennial Lake in Ellicott City\, MD. This year however\, due to the COVID-19 pandemic\, it will be reimagined as a hybrid event with on-site and virtual event options. Participants may elect to walk or run at Centennial Park on October 3rd OR participate virtually at a time and location of their choosing.  Registration opens July 30\, 2020. \nAUSOM is excited to partner with the Autism Society of Baltimore-Chesapeake (ASBC) to bring the 2020 Every Step Counts Autism Walk & 5K Run to life. The collective goal is to raise $75\,000 toward programs and services for a local autism community that is more than 5\,000 strong! \nNew this year will be a Kick-Off Event on August 30th \, a festive Car Parade & Packet Pick-Up through the AUSOM parking lot\, featuring a DJ\, sponsor giveaways\, costumed characters\, drone photos\, and prizes for the best decorated vehicles…all from the comfort and safety of your car! \nA Facebook LIVE Event will be streamed from Centennial Park on October 3rd putting participants in the center of the action as the event unfolds with live coverage\, a fitness warm up and yoga cool down\, as well as pre-recorded messages from the autism community\, local VIPs\, sponsors and other community supporters. Every Step Counts LIVE! will wrap up the day’s events with an evening awards ceremony and dance party. \nTogether\, We Can Make a Difference! For over 27 years\, the Autism Society of Maryland has served individuals with autism\, their families\, and community by providing information\, support\, and advocacy; promoting awareness of autism that values the dignity and uniqueness of each individual; and working to improve the quality of and access to services and to educational opportunities. Nationally the prevalence of autism is estimated at 1 in 54 births by the Centers for Disease Control (CDC).  The overall rate in Maryland is about 1 in 52–one of the highest in the country-and Howard County has the highest incidence of autism per capita in the state owing to the quality of its educational system\, support services and accepting community. \nNow more than ever\, #Every Step Counts so that we can continue to provide critical services\, raise awareness\, and educate the public about the complexities of autism. \nCLICK TO REGISTER \nQuestions?  Contact the event coordinators at 410-290-3466 or info@autismsocietymd.org. \n#EveryStepCounts \n#AutismStrongMD
URL:https://autismsocietymd.org/event/2020-hcas-one-step-closer-autism-walk-5k-run/
LOCATION:Centennial Park\, 10000 Clarksville Pike\, Ellicott City\, 21042\, United States
CATEGORIES:Walk/5KRun
ATTACH;FMTTYPE=image/jpeg:https://autismsocietymd.org/wp-content/uploads/2020/01/Logo-HCAS-Walk-Run-2020-FINAL-redsquare-allwhite-scaled.jpg
END:VEVENT
END:VCALENDAR