BEGIN:VCALENDAR
VERSION:2.0
PRODID:-//Autism Society of Maryland - ECPv6.15.17.1//NONSGML v1.0//EN
CALSCALE:GREGORIAN
METHOD:PUBLISH
X-WR-CALNAME:Autism Society of Maryland
X-ORIGINAL-URL:https://autismsocietymd.org
X-WR-CALDESC:Events for Autism Society of Maryland
REFRESH-INTERVAL;VALUE=DURATION:PT1H
X-Robots-Tag:noindex
X-PUBLISHED-TTL:PT1H
BEGIN:VTIMEZONE
TZID:America/New_York
BEGIN:DAYLIGHT
TZOFFSETFROM:-0500
TZOFFSETTO:-0400
TZNAME:EDT
DTSTART:20240310T070000
END:DAYLIGHT
BEGIN:STANDARD
TZOFFSETFROM:-0400
TZOFFSETTO:-0500
TZNAME:EST
DTSTART:20241103T060000
END:STANDARD
BEGIN:DAYLIGHT
TZOFFSETFROM:-0500
TZOFFSETTO:-0400
TZNAME:EDT
DTSTART:20250309T070000
END:DAYLIGHT
BEGIN:STANDARD
TZOFFSETFROM:-0400
TZOFFSETTO:-0500
TZNAME:EST
DTSTART:20251102T060000
END:STANDARD
BEGIN:DAYLIGHT
TZOFFSETFROM:-0500
TZOFFSETTO:-0400
TZNAME:EDT
DTSTART:20260308T070000
END:DAYLIGHT
BEGIN:STANDARD
TZOFFSETFROM:-0400
TZOFFSETTO:-0500
TZNAME:EST
DTSTART:20261101T060000
END:STANDARD
END:VTIMEZONE
BEGIN:VEVENT
DTSTART;TZID=America/New_York:20250726T093000
DTEND;TZID=America/New_York:20250726T130000
DTSTAMP:20260423T234541
CREATED:20250710T035047Z
LAST-MODIFIED:20250710T035158Z
UID:10002521-1753522200-1753534800@autismsocietymd.org
SUMMARY:Disability Pride Outside - 35th Anniversary of the ADA
DESCRIPTION:Celebrate Disability Pride Month with Montgomery Parks and AUSOM \nJoin Montgomery Parks\, the Autism Society of Maryland\, and other community partners for a family-friendly celebration of Disability Pride Month and the 35th Anniversary of the Americans with Disabilities Act (ADA). This inclusive event is open to all and will feature a variety of adaptive outdoor activities at Black Hill Regional Park. \nEvent Details: \n\n\nKayaking (ticketed – please register for only one timeslot) \n\n\nPontoon boat tours (ticketed – please register for only one timeslot) \n\n\nFishing (ticketed – please register for only one timeslot) \n\n\nAdaptive mountain biking demonstrations \n\n\nBirding \n\n\nSelf-guided hiking \n\n\nPicnicking \n\n\nBlack Hill Discovery Center \n\n\nTo ensure accessibility\, free kayak equipment and pontoon boat spots are available on a first-come\, first-served basis for individuals with disabilities. Additional boat rentals will be available through Black Hill Boats. \nAccessibility features include: \n\n\nWheelchair-accessible shuttle cart \n\n\nAccessible parking \n\n\nSign language interpretation \n\n\nSensory retreat tents \n\n\nOnsite support staff and volunteers \n\n\nPlease note: The event takes place near a body of water. If someone in your group is prone to wandering or elopement\, close supervision is strongly encouraged. \nRegistration is required: https://www.eventbrite.com/e/disability-pride-outside-tickets-1357357114669?aff=oddtdtcreator \nAdvanced registration is required.For ADA accommodations\, contact programaccess@montgomeryparks.org or call 301-495-2581. \nWe hope to see you there for a meaningful and inclusive celebration!
URL:https://autismsocietymd.org/event/disability-pride-outside-35th-anniversary-of-the-ada/
LOCATION:Black Hill Discovery Center\, 20926 Lake Ridge Drive\, Clarksburg\, MD\, 20841\, United States
CATEGORIES:Outreach
ATTACH;FMTTYPE=image/png:https://autismsocietymd.org/wp-content/uploads/2025/07/Untitled-design.png
END:VEVENT
END:VCALENDAR