BEGIN:VCALENDAR
VERSION:2.0
PRODID:-//Autism Society of Maryland - ECPv6.15.17.1//NONSGML v1.0//EN
CALSCALE:GREGORIAN
METHOD:PUBLISH
X-ORIGINAL-URL:https://autismsocietymd.org
X-WR-CALDESC:Events for Autism Society of Maryland
REFRESH-INTERVAL;VALUE=DURATION:PT1H
X-Robots-Tag:noindex
X-PUBLISHED-TTL:PT1H
BEGIN:VTIMEZONE
TZID:America/New_York
BEGIN:DAYLIGHT
TZOFFSETFROM:-0500
TZOFFSETTO:-0400
TZNAME:EDT
DTSTART:20190310T070000
END:DAYLIGHT
BEGIN:STANDARD
TZOFFSETFROM:-0400
TZOFFSETTO:-0500
TZNAME:EST
DTSTART:20191103T060000
END:STANDARD
BEGIN:DAYLIGHT
TZOFFSETFROM:-0500
TZOFFSETTO:-0400
TZNAME:EDT
DTSTART:20200308T070000
END:DAYLIGHT
BEGIN:STANDARD
TZOFFSETFROM:-0400
TZOFFSETTO:-0500
TZNAME:EST
DTSTART:20201101T060000
END:STANDARD
BEGIN:DAYLIGHT
TZOFFSETFROM:-0500
TZOFFSETTO:-0400
TZNAME:EDT
DTSTART:20210314T070000
END:DAYLIGHT
BEGIN:STANDARD
TZOFFSETFROM:-0400
TZOFFSETTO:-0500
TZNAME:EST
DTSTART:20211107T060000
END:STANDARD
END:VTIMEZONE
BEGIN:VEVENT
DTSTART;TZID=America/New_York:20200805T180000
DTEND;TZID=America/New_York:20200805T193000
DTSTAMP:20260424T080948
CREATED:20200227T201039Z
LAST-MODIFIED:20200728T222157Z
UID:10000817-1596650400-1596655800@autismsocietymd.org
SUMMARY:Latino Family Support Group/Grupo de Apoyo Para Padres
DESCRIPTION:The group will be meeting at Atholton Park\, 6875 Greenleigh Drive\, Columbia\, MD\, for a socially-distanced gathering. \nConducted in Spanish\, this family support group meets most months at HCAS.  For additional information\, contact Marianela Estrada at emailnella22@gmail.com or  973-223-1024. \nLa Sociedad de Autismo del Condado de Howard lo invita a asistir a un grupo para familias de habla hispana que tienen un niño con autismoPara más información y para inscribirse\, contacte a: Marianela Estrada emailnella22@gmail.com; 973-223-1024
URL:https://autismsocietymd.org/event/latino-family-support-group-speaker-heidi-weiss-beedie-from-firn-2-2-2/
LOCATION:Atholton Park\, 6875 Greenleigh Dr.\, Columbia\, MD\, 21046\, United States
CATEGORIES:Family Support,General Support
ATTACH;FMTTYPE=image/png:https://autismsocietymd.org/wp-content/uploads/2020/02/latino-support-group.png
END:VEVENT
END:VCALENDAR