BEGIN:VCALENDAR
VERSION:2.0
PRODID:-//Autism Society of Maryland - ECPv6.15.17.1//NONSGML v1.0//EN
CALSCALE:GREGORIAN
METHOD:PUBLISH
X-ORIGINAL-URL:https://autismsocietymd.org
X-WR-CALDESC:Events for Autism Society of Maryland
REFRESH-INTERVAL;VALUE=DURATION:PT1H
X-Robots-Tag:noindex
X-PUBLISHED-TTL:PT1H
BEGIN:VTIMEZONE
TZID:America/New_York
BEGIN:DAYLIGHT
TZOFFSETFROM:-0500
TZOFFSETTO:-0400
TZNAME:EDT
DTSTART:20230312T070000
END:DAYLIGHT
BEGIN:STANDARD
TZOFFSETFROM:-0400
TZOFFSETTO:-0500
TZNAME:EST
DTSTART:20231105T060000
END:STANDARD
BEGIN:DAYLIGHT
TZOFFSETFROM:-0500
TZOFFSETTO:-0400
TZNAME:EDT
DTSTART:20240310T070000
END:DAYLIGHT
BEGIN:STANDARD
TZOFFSETFROM:-0400
TZOFFSETTO:-0500
TZNAME:EST
DTSTART:20241103T060000
END:STANDARD
BEGIN:DAYLIGHT
TZOFFSETFROM:-0500
TZOFFSETTO:-0400
TZNAME:EDT
DTSTART:20250309T070000
END:DAYLIGHT
BEGIN:STANDARD
TZOFFSETFROM:-0400
TZOFFSETTO:-0500
TZNAME:EST
DTSTART:20251102T060000
END:STANDARD
END:VTIMEZONE
BEGIN:VEVENT
DTSTART;TZID=America/New_York:20240612T103000
DTEND;TZID=America/New_York:20240612T120000
DTSTAMP:20260424T042823
CREATED:20240501T202429Z
LAST-MODIFIED:20240607T151754Z
UID:10002252-1718188200-1718193600@autismsocietymd.org
SUMMARY:The Perfect Blend – AUSOM Anne Arundel Family Support Group
DESCRIPTION:AUSOM Anne Arundel Family Support Group\nTHE PERFECT BLEND\n\n\nJoin other Autism parents and caregivers for an informal\, in-person discussion of topics that are of interest to you in a safe and supportive environment. Sessions will be held at public locations in Anne Arundel County.\n  \n\n\nJune 12\, 2024\n10:30 AM – 12:00 PM\nAnnapolis Public Library\n1325 Annapolis Road\nOdenton\, MD 21113\n  \n\n\nFor more information\, contact:\nCatalina Ramos (en español e inglés) catalina.ramos@autismsocietymd.org\n443-518-7681 or 443-620-8441 (texts\, Google Voice)
URL:https://autismsocietymd.org/event/the-perfect-blend-ausom-anne-arundel-family-support-group-3/
LOCATION:Anne Arundel County Public Library\, 1325 Annapolis Road\, Odenton\, 21113\, United States
CATEGORIES:Family Support
ATTACH;FMTTYPE=image/png:https://autismsocietymd.org/wp-content/uploads/2024/03/AACo_Perfect_Blend_Logo_1.2024-2.png
END:VEVENT
END:VCALENDAR