BEGIN:VCALENDAR
VERSION:2.0
PRODID:-//Autism Society of Maryland - ECPv6.15.17.1//NONSGML v1.0//EN
CALSCALE:GREGORIAN
METHOD:PUBLISH
X-ORIGINAL-URL:https://autismsocietymd.org
X-WR-CALDESC:Events for Autism Society of Maryland
REFRESH-INTERVAL;VALUE=DURATION:PT1H
X-Robots-Tag:noindex
X-PUBLISHED-TTL:PT1H
BEGIN:VTIMEZONE
TZID:America/New_York
BEGIN:DAYLIGHT
TZOFFSETFROM:-0500
TZOFFSETTO:-0400
TZNAME:EDT
DTSTART:20180311T070000
END:DAYLIGHT
BEGIN:STANDARD
TZOFFSETFROM:-0400
TZOFFSETTO:-0500
TZNAME:EST
DTSTART:20181104T060000
END:STANDARD
BEGIN:DAYLIGHT
TZOFFSETFROM:-0500
TZOFFSETTO:-0400
TZNAME:EDT
DTSTART:20190310T070000
END:DAYLIGHT
BEGIN:STANDARD
TZOFFSETFROM:-0400
TZOFFSETTO:-0500
TZNAME:EST
DTSTART:20191103T060000
END:STANDARD
BEGIN:DAYLIGHT
TZOFFSETFROM:-0500
TZOFFSETTO:-0400
TZNAME:EDT
DTSTART:20200308T070000
END:DAYLIGHT
BEGIN:STANDARD
TZOFFSETFROM:-0400
TZOFFSETTO:-0500
TZNAME:EST
DTSTART:20201101T060000
END:STANDARD
END:VTIMEZONE
BEGIN:VEVENT
DTSTART;TZID=America/New_York:20190528T190000
DTEND;TZID=America/New_York:20190528T220000
DTSTAMP:20260424T053112
CREATED:20190515T153316Z
LAST-MODIFIED:20190515T201622Z
UID:10000854-1559070000-1559080800@autismsocietymd.org
SUMMARY:John Wick 3
DESCRIPTION:John Wick 3 – Sensory Friendly Movie\nClick here for tickets
URL:https://autismsocietymd.org/event/john-wick-3/
LOCATION:AMC Columbia 14 Theaters\, 10300 Little Patuxent Pkwy\, Columbia\, MD\, 21044\, United States
CATEGORIES:Sensory Movies
ATTACH;FMTTYPE=image/png:https://autismsocietymd.org/wp-content/uploads/2019/05/default-sensory-movie.png
END:VEVENT
BEGIN:VEVENT
DTSTART;TZID=America/New_York:20190525T100000
DTEND;TZID=America/New_York:20190525T120000
DTSTAMP:20260424T053112
CREATED:20190515T153107Z
LAST-MODIFIED:20190515T201227Z
UID:10000852-1558778400-1558785600@autismsocietymd.org
SUMMARY:Pokemon Detective
DESCRIPTION:Pokemon Detective – Sensory Friendly Movie\nClick here for tickets
URL:https://autismsocietymd.org/event/pokemon-detective/
LOCATION:AMC Columbia 14 Theaters\, 10300 Little Patuxent Pkwy\, Columbia\, MD\, 21044\, United States
CATEGORIES:Sensory Movies
ATTACH;FMTTYPE=image/png:https://autismsocietymd.org/wp-content/uploads/2019/05/default-sensory-movie.png
END:VEVENT
BEGIN:VEVENT
DTSTART;TZID=America/New_York:20190511T100000
DTEND;TZID=America/New_York:20190511T140000
DTSTAMP:20260424T053112
CREATED:20190515T151604Z
LAST-MODIFIED:20190515T202032Z
UID:10000839-1557568800-1557583200@autismsocietymd.org
SUMMARY:Avengers: Endgame Sensory Friendly Movie
DESCRIPTION:Note: this movie is 3 hours long. Be sure to look for the AUSOM Table in the lobby. \nClick here for tickets
URL:https://autismsocietymd.org/event/avengers-endgame-sensory-friendly-movie/
LOCATION:AMC Columbia 14 Theaters\, 10300 Little Patuxent Pkwy\, Columbia\, MD\, 21044\, United States
CATEGORIES:Sensory Movies
ATTACH;FMTTYPE=image/png:https://autismsocietymd.org/wp-content/uploads/2019/05/default-sensory-movie.png
END:VEVENT
BEGIN:VEVENT
DTSTART;TZID=America/New_York:20190126T100000
DTEND;TZID=America/New_York:20190126T130000
DTSTAMP:20260424T053112
CREATED:20190125T180412Z
LAST-MODIFIED:20190125T180412Z
UID:10000831-1548496800-1548507600@autismsocietymd.org
SUMMARY:Sensory Friendly Movie: A Dog's Way Home
DESCRIPTION:Sensory Friendly Movie\nAMC Columbia 14 Theaters\, The Mall In Columbia\, Columbia\, MD
URL:https://autismsocietymd.org/event/sensory-friendly-movie-a-dogs-way-home/
LOCATION:AMC Columbia 14 Theaters\, 10300 Little Patuxent Pkwy\, Columbia\, MD\, 21044\, United States
CATEGORIES:Sensory Movies
END:VEVENT
END:VCALENDAR