BEGIN:VCALENDAR
VERSION:2.0
PRODID:-//Autism Society of Maryland - ECPv6.15.17.1//NONSGML v1.0//EN
CALSCALE:GREGORIAN
METHOD:PUBLISH
X-ORIGINAL-URL:https://autismsocietymd.org
X-WR-CALDESC:Events for Autism Society of Maryland
REFRESH-INTERVAL;VALUE=DURATION:PT1H
X-Robots-Tag:noindex
X-PUBLISHED-TTL:PT1H
BEGIN:VTIMEZONE
TZID:America/New_York
BEGIN:DAYLIGHT
TZOFFSETFROM:-0500
TZOFFSETTO:-0400
TZNAME:EDT
DTSTART:20230312T070000
END:DAYLIGHT
BEGIN:STANDARD
TZOFFSETFROM:-0400
TZOFFSETTO:-0500
TZNAME:EST
DTSTART:20231105T060000
END:STANDARD
BEGIN:DAYLIGHT
TZOFFSETFROM:-0500
TZOFFSETTO:-0400
TZNAME:EDT
DTSTART:20240310T070000
END:DAYLIGHT
BEGIN:STANDARD
TZOFFSETFROM:-0400
TZOFFSETTO:-0500
TZNAME:EST
DTSTART:20241103T060000
END:STANDARD
BEGIN:DAYLIGHT
TZOFFSETFROM:-0500
TZOFFSETTO:-0400
TZNAME:EDT
DTSTART:20250309T070000
END:DAYLIGHT
BEGIN:STANDARD
TZOFFSETFROM:-0400
TZOFFSETTO:-0500
TZNAME:EST
DTSTART:20251102T060000
END:STANDARD
END:VTIMEZONE
BEGIN:VEVENT
DTSTART;TZID=America/New_York:20241208T140000
DTEND;TZID=America/New_York:20241208T170000
DTSTAMP:20260423T223751
CREATED:20241126T141530Z
LAST-MODIFIED:20241126T141953Z
UID:10002376-1733666400-1733677200@autismsocietymd.org
SUMMARY:Feria de Recursos
DESCRIPTION:🌟 ¡Atención familias! 🌟\n¡No se pierdan nuestra Feria de Recursos el domingo\, 8 de diciembre\, de 2 a 5 pm! 🎉 Este evento será 100% en español\, con más de 25 mesas de recursos y talleres sobre temas como inmigración\, seguro social y toma de decisiones con apoyo. Contaremos con personal y voluntarios bilingües para ayudarles\, incluyendo representantes de Maryland ABLE\, DORS\, SSA y Disability Rights MD. 💼👥 ¡Una gran oportunidad para conectar con apoyo y recursos para personas con discapacidades! ¡Nos vemos allí! 👋 11400 Marcliff Rd\, Rockville\, MD 20852 \nAUSOM is honored to be part of the Equity Coalition of Maryland and to support this event!
URL:https://autismsocietymd.org/event/feria-de-recursos/
LOCATION:11400 Marcliff Road\, Rockville\, MD 20852\, 11400 Marcliff Road\, Rockville\, MD\, 20852
CATEGORIES:Latino Parent Support
ATTACH;FMTTYPE=image/png:https://autismsocietymd.org/wp-content/uploads/2024/11/image.png
END:VEVENT
END:VCALENDAR