BEGIN:VCALENDAR
VERSION:2.0
PRODID:-//Autism Society of Maryland - ECPv6.15.17.1//NONSGML v1.0//EN
CALSCALE:GREGORIAN
METHOD:PUBLISH
X-ORIGINAL-URL:https://autismsocietymd.org
X-WR-CALDESC:Events for Autism Society of Maryland
REFRESH-INTERVAL;VALUE=DURATION:PT1H
X-Robots-Tag:noindex
X-PUBLISHED-TTL:PT1H
BEGIN:VTIMEZONE
TZID:America/New_York
BEGIN:DAYLIGHT
TZOFFSETFROM:-0500
TZOFFSETTO:-0400
TZNAME:EDT
DTSTART:20240310T070000
END:DAYLIGHT
BEGIN:STANDARD
TZOFFSETFROM:-0400
TZOFFSETTO:-0500
TZNAME:EST
DTSTART:20241103T060000
END:STANDARD
BEGIN:DAYLIGHT
TZOFFSETFROM:-0500
TZOFFSETTO:-0400
TZNAME:EDT
DTSTART:20250309T070000
END:DAYLIGHT
BEGIN:STANDARD
TZOFFSETFROM:-0400
TZOFFSETTO:-0500
TZNAME:EST
DTSTART:20251102T060000
END:STANDARD
BEGIN:DAYLIGHT
TZOFFSETFROM:-0500
TZOFFSETTO:-0400
TZNAME:EDT
DTSTART:20260308T070000
END:DAYLIGHT
BEGIN:STANDARD
TZOFFSETFROM:-0400
TZOFFSETTO:-0500
TZNAME:EST
DTSTART:20261101T060000
END:STANDARD
BEGIN:DAYLIGHT
TZOFFSETFROM:-0500
TZOFFSETTO:-0400
TZNAME:EDT
DTSTART:20270314T070000
END:DAYLIGHT
BEGIN:STANDARD
TZOFFSETFROM:-0400
TZOFFSETTO:-0500
TZNAME:EST
DTSTART:20271107T060000
END:STANDARD
END:VTIMEZONE
BEGIN:VEVENT
DTSTART;TZID=America/New_York:20251203T170000
DTEND;TZID=America/New_York:20251203T220000
DTSTAMP:20260424T002129
CREATED:20251116T155343Z
LAST-MODIFIED:20251124T173054Z
UID:10002593-1764781200-1764799200@autismsocietymd.org
SUMMARY:AUSOM BINGO FUNDRAISER
DESCRIPTION:AUSOM Weekly Bingo Fundraiser – December 3\nBe part of our second bingo night as we continue this fun\, community-centered fundraiser supporting local autistic individuals and their families.Time: 5:00–10:00 PM \n\n5:00 PM – Doors Open\n6:30 PM – Early Bird\n7:00 PM – Regular Game\n\nLocation: Ridgley’s Run Community Center\, 8400 Mission Road\, Jessup\, MDCost: Bingo cards start at $17 for 12 cards; pull tabs start at $1 \nAGE: All participants must be 18 years or older \nCOST: \n\nBingo cards:  Start at $17 for 12 cards\nPull Tabs: $1.00\n\nFOOD & DRINKS:  \nPizza\, chips\, beverages\, and pulled chicken sandwiches\, will be available for purchase. \nWhether you’re a seasoned bingo player or a first-timer\, everyone is welcome! All proceeds directly support our programs\, helping us continue\nBring your friends\, family\, and your best bingo luck—together\, we can make a meaningful impact while having a great time.\nWe can’t wait to see you there!
URL:https://autismsocietymd.org/event/ausom-bingo-fundraiser-2/
LOCATION:Ridgley’s Run Community Center\, 8400 Mission Road\, Jessup\, 20701\, United States
CATEGORIES:Fundraiser,Support AUSOM!
ATTACH;FMTTYPE=image/webp:https://autismsocietymd.org/wp-content/uploads/2025/11/2.webp
END:VEVENT
BEGIN:VEVENT
DTSTART;TZID=America/New_York:20251210T170000
DTEND;TZID=America/New_York:20251210T220000
DTSTAMP:20260424T002129
CREATED:20251116T160024Z
LAST-MODIFIED:20251205T032431Z
UID:10002594-1765386000-1765404000@autismsocietymd.org
SUMMARY:AUSOM BINGO FUNDRAISER
DESCRIPTION:AUSOM Weekly Bingo Fundraiser – December 10\nJoin us for another evening of relaxed\, friendly bingo—open to seasoned players and first-timers alike. All proceeds directly support the Autism Society of Maryland.Time: 5:00–10:00 PM \n\n5:00 PM – Doors Open\n6:30 PM – Early Bird\n7:00 PM – Regular Game\n\nLocation: Ridgley’s Run Community Center\, 8400 Mission Road\, Jessup\, MD \nAGE: All participants must be 18 years or older \nCOST: \n\nBingo cards:  Start at $17 for 12 cards\nPull Tabs: $1.00\n\nFOOD & DRINKS:  \nPizza\, chips\, beverages\, and pulled chicken sandwiches\, will be available for purchase. \nWhether you’re a seasoned bingo player or a first-timer\, everyone is welcome! All proceeds directly support our programs\, helping us continue\nBring your friends\, family\, and your best bingo luck—together\, we can make a meaningful impact while having a great time.\nWe can’t wait to see you there!
URL:https://autismsocietymd.org/event/ausom-bingo-fundraiser-3/
LOCATION:Ridgley’s Run Community Center\, 8400 Mission Road\, Jessup\, 20701\, United States
CATEGORIES:Fundraiser,Support AUSOM!
ATTACH;FMTTYPE=image/webp:https://autismsocietymd.org/wp-content/uploads/2025/11/Bingo-event-1080-x-1080-px-5-1.webp
END:VEVENT
BEGIN:VEVENT
DTSTART;TZID=America/New_York:20251221T120000
DTEND;TZID=America/New_York:20251221T150000
DTSTAMP:20260424T002129
CREATED:20251116T161903Z
LAST-MODIFIED:20251218T203153Z
UID:10002596-1766318400-1766329200@autismsocietymd.org
SUMMARY:AUSOM BINGO FUNDRAISER - SPECIAL DAY
DESCRIPTION:AUSOM Weekly Bingo Fundraiser – Special Sunday Bingo on December 21\nEnjoy a special extended Sunday bingo event filled with games\, prizes\, and community fun.Time: \n\n12:00 PM – Doors Open\n1:30 PM – Games Begin\n\nLocation: Ridgley’s Run Community Center\, 8400 Mission Road\, Jessup\, MD \nAGE: All participants must be 18 years or older \nCOST: \n\nBingo cards:  Start at $17 for 12 cards\nPull Tabs: $1.00\n\nFOOD & DRINKS:  \nPizza\, chips\, beverages\, and pulled chicken sandwiches\, will be available for purchase. \nWhether you’re a seasoned bingo player or a first-timer\, everyone is welcome! All proceeds directly support our programs\, helping us continue\nBring your friends\, family\, and your best bingo luck—together\, we can make a meaningful impact while having a great time.\nWe can’t wait to see you there!
URL:https://autismsocietymd.org/event/ausom-bingo-fundraiser-special-day/
LOCATION:Ridgley’s Run Community Center\, 8400 Mission Road\, Jessup\, 20701\, United States
CATEGORIES:Fundraiser,Support AUSOM!
ATTACH;FMTTYPE=image/png:https://autismsocietymd.org/wp-content/uploads/2025/11/Bingo-event-1080-x-1080-px-4.png
END:VEVENT
BEGIN:VEVENT
DTSTART;TZID=America/New_York:20260108T170000
DTEND;TZID=America/New_York:20260108T220000
DTSTAMP:20260424T002129
CREATED:20251116T160714Z
LAST-MODIFIED:20260102T154011Z
UID:10002595-1767891600-1767909600@autismsocietymd.org
SUMMARY:AUSOM BINGO FUNDRAISER
DESCRIPTION:AUSOM Weekly Bingo Fundraiser – January 8\nStart the new year with a warm\, welcoming bingo night that brings our community together and supports AUSOM’s mission.Time: 5:00–10:00 PM \n\n5:00 PM – Doors Open\n6:30 PM – Early Bird\n7:00 PM – Regular Game\n\nLocation: Ridgley’s Run Community Center\, 8400 Mission Road\, Jessup\, MD \nAGE: All participants must be 18 years or older \nCOST: \n\nBingo cards:  Start at $17 for 12 cards\nPull Tabs: $1.00\n\nFOOD & DRINKS:  \nPizza\, chips\, beverages\, and pulled chicken sandwiches\, will be available for purchase. \nWhether you’re a seasoned bingo player or a first-timer\, everyone is welcome! All proceeds directly support our programs\, helping us continue\nBring your friends\, family\, and your best bingo luck—together\, we can make a meaningful impact while having a great time.\nWe can’t wait to see you there!
URL:https://autismsocietymd.org/event/ausom-bingo-fundraiser-4/
LOCATION:Ridgley’s Run Community Center\, 8400 Mission Road\, Jessup\, 20701\, United States
CATEGORIES:Fundraiser,Support AUSOM!
ATTACH;FMTTYPE=image/png:https://autismsocietymd.org/wp-content/uploads/2025/11/Bingo-event-1080-x-1080-px-2-1.png
END:VEVENT
BEGIN:VEVENT
DTSTART;TZID=America/New_York:20260115T170000
DTEND;TZID=America/New_York:20260115T220000
DTSTAMP:20260424T002129
CREATED:20260102T154052Z
LAST-MODIFIED:20260102T154529Z
UID:10002608-1768496400-1768514400@autismsocietymd.org
SUMMARY:AUSOM BINGO FUNDRAISER
DESCRIPTION:AUSOM Weekly Bingo Fundraiser – January 15\nStart the new year with a warm\, welcoming bingo night that brings our community together and supports AUSOM’s mission.Time: 5:00–10:00 PM \n\n5:00 PM – Doors Open\n6:30 PM – Early Bird\n7:00 PM – Regular Game\n\nLocation: Ridgley’s Run Community Center\, 8400 Mission Road\, Jessup\, MD \nAGE: All participants must be 18 years or older \nCOST: \n\nBingo cards:  Start at $17 for 12 cards\nPull Tabs: $1.00\n\nFOOD & DRINKS:  \nPizza\, chips\, beverages\, and pulled chicken sandwiches\, will be available for purchase. \nWhether you’re a seasoned bingo player or a first-timer\, everyone is welcome! All proceeds directly support our programs\, helping us continue\nBring your friends\, family\, and your best bingo luck—together\, we can make a meaningful impact while having a great time.\nWe can’t wait to see you there!
URL:https://autismsocietymd.org/event/ausom-bingo-fundraiser-5/
LOCATION:Ridgley’s Run Community Center\, 8400 Mission Road\, Jessup\, 20701\, United States
CATEGORIES:Fundraiser,Support AUSOM!
ATTACH;FMTTYPE=image/png:https://autismsocietymd.org/wp-content/uploads/2026/01/Bingo-event-1080-x-1080-px-3-1.png
END:VEVENT
BEGIN:VEVENT
DTSTART;TZID=America/New_York:20260122T170000
DTEND;TZID=America/New_York:20260122T220000
DTSTAMP:20260424T002129
CREATED:20260102T154402Z
LAST-MODIFIED:20260117T163620Z
UID:10002609-1769101200-1769119200@autismsocietymd.org
SUMMARY:AUSOM BINGO FUNDRAISER
DESCRIPTION:AUSOM Weekly Bingo Fundraiser – January 22\nStart the new year with a warm\, welcoming bingo night that brings our community together and supports AUSOM’s mission.Time: 5:00–10:00 PM \n\n5:00 PM – Doors Open\n6:30 PM – Early Bird\n7:00 PM – Regular Game\n\nLocation: Ridgley’s Run Community Center\, 8400 Mission Road\, Jessup\, MD \nAGE: All participants must be 18 years or older \nCOST: \n\nBingo cards:  Start at $17 for 12 cards\nPull Tabs: $1.00\n\nVisit our Facebook Event Page for more details – AUSOM WEEKLY BINGO! \nFOOD & DRINKS:  \n\nSnacks:  Chips\, Cookies\, Candy\nWater and Soda\n\nwill be available for purchase. \nWhether you’re a seasoned bingo player or a first-timer\, everyone is welcome! All proceeds directly support our programs\, helping us continue\nBring your friends\, family\, and your best bingo luck—together\, we can make a meaningful impact while having a great time.\nWe can’t wait to see you there!
URL:https://autismsocietymd.org/event/ausom-bingo-fundraiser-6/
LOCATION:Ridgley’s Run Community Center\, 8400 Mission Road\, Jessup\, 20701\, United States
CATEGORIES:Fundraiser,Support AUSOM!
ATTACH;FMTTYPE=image/png:https://autismsocietymd.org/wp-content/uploads/2026/01/Bingo-event-1080-x-1080-px-6.png
END:VEVENT
BEGIN:VEVENT
DTSTART;TZID=America/New_York:20260205T170000
DTEND;TZID=America/New_York:20260205T220000
DTSTAMP:20260424T002129
CREATED:20260102T154826Z
LAST-MODIFIED:20260201T011249Z
UID:10002610-1770310800-1770328800@autismsocietymd.org
SUMMARY:AUSOM BINGO FUNDRAISER
DESCRIPTION:AUSOM Weekly Bingo Fundraiser – February 5\nStart the new year with a warm\, welcoming bingo night that brings our community together and supports AUSOM’s mission.Time: 5:00–10:00 PM \n\n5:00 PM – Doors Open\n6:30 PM – Early Bird\n7:00 PM – Regular Game\n\nLocation: Ridgley’s Run Community Center\, 8400 Mission Road\, Jessup\, MD \nAGE: All participants must be 18 years or older \nCOST: \n\nBingo cards:  Start at $17 for 12 cards\nPull Tabs: $1.00\n\nVisit our Facebook Event Page for more details – AUSOM WEEKLY BINGO! \nFOOD & DRINKS:  \nSnacks:  Chips\, Cookies\, Candy\, Water and Soda will be available for purchase. \nWhether you’re a seasoned bingo player or a first-timer\, everyone is welcome! All proceeds directly support our programs\, helping us continue\nBring your friends\, family\, and your best bingo luck—together\, we can make a meaningful impact while having a great time.\nWe can’t wait to see you there!
URL:https://autismsocietymd.org/event/ausom-bingo-fundraiser-7/
LOCATION:Ridgley’s Run Community Center\, 8400 Mission Road\, Jessup\, 20701\, United States
CATEGORIES:Fundraiser,Support AUSOM!
ATTACH;FMTTYPE=image/png:https://autismsocietymd.org/wp-content/uploads/2026/01/Bingo-event_Instagram-Post.png
END:VEVENT
BEGIN:VEVENT
DTSTART;TZID=America/New_York:20260215T120000
DTEND;TZID=America/New_York:20260215T170000
DTSTAMP:20260424T002129
CREATED:20260201T011819Z
LAST-MODIFIED:20260208T193938Z
UID:10002689-1771156800-1771174800@autismsocietymd.org
SUMMARY:AUSOM BINGO FUNDRAISER - SPECIAL DAY
DESCRIPTION:AUSOM Weekly Bingo Fundraiser – Special Sunday Bingo on February 15\nEnjoy a special extended Sunday bingo event filled with games\, prizes\, and community fun.Time: \n\n12:00 PM – Doors Open\n1:30 PM – Games Begin\n\nLocation: Ridgley’s Run Community Center\, 8400 Mission Road\, Jessup\, MD \nAGE: All participants must be 18 years or older \nCOST: \n\nBingo cards:  Start at $17 for 12 cards\nPull Tabs: $1.00\n\nFOOD & DRINKS:  \nPizza\, chips\, beverages\, and pulled chicken sandwiches\, will be available for purchase. \nWhether you’re a seasoned bingo player or a first-timer\, everyone is welcome! All proceeds directly support our programs\, helping us continue\nBring your friends\, family\, and your best bingo luck—together\, we can make a meaningful impact while having a great time.\nWe can’t wait to see you there!
URL:https://autismsocietymd.org/event/ausom-bingo-fundraiser-special-day-2/
LOCATION:Ridgley’s Run Community Center\, 8400 Mission Road\, Jessup\, 20701\, United States
CATEGORIES:Fundraiser,Support AUSOM!
ATTACH;FMTTYPE=image/png:https://autismsocietymd.org/wp-content/uploads/2026/01/Bingo-event-1080-x-1080-px-2-1.png
END:VEVENT
END:VCALENDAR