BEGIN:VCALENDAR
VERSION:2.0
PRODID:-//Autism Society of Maryland - ECPv6.15.17.1//NONSGML v1.0//EN
CALSCALE:GREGORIAN
METHOD:PUBLISH
X-ORIGINAL-URL:https://autismsocietymd.org
X-WR-CALDESC:Events for Autism Society of Maryland
REFRESH-INTERVAL;VALUE=DURATION:PT1H
X-Robots-Tag:noindex
X-PUBLISHED-TTL:PT1H
BEGIN:VTIMEZONE
TZID:America/New_York
BEGIN:DAYLIGHT
TZOFFSETFROM:-0500
TZOFFSETTO:-0400
TZNAME:EDT
DTSTART:20240310T070000
END:DAYLIGHT
BEGIN:STANDARD
TZOFFSETFROM:-0400
TZOFFSETTO:-0500
TZNAME:EST
DTSTART:20241103T060000
END:STANDARD
BEGIN:DAYLIGHT
TZOFFSETFROM:-0500
TZOFFSETTO:-0400
TZNAME:EDT
DTSTART:20250309T070000
END:DAYLIGHT
BEGIN:STANDARD
TZOFFSETFROM:-0400
TZOFFSETTO:-0500
TZNAME:EST
DTSTART:20251102T060000
END:STANDARD
BEGIN:DAYLIGHT
TZOFFSETFROM:-0500
TZOFFSETTO:-0400
TZNAME:EDT
DTSTART:20260308T070000
END:DAYLIGHT
BEGIN:STANDARD
TZOFFSETFROM:-0400
TZOFFSETTO:-0500
TZNAME:EST
DTSTART:20261101T060000
END:STANDARD
BEGIN:DAYLIGHT
TZOFFSETFROM:-0500
TZOFFSETTO:-0400
TZNAME:EDT
DTSTART:20270314T070000
END:DAYLIGHT
BEGIN:STANDARD
TZOFFSETFROM:-0400
TZOFFSETTO:-0500
TZNAME:EST
DTSTART:20271107T060000
END:STANDARD
END:VTIMEZONE
BEGIN:VEVENT
DTSTART;TZID=America/New_York:20250816T100000
DTEND;TZID=America/New_York:20250816T130000
DTSTAMP:20260424T225851
CREATED:20250807T161001Z
LAST-MODIFIED:20250807T161001Z
UID:10002522-1755338400-1755349200@autismsocietymd.org
SUMMARY:AUSOM Moco Pool Party
DESCRIPTION:August 16\, 2025 @ 10:00 PM – 1:00 PM \nSwim 10:00-11:45am; Pizza lunch 12:00-1:00pm \nRockville Swim & Fitness Center \n355 Martins Lane\, Rockville\, MD \n​​​​​​​Join us for a fun morning of swimming outdoors from 10:00-11:45am at the newly renovated Rockville Swim & Fitness Center! After the swim\, enjoy pizza  and drinks in nearby Welsh Park from 12:00-1:00pm. \nPay-What-You-Can – Suggested Donation $5/person \nRegistration is required\, and space is limited to immediate household members. An AUSOM waiver must be signed at registration. \nQuestions? Contact us at 410-290-3466 or info@autismsocietymd.org. \nPresented in partnership by the Autism Society of Maryland and  the Autism Ambassadors with generous support from SECU. ​
URL:https://autismsocietymd.org/event/ausom-moco-pool-party/
LOCATION:Rockville Swim and Fitness Center\, 355 Martins Lane\, Rockville\, MD\, Rockville\, MD\, 20850\, United States
CATEGORIES:Pool Party,Social
ATTACH;FMTTYPE=image/png:https://autismsocietymd.org/wp-content/uploads/2025/08/2-4.png
END:VEVENT
BEGIN:VEVENT
DTSTART;TZID=America/New_York:20250816T100000
DTEND;TZID=America/New_York:20250816T130000
DTSTAMP:20260424T225851
CREATED:20250807T161424Z
LAST-MODIFIED:20250807T182404Z
UID:10002523-1755338400-1755349200@autismsocietymd.org
SUMMARY:Una Fiesta en la Piscina
DESCRIPTION:16 DE AGOSTO DE 2025 . 10am-1pm \nRockville Swim & Fitness Center \nEN ASOCIACIÓN CON LOS EMBAJADORES DEL AUTISMO \n​​​​​​​Invitamos a personas y familias de todas las edades y capacidades a unirse a nosotros para una fiesta de natación y pizza en el recientemente renovado Rockville Swim & Fitness Center en Rockville\, MD. Se servirán pizza (3 porciones por persona) y bebidas inmediatamente después del evento en Welsh Park\, ubicado junto a la piscina. Por favor\, indique si desea pizza sin gluten. \n\nEste es un evento de pago libre. La donación sugerida es de $5 por persona. \nEs necesario registrarse para asistir. El cupo es limitado. Le pedimos que registre solo a los miembros de su hogar inmediato que planeen asistir. NOTA: La exención de responsabilidad de AUSOM debe firmarse al momento de registrarse. \nSi se excede el aforo del evento\, comuníquese con la oficina de AUSOM para inscribirse en la lista de espera. Si necesita cancelar su inscripción\, comuníquese con AUSOM para que otras personas en lista de espera puedan unirse. Comuníquese con AUSOM: 410-290-3466 o info@autismsocietymd.org \n**En caso de mal tiempo lo suficientemente grave como para cancelar el evento\, se le notificará por correo electrónico y mensaje de texto. Active la opción de recibir mensajes de texto al registrarse para obtener la información más actualizada. \nTraiga su correo electrónico de confirmación en su teléfono o imprímalo para ingresar al evento. \n\n\nPor favor traiga este correo electrónico de confirmación en su teléfono o impreso para entrar al evento.\n¿Preguntas? Comuníquese al 443-518-7681 o catalina.ramos@autismsocietymd.org
URL:https://autismsocietymd.org/event/ausom-moco-pool-party-2/
LOCATION:Rockville Swim and Fitness Center\, 355 Martins Lane\, Rockville\, MD\, Rockville\, MD\, 20850\, United States
CATEGORIES:Pool Party,Social
ATTACH;FMTTYPE=image/png:https://autismsocietymd.org/wp-content/uploads/2025/08/1-3.png
END:VEVENT
BEGIN:VEVENT
DTSTART;TZID=America/New_York:20260207T170000
DTEND;TZID=America/New_York:20260207T190000
DTSTAMP:20260424T225851
CREATED:20260120T182445Z
LAST-MODIFIED:20260123T161656Z
UID:10002645-1770483600-1770490800@autismsocietymd.org
SUMMARY:WINTER POOL PARTY
DESCRIPTION:WINTER POOL PARTY – Registration is now closed! \nRegistration is now closed for this event. If you would like to go on the waitlist\, please email:  jessica.deadwyler@autismsocietymd.org or liza.kibler@autismsocietymd.org and include: name\, email\, phone and the number of people in the party.​​​​​​​​​​​​​​ \nFebruary 7\, 2026 @ 5:00-7:00PM \nNorth Arundel Aquatic Center \n7888 Crain Highway\, Glen Burnie\, MD 21061 \nAutistic individuals of all ages and abilities and their families are invited to join AUSOM for a FREE pool party at the North Arundel Aquatic Center in Glen Burnie\, MD. Come learn more about the Autism Society and connect with other members of the community in a fun\, welcoming atmosphere! \nFREE but registration is required to attend.  Space is limited. No swim diapers permitted. CLICK HERE for pool rules. \nQuestions? Contact 410-290-3466×7682 or jessica.deadwyler@autismsocietymd.org or liza.kibler@autismsocietymd.org \n 
URL:https://autismsocietymd.org/event/23969/
LOCATION:North Arundel Aquatic Center\, 7888 Crain Hwy. South\, Glen Burnie\, Maryland\, 21061
CATEGORIES:Pool Party
ATTACH;FMTTYPE=image/png:https://autismsocietymd.org/wp-content/uploads/2026/01/1.png
END:VEVENT
BEGIN:VEVENT
DTSTART;TZID=America/New_York:20260207T170000
DTEND;TZID=America/New_York:20260207T190000
DTSTAMP:20260424T225851
CREATED:20260120T182637Z
LAST-MODIFIED:20260123T161854Z
UID:10002646-1770483600-1770490800@autismsocietymd.org
SUMMARY:UNA FIESTA EN LA PISCINA DE INVIERNO - GRATIS
DESCRIPTION:FIESTA DE PISCINA DE INVIERNO – ¡Inscripciones cerradas!  \nLas inscripciones para este evento ya están cerradas. Si desea apuntarse a la lista de espera\, envíe un correo electrónico a jessica.deadwyler@autismsocietymd.org o liza.kibler@autismsocietymd.org e incluya: nombre\, correo electrónico\, número de teléfono y el número de personas que asistirán. \n7 de febrero de 2026 @ 5:00-7:00PM \nNorth Arundel Aquatic Center \n7888 Crain Highway\, Glen Burnie\, MD 21061 \nInvitamos a personas autistas de todas las edades y capacidades y a sus familias a unirse a AUSOM para una fiesta GRATUITA en la piscina en el Centro Acuático North Arundel en Glen Burnie\, MD. ¡Ven a aprender más sobre la Sociedad de Autismo y conéctate con otros miembros de la comunidad en un ambiente divertido y acogedor! \nEs GRATIS pero necesitan inscribirse para poder asistir. El espacio es limitado. Les pedimos que solo inscriban a miembros de su familia cercana. No se permiten pañales para nadar. HAGA CLIC AQUÍ para ver las normas de la piscina en inglés. \nPreguntas? Comuníquese con Catalina Ramos al 443-518-7681 o catalina.ramos@autismsocietymd.org o por textos al 443-620-8441. \n 
URL:https://autismsocietymd.org/event/una-fiesta-en-la-piscina-de-invierno-gratis/
LOCATION:North Arundel Aquatic Center\, 7888 Crain Hwy. South\, Glen Burnie\, Maryland\, 21061
CATEGORIES:Espanol,Pool Party
ATTACH;FMTTYPE=image/png:https://autismsocietymd.org/wp-content/uploads/2026/01/2.png
END:VEVENT
END:VCALENDAR