BEGIN:VCALENDAR
VERSION:2.0
PRODID:-//Autism Society of Maryland - ECPv6.15.17.1//NONSGML v1.0//EN
CALSCALE:GREGORIAN
METHOD:PUBLISH
X-WR-CALNAME:Autism Society of Maryland
X-ORIGINAL-URL:https://autismsocietymd.org
X-WR-CALDESC:Events for Autism Society of Maryland
REFRESH-INTERVAL;VALUE=DURATION:PT1H
X-Robots-Tag:noindex
X-PUBLISHED-TTL:PT1H
BEGIN:VTIMEZONE
TZID:America/New_York
BEGIN:DAYLIGHT
TZOFFSETFROM:-0500
TZOFFSETTO:-0400
TZNAME:EDT
DTSTART:20190310T070000
END:DAYLIGHT
BEGIN:STANDARD
TZOFFSETFROM:-0400
TZOFFSETTO:-0500
TZNAME:EST
DTSTART:20191103T060000
END:STANDARD
BEGIN:DAYLIGHT
TZOFFSETFROM:-0500
TZOFFSETTO:-0400
TZNAME:EDT
DTSTART:20200308T070000
END:DAYLIGHT
BEGIN:STANDARD
TZOFFSETFROM:-0400
TZOFFSETTO:-0500
TZNAME:EST
DTSTART:20201101T060000
END:STANDARD
BEGIN:DAYLIGHT
TZOFFSETFROM:-0500
TZOFFSETTO:-0400
TZNAME:EDT
DTSTART:20210314T070000
END:DAYLIGHT
BEGIN:STANDARD
TZOFFSETFROM:-0400
TZOFFSETTO:-0500
TZNAME:EST
DTSTART:20211107T060000
END:STANDARD
BEGIN:DAYLIGHT
TZOFFSETFROM:-0500
TZOFFSETTO:-0400
TZNAME:EDT
DTSTART:20220313T070000
END:DAYLIGHT
BEGIN:STANDARD
TZOFFSETFROM:-0400
TZOFFSETTO:-0500
TZNAME:EST
DTSTART:20221106T060000
END:STANDARD
BEGIN:DAYLIGHT
TZOFFSETFROM:-0500
TZOFFSETTO:-0400
TZNAME:EDT
DTSTART:20230312T070000
END:DAYLIGHT
BEGIN:STANDARD
TZOFFSETFROM:-0400
TZOFFSETTO:-0500
TZNAME:EST
DTSTART:20231105T060000
END:STANDARD
END:VTIMEZONE
BEGIN:VEVENT
DTSTART;TZID=America/New_York:20221017T190000
DTEND;TZID=America/New_York:20221017T203000
DTSTAMP:20260424T051134
CREATED:20220810T021327Z
LAST-MODIFIED:20220810T021327Z
UID:10001198-1666033200-1666038600@autismsocietymd.org
SUMMARY:Grupo de Apoyo Para Padres Latinos
DESCRIPTION:Realizado en español\, este grupo de apoyo familiar se reúne mensualmente. \nPara más información \nMarianela Estrada  – emailnella22@gmail.com o 973-223-1024 \nAlex Arevalo at ax.arevel1@gmail.com or 240-374-3368.
URL:https://autismsocietymd.org/event/grupo-de-apoyo-para-padres-latinos-8/
CATEGORIES:Latino Parent Support
ATTACH;FMTTYPE=image/png:https://autismsocietymd.org/wp-content/uploads/2021/09/Latino-Parent-Support-Group-logo.png
END:VEVENT
BEGIN:VEVENT
DTSTART;TZID=America/New_York:20220919T190000
DTEND;TZID=America/New_York:20220919T203000
DTSTAMP:20260424T051134
CREATED:20220810T021224Z
LAST-MODIFIED:20220810T021224Z
UID:10001457-1663614000-1663619400@autismsocietymd.org
SUMMARY:Grupo de Apoyo Para Padres Latinos
DESCRIPTION:Realizado en español\, este grupo de apoyo familiar se reúne mensualmente. \nPara más información \nMarianela Estrada  – emailnella22@gmail.com o 973-223-1024 \nAlex Arevalo at ax.arevel1@gmail.com or 240-374-3368.
URL:https://autismsocietymd.org/event/grupo-de-apoyo-para-padres-latinos-7/
CATEGORIES:Latino Parent Support
ATTACH;FMTTYPE=image/png:https://autismsocietymd.org/wp-content/uploads/2021/09/Latino-Parent-Support-Group-logo.png
END:VEVENT
BEGIN:VEVENT
DTSTART;TZID=America/New_York:20211018T070000
DTEND;TZID=America/New_York:20211018T203000
DTSTAMP:20260424T051134
CREATED:20210912T213032Z
LAST-MODIFIED:20211007T214837Z
UID:10001072-1634540400-1634589000@autismsocietymd.org
SUMMARY:Grupo de Apoyo Para Padres / Latino Parent Support Group
DESCRIPTION:Presentacion Virtual \nEsta Tu Hijo/A Entrando o Cursando el High School? Aprende Las Diferencias Entre Diploma o Certificado \nPresentado por: Gicel Martinez y Rosie Rivera Lily of Parents’ Place of Maryland \nCLICK TO JOIN \nLatino Parents Support Group\, Monday\, October 18\, 2021 at 7:00PM\nhttps://howardcountyautismsociety.my.webex.com/howardcountyautismsociety.my/j.php?MTID=m9b90583d5a134613551bd3e4ddd134d4\nMeeting number: 2556 052 7358\nPassword: VdPMw93bpd5 (83769932 from phones and video systems) \nJoin by video system\nDial 25560527358@webex.com\nYou can also dial 173.243.2.68 and enter your meeting number. \nJoin by phone\n+1-510-338-9438 USA Toll\nAccess code: 255 605 27358
URL:https://autismsocietymd.org/event/grupo-de-apoyo-para-padres-latino-parent-support-group-3-2/
LOCATION:Online\, 9770 Patuxent Woods Drive\, Suite 308\, Columbia\, MD\, 21046\, United States
CATEGORIES:Latino Parent Support
ATTACH;FMTTYPE=image/png:https://autismsocietymd.org/wp-content/uploads/2021/09/Latino-Parent-Support-Group-logo.png
END:VEVENT
BEGIN:VEVENT
DTSTART;TZID=America/New_York:20210920T070000
DTEND;TZID=America/New_York:20210920T203000
DTSTAMP:20260424T051134
CREATED:20210912T213032Z
LAST-MODIFIED:20210915T181852Z
UID:10001070-1632121200-1632169800@autismsocietymd.org
SUMMARY:Grupo de Apoyo Para Padres / Latino Parent Support Group
DESCRIPTION:  \n \nCLICK TO JOIN\nMonday\, Sep 20\, 2021 7:00 pm | 1 hour 30 minutes | (UTC-04:00) Eastern Time (US & Canada)\nMeeting number: 2556 146 1798\nPassword: SUgxD6m2mW2 (78493662 from phones and video systems) \nJoin by video system\nDial 25561461798@webex.com\nYou can also dial 173.243.2.68 and enter your meeting number. \nJoin by phone\n+1-510-338-9438 USA Toll\nAccess code: 255 614 61798
URL:https://autismsocietymd.org/event/grupo-de-apoyo-para-padres-latino-parent-support-group-3/
LOCATION:Online\, 9770 Patuxent Woods Drive\, Suite 308\, Columbia\, MD\, 21046\, United States
CATEGORIES:Latino Parent Support
ATTACH;FMTTYPE=image/jpeg:https://autismsocietymd.org/wp-content/uploads/2021/09/SEPT_LPSG-Event-Invitation-9.20.21.jpg
END:VEVENT
BEGIN:VEVENT
DTSTART;TZID=America/New_York:20210828T090000
DTEND;TZID=America/New_York:20210828T140000
DTSTAMP:20260424T051134
CREATED:20210429T182527Z
LAST-MODIFIED:20210809T150309Z
UID:10001197-1630141200-1630159200@autismsocietymd.org
SUMMARY:Grupo de Apoyo Para Padres / Latino Parent Support Group
DESCRIPTION:La Sociedad de Autismo del Condado de Howard lo invita a asistir a un grupo para familias de habla hispana que tienen un niño con autismo. \nConozca al Grupo en Centennial Park\, 10000 Clarksville Pike/Route 108\, Ellicott City\, MD \n9:00AM – 2:00PM  (9h – 14h) \nPara más información y para inscribirse\, contacte a: Marianela Estrada emailnella22@gmail.com; 973-223-1024 \nConducted in Spanish\, this family support group meets monthly.  For additional information\, contact Marianela Estrada at emailnella22@gmail.com or  973-223-1024. \nLatino Parents Support Group\nHosted by Autism Society of Maryland
URL:https://autismsocietymd.org/event/grupo-de-apoyo-para-padres-latino-parent-support-group-2-2-2/
LOCATION:Online\, 9770 Patuxent Woods Drive\, Suite 308\, Columbia\, MD\, 21046\, United States
CATEGORIES:Latino Parent Support
ATTACH;FMTTYPE=image/png:https://autismsocietymd.org/wp-content/uploads/2021/01/LatinoParentsGroup.png
END:VEVENT
BEGIN:VEVENT
DTSTART;TZID=America/New_York:20210720T190000
DTEND;TZID=America/New_York:20210720T203000
DTSTAMP:20260424T051134
CREATED:20210429T182527Z
LAST-MODIFIED:20210713T172431Z
UID:10001196-1626807600-1626813000@autismsocietymd.org
SUMMARY:Grupo de Apoyo Para Padres / Latino Parent Support Group
DESCRIPTION:La Sociedad de Autismo del Condado de Howard lo invita a asistir a un grupo para familias de habla hispana que tienen un niño con autismo. \nOpen Discussion \nPara más información y para inscribirse\, contacte a: Marianela Estrada emailnella22@gmail.com; 973-223-1024 \nConducted in Spanish\, this family support group meets monthly.  For additional information\, contact Marianela Estrada at emailnella22@gmail.com or  973-223-1024. \nLatino Parents Support Group\nHosted by Autism Society of Maryland \nhttps://howardcountyautismsociety.my.webex.com/howardcountyautismsociety.my/j.php?MTID=m9d773b5f32c67ff95b7be9719c1fe0b7\nTuesday\, Jul 20\, 2021 7:00 pm | 1 hour 30 minutes | (UTC-04:00) Eastern Time (US & Canada)\nMeeting number: 182 122 1864\nPassword: e9AGr5vDiT3 (39247583 from phones and video systems) \nJoin by video system\nDial 1821221864@webex.com\nYou can also dial 173.243.2.68 and enter your meeting number. \nJoin by phone\n+1-510-338-9438 USA Toll\nAccess code: 182 122 1864
URL:https://autismsocietymd.org/event/grupo-de-apoyo-para-padres-latino-parent-support-group-2-2/
LOCATION:Online\, 9770 Patuxent Woods Drive\, Suite 308\, Columbia\, MD\, 21046\, United States
CATEGORIES:Latino Parent Support
ATTACH;FMTTYPE=image/png:https://autismsocietymd.org/wp-content/uploads/2021/01/LatinoParentsGroup.png
END:VEVENT
BEGIN:VEVENT
DTSTART;TZID=America/New_York:20210629T190000
DTEND;TZID=America/New_York:20210629T203000
DTSTAMP:20260424T051134
CREATED:20210429T182527Z
LAST-MODIFIED:20210608T180355Z
UID:10001195-1624993200-1624998600@autismsocietymd.org
SUMMARY:Grupo de Apoyo Para Padres / Latino Parent Support Group
DESCRIPTION:La Sociedad de Autismo del Condado de Howard lo invita a asistir a un grupo para familias de habla hispana que tienen un niño con autismo. \nPonente: Gabriella Ulloa\, BCBA – Clinical Specialist DAXTA:  Autismo y Conducta Alimentaria \nPara más información y para inscribirse\, contacte a: Marianela Estrada emailnella22@gmail.com; 973-223-1024 \nConducted in Spanish\, this family support group meets monthly.  For additional information\, contact Marianela Estrada at emailnella22@gmail.com or  973-223-1024. \nTopic: Autism and Eating Behavior\nTime: June 29\, 2021 07:00 PM Eastern Time (US and Canada) \nhttps://howardcountyautismsociety.my.webex.com/howardcountyautismsociety.my/j.php?MTID=m49535c169692913799165bd8096488ad\nMeeting number: 182 087 2235\nPassword: 8vGb3vmVas3 (88423868 from phones and video systems) \nJoin by video system\nDial 1820872235@webex.com\nYou can also dial 173.243.2.68 and enter your meeting number. \nJoin by phone\n+1-510-338-9438 USA Toll\nAccess code: 182 087 2235
URL:https://autismsocietymd.org/event/grupo-de-apoyo-para-padres-latino-parent-support-group-2/
LOCATION:Online\, 9770 Patuxent Woods Drive\, Suite 308\, Columbia\, MD\, 21046\, United States
CATEGORIES:Latino Parent Support
ATTACH;FMTTYPE=image/png:https://autismsocietymd.org/wp-content/uploads/2021/01/LatinoParentsGroup.png
END:VEVENT
BEGIN:VEVENT
DTSTART;TZID=America/New_York:20210525T190000
DTEND;TZID=America/New_York:20210525T203000
DTSTAMP:20260424T051134
CREATED:20210429T182527Z
LAST-MODIFIED:20210430T123314Z
UID:10001193-1621969200-1621974600@autismsocietymd.org
SUMMARY:Grupo de Apoyo Para Padres / Latino Parent Support Group
DESCRIPTION:La Sociedad de Autismo del Condado de Howard lo invita a asistir a un grupo para familias de habla hispana que tienen un niño con autismo. \nPonente: Alex Arevalo\, Supervisor Clínico de Centria Healthcare Tema: ¿Qué es el método ABA? \nPara más información y para inscribirse\, contacte a: Marianela Estrada emailnella22@gmail.com; 973-223-1024 \nConducted in Spanish\, this family support group meets monthly.  For additional information\, contact Marianela Estrada at emailnella22@gmail.com or  973-223-1024. \nCLICK FOR FLYER \nTopic: What’s ABA?\nTime: May 25\, 2021 07:00 PM Eastern Time (US and Canada) \nJoin Zoom Meeting\nhttps://cua.zoom.us/j/86707229743?pwd=azlPa1NXZzJWd1FuV2d0Q0svb29Udz09 \nMeeting ID: 867 0722 9743\nPasscode: 504845\nOne tap mobile\n+19294362866\,\,86707229743#\,\,\,\,*504845# US (New York)\n+13017158592\,\,86707229743#\,\,\,\,*504845# US (Washington DC) \nDial by your location\n+1 929 436 2866 US (New York)\n+1 301 715 8592 US (Washington DC)\n+1 312 626 6799 US (Chicago)\n+1 669 900 6833 US (San Jose)\n+1 253 215 8782 US (Tacoma)\n+1 346 248 7799 US (Houston)\nMeeting ID: 867 0722 9743\nPasscode: 504845\nFind your local number: https://cua.zoom.us/u/kejh7xqXqf
URL:https://autismsocietymd.org/event/grupo-de-apoyo-para-padres-latino-parent-support-group/
LOCATION:Online\, 9770 Patuxent Woods Drive\, Suite 308\, Columbia\, MD\, 21046\, United States
CATEGORIES:Latino Parent Support
ATTACH;FMTTYPE=image/png:https://autismsocietymd.org/wp-content/uploads/2021/01/LatinoParentsGroup.png
END:VEVENT
BEGIN:VEVENT
DTSTART;TZID=America/New_York:20210316T190000
DTEND;TZID=America/New_York:20210316T203000
DTSTAMP:20260424T051134
CREATED:20210228T193942Z
LAST-MODIFIED:20210228T194256Z
UID:10000981-1615921200-1615926600@autismsocietymd.org
SUMMARY:Grupo de Apoyo Para Padres / Latino Family Support Group
DESCRIPTION:La Sociedad de Autismo del Condado de Howard lo invita a asistir a un grupo para familias de habla hispana que tienen un niño con autismoPara más información y para inscribirse\, contacte a: Marianela Estrada emailnella22@gmail.com; 973-223-1024 \nConducted in Spanish\, this family support group meets monthly.  For additional information\, contact Marianela Estrada at emailnella22@gmail.com or  973-223-1024. \n\n\nWEBEX LOGIN:\nMeeting link:  https://howardcountyautismsociety.my.webex.com/howardcountyautismsociety.my/j.php?MTID=m08dbf4152c8b475c5f9d2a01e6f0a672   \n\nMeeting number:  182 721 7056\nPassword:  3W4Ppp4Vmtt (39477748 from phones and video systems)\n\n\n\n\n\nMore ways to join\n\n\n\nJoin by video system\n\nDial 1827217056@webex.com\nYou can also dial 173.243.2.68 and enter your meeting number.\n\n\n\n\n\nJoin by phone\n\n\n\n\n+1-510-338-9438 USA Toll\n\n\nAccess code: 182 721 7056\n\n\n\n\n\n\nGlobal call-in numbers
URL:https://autismsocietymd.org/event/grupo-de-apoyo-para-padres-latino-family-support-group-3/
LOCATION:Online\, 9770 Patuxent Woods Drive\, Suite 308\, Columbia\, MD\, 21046\, United States
CATEGORIES:Latino Parent Support
ATTACH;FMTTYPE=image/png:https://autismsocietymd.org/wp-content/uploads/2021/01/LatinoParentsGroup.png
END:VEVENT
BEGIN:VEVENT
DTSTART;TZID=America/New_York:20210216T190000
DTEND;TZID=America/New_York:20210216T203000
DTSTAMP:20260424T051134
CREATED:20210112T214013Z
LAST-MODIFIED:20210207T232857Z
UID:10001171-1613502000-1613507400@autismsocietymd.org
SUMMARY:Grupo de Apoyo Para Padres / Latino Family Support Group
DESCRIPTION:La Sociedad de Autismo del Condado de Howard lo invita a asistir a un grupo para familias de habla hispana que tienen un niño con autismoPara más información y para inscribirse\, contacte a: Marianela Estrada emailnella22@gmail.com; 973-223-1024 \nConducted in Spanish\, this family support group meets monthly.  For additional information\, contact Marianela Estrada at emailnella22@gmail.com or  973-223-1024. \n\n\n\nLOG IN:\nMeeting link:\nhttps://howardcountyautismsociety.my.webex.com/howardcountyautismsociety.my/j.php?MTID=med8aca409b61a9a1d7b0635cfac0a39b\nMeeting number: 182 601 8402\nPassword: FNvYpzDe283 (36897933 from phones and video systems) \nMore ways to join:\n\n\n\n\n\n\n\nJoin by video system\nDial 1826018402@webex.com\nYou can also dial 173.243.2.68 and enter your meeting number. \nJoin by phone\n+1-510-338-9438 USA Toll\nAccess code: 182 601 8402\n\n\n\n\n\n\n\n\nGlobal call-in numbers
URL:https://autismsocietymd.org/event/grupo-de-apoyo-para-padres-latino-family-support-group-2/
LOCATION:Online\, 9770 Patuxent Woods Drive\, Suite 308\, Columbia\, MD\, 21046\, United States
CATEGORIES:Latino Parent Support
ATTACH;FMTTYPE=image/png:https://autismsocietymd.org/wp-content/uploads/2021/01/LatinoParentsGroup.png
END:VEVENT
BEGIN:VEVENT
DTSTART;TZID=America/New_York:20210118T190000
DTEND;TZID=America/New_York:20210118T203000
DTSTAMP:20260424T051134
CREATED:20210112T214013Z
LAST-MODIFIED:20210112T231320Z
UID:10001170-1610996400-1611001800@autismsocietymd.org
SUMMARY:Grupo de Apoyo Para Padres / Latino Family Support Group
DESCRIPTION:La Sociedad de Autismo del Condado de Howard lo invita a asistir a un grupo para familias de habla hispana que tienen un niño con autismoPara más información y para inscribirse\, contacte a: Marianela Estrada emailnella22@gmail.com; 973-223-1024 \nConducted in Spanish\, this family support group meets monthly.  For additional information\, contact Marianela Estrada at emailnella22@gmail.com or  973-223-1024. \n\n\n\nLOG IN:\nMeeting link:  https://howardcountyautismsociety.my.webex.com/howardcountyautismsociety.my/j.php?MTID=mf45e415570fe00300b7413933112cb26  \n\nMeeting number:  126 274 1432\nPassword:  uQW4Hxp2Ux3 (87944972 from phones and video systems)\n\n\n\n\nMore ways to join\n\n\n\nJoin by video system\n\nDial 1262741432@webex.com\nYou can also dial 173.243.2.68 and enter your meeting number.\n\n\n\n\n\nJoin by phone\n\n\n\n\n+1-510-338-9438 USA Toll\n\n\nAccess code: 126 274 1432\n\n\n\n\n\n\n\n\nGlobal call-in numbers
URL:https://autismsocietymd.org/event/grupo-de-apoyo-para-padres-latino-family-support-group/
LOCATION:Online\, 9770 Patuxent Woods Drive\, Suite 308\, Columbia\, MD\, 21046\, United States
CATEGORIES:Latino Parent Support
ATTACH;FMTTYPE=image/png:https://autismsocietymd.org/wp-content/uploads/2021/01/LatinoParentsGroup.png
END:VEVENT
BEGIN:VEVENT
DTSTART;TZID=America/New_York:20200526T190000
DTEND;TZID=America/New_York:20200526T210000
DTSTAMP:20260424T051134
CREATED:20200428T223458Z
LAST-MODIFIED:20200511T202255Z
UID:10000960-1590519600-1590526800@autismsocietymd.org
SUMMARY:ONLINE - Grupo de Apoyo Para Padres Latinos (Latino Parent Support Group)
DESCRIPTION:Este mes le damos la bienvenida a la oradora Janice Yetter\, Directora de Educación Especial\, Sistema de Escuelas Públicas del Condado de Howard. Realizado en español\, este grupo de apoyo familiar se reúne la mayoría de los meses en HCAS. Este mes\, y durante la cuarentena\, trasladaremos la reunión en línea. Para más información\, contacte a Marianela Estrada al 973-223-1024.\n\n\n \n\n\nThis month we welcome speaker Janice Yetter\, Director of Special Education\, Howard County Public School System. Conducted in Spanish\, this family support group meets most months at HCAS. This month\, and for the duration of the quarantine\, we will move the meeting online. For more information\, contact Marianela Estrada at 973-223-1024.\n\n\n \n\n\nMeeting link: https://howardcountyautismsociety.my.webex.com/howardcountyautismsociety.my/j.php?MTID=m494a697046467dfbd5300ac3c1c6aa8f\n\n\nMeeting number: 626 211 310\n\n\nPassword: A3aMup22Mmk (23268722 from phones and video systems)\n\n\nMore ways to join\n\n\nJoin by video system\n\n\nDial 626211310@howardcountyautismsociety.my.webex.com\n\n\nYou can also dial 173.243.2.68 and enter your meeting number.\n\n\nJoin by phone\n\n\n+1-510-338-9438 USA Toll\n\n\nAccess code: 626 211 310
URL:https://autismsocietymd.org/event/online-latino-parent-support-group/
LOCATION:ONLINE\, MD\, United States
CATEGORIES:Latino Parent Support
ATTACH;FMTTYPE=image/png:https://autismsocietymd.org/wp-content/uploads/2020/02/latino-support-group.png
END:VEVENT
END:VCALENDAR