BEGIN:VCALENDAR
VERSION:2.0
PRODID:-//Autism Society of Maryland - ECPv6.15.17.1//NONSGML v1.0//EN
CALSCALE:GREGORIAN
METHOD:PUBLISH
X-ORIGINAL-URL:https://autismsocietymd.org
X-WR-CALDESC:Events for Autism Society of Maryland
REFRESH-INTERVAL;VALUE=DURATION:PT1H
X-Robots-Tag:noindex
X-PUBLISHED-TTL:PT1H
BEGIN:VTIMEZONE
TZID:America/New_York
BEGIN:DAYLIGHT
TZOFFSETFROM:-0500
TZOFFSETTO:-0400
TZNAME:EDT
DTSTART:20250309T070000
END:DAYLIGHT
BEGIN:STANDARD
TZOFFSETFROM:-0400
TZOFFSETTO:-0500
TZNAME:EST
DTSTART:20251102T060000
END:STANDARD
BEGIN:DAYLIGHT
TZOFFSETFROM:-0500
TZOFFSETTO:-0400
TZNAME:EDT
DTSTART:20260308T070000
END:DAYLIGHT
BEGIN:STANDARD
TZOFFSETFROM:-0400
TZOFFSETTO:-0500
TZNAME:EST
DTSTART:20261101T060000
END:STANDARD
BEGIN:DAYLIGHT
TZOFFSETFROM:-0500
TZOFFSETTO:-0400
TZNAME:EDT
DTSTART:20270314T070000
END:DAYLIGHT
BEGIN:STANDARD
TZOFFSETFROM:-0400
TZOFFSETTO:-0500
TZNAME:EST
DTSTART:20271107T060000
END:STANDARD
END:VTIMEZONE
BEGIN:VEVENT
DTSTART;TZID=America/New_York:20260119T190000
DTEND;TZID=America/New_York:20260119T203000
DTSTAMP:20260423T203047
CREATED:20251015T215900Z
LAST-MODIFIED:20251218T014246Z
UID:10002573-1768849200-1768854600@autismsocietymd.org
SUMMARY:Grupo de Apoyo Para Padres Latinos (Virtual)
DESCRIPTION:GRUPO DE APOYO PARA PADRES LATINOS – En español \nFecha: 19 de enero de 2026 \nHora: 7:00 – 8:30 PM \nProtegiendo a niños y jóvenes con discapacidades intelectuales y del desarrollo en internet: riesgos reales en Roblox\, Minecraft y Discord. \nProtecting Children and Youth with Intellectual and Developmental Disabilities Online: Real Risks on Roblox\, Minecraft and Discord. \nFlor De Amelia Hoffman MS\, MEd\, BCBA\, LBA from Ascenda Foundation. \n\nZoom link: https://us06web.zoom.us/j/85843190006 \nPara más información\, contacte a: \n\n\nMarianela Estrada: emailnella22@gmail.com | 973-223-1024\nAlex Arevalo: ax.areval1@gmail.com | 240-374-3368\nCatalina Ramos: catalina.ramos@autismsocietymd.org | 443-518-7681
URL:https://autismsocietymd.org/event/grupo-de-apoyo-para-padres-latinos-virtual-27/
CATEGORIES:Latino Parent Support
ATTACH;FMTTYPE=image/png:https://autismsocietymd.org/wp-content/uploads/2025/10/Latino-Parent-Support-Group-1.png
LOCATION:https://us06web.zoom.us/j/85843190006
END:VEVENT
BEGIN:VEVENT
DTSTART;TZID=America/New_York:20260216T190000
DTEND;TZID=America/New_York:20260216T203000
DTSTAMP:20260423T203047
CREATED:20260116T014732Z
LAST-MODIFIED:20260116T014732Z
UID:10002640-1771268400-1771273800@autismsocietymd.org
SUMMARY:Grupo de Apoyo Para Padres Latinos (Virtual)
DESCRIPTION:GRUPO DE APOYO PARA PADRES LATINOS – En español \nFecha: 16 de febrero de 2026 \nHora: 7:00 – 8:30 PM \nPróximamente más detalles. \n\nZoom link: https://us06web.zoom.us/j/85843190006 \nPara más información\, contacte a: \n\n\nMarianela Estrada: emailnella22@gmail.com | 973-223-1024\nAlex Arevalo: ax.areval1@gmail.com | 240-374-3368\nCatalina Ramos: catalina.ramos@autismsocietymd.org | 443-518-7681
URL:https://autismsocietymd.org/event/grupo-de-apoyo-para-padres-latinos-virtual-28/
CATEGORIES:Latino Parent Support
ATTACH;FMTTYPE=image/png:https://autismsocietymd.org/wp-content/uploads/2025/10/Latino-Parent-Support-Group-1.png
LOCATION:https://us06web.zoom.us/j/85843190006
END:VEVENT
BEGIN:VEVENT
DTSTART;TZID=America/New_York:20260316T190000
DTEND;TZID=America/New_York:20260316T203000
DTSTAMP:20260423T203047
CREATED:20260121T012618Z
LAST-MODIFIED:20260121T012618Z
UID:10002666-1773687600-1773693000@autismsocietymd.org
SUMMARY:Grupo de Apoyo Para Padres Latinos (Virtual)
DESCRIPTION:GRUPO DE APOYO PARA PADRES LATINOS – En español \nFecha: 16 de marzo de 2026 \nHora: 7:00 – 8:30 PM \nPróximamente más detalles. \n\nZoom link: https://us06web.zoom.us/j/85843190006 \nPara más información\, contacte a: \n\n\nMarianela Estrada: emailnella22@gmail.com | 973-223-1024\nAlex Arevalo: ax.areval1@gmail.com | 240-374-3368\nCatalina Ramos: catalina.ramos@autismsocietymd.org | 443-518-7681
URL:https://autismsocietymd.org/event/grupo-de-apoyo-para-padres-latinos-virtual-29/
CATEGORIES:Latino Parent Support
ATTACH;FMTTYPE=image/png:https://autismsocietymd.org/wp-content/uploads/2025/10/Latino-Parent-Support-Group-1.png
LOCATION:https://us06web.zoom.us/j/85843190006
END:VEVENT
BEGIN:VEVENT
DTSTART;TZID=America/New_York:20260420T190000
DTEND;TZID=America/New_York:20260420T203000
DTSTAMP:20260423T203047
CREATED:20260310T033857Z
LAST-MODIFIED:20260310T033919Z
UID:10002720-1776711600-1776717000@autismsocietymd.org
SUMMARY:Grupo de Apoyo Para Padres Latinos (Virtual)
DESCRIPTION:GRUPO DE APOYO PARA PADRES LATINOS – En español \nFecha: 20 de abril de 2026 \nHora: 7:00 – 8:30 PM \nPróximamente más detalles. \n\nZoom link: https://us06web.zoom.us/j/85843190006 \nPara más información\, contacte a: \n\n\nMarianela Estrada: emailnella22@gmail.com | 973-223-1024\nAlex Arevalo: ax.areval1@gmail.com | 240-374-3368\nCatalina Ramos: catalina.ramos@autismsocietymd.org | 443-518-7681
URL:https://autismsocietymd.org/event/grupo-de-apoyo-para-padres-latinos-virtual-30/
CATEGORIES:Latino Parent Support
ATTACH;FMTTYPE=image/png:https://autismsocietymd.org/wp-content/uploads/2025/10/Latino-Parent-Support-Group-1.png
LOCATION:https://us06web.zoom.us/j/85843190006
END:VEVENT
BEGIN:VEVENT
DTSTART;TZID=America/New_York:20260516T090000
DTEND;TZID=America/New_York:20260516T130000
DTSTAMP:20260423T203047
CREATED:20260315T184647Z
LAST-MODIFIED:20260315T184714Z
UID:10002750-1778922000-1778936400@autismsocietymd.org
SUMMARY:Unidos por el Autismo Caminata 3KM
DESCRIPTION:Unidos por el Autismo Caminata 3KM\nMay 16\, 2026 \n9:00 AM – 1:00 PM \nPara más informatión llame o envie un correo-e a: \n\nCatalina Ramos\, catalina.ramos@autismsocietymd.org\, 443-518-7681\nMarianela Estrada\, emailnella22@gmail.com\, 973-223-1024\nAlex Arevalo\, ax.areval1@gmail.com\, 240-374-3368
URL:https://autismsocietymd.org/event/unidos-por-el-autismo-caminata-3km/
CATEGORIES:Autism Awarenss,Espanol,Latino Parent Support
ATTACH;FMTTYPE=image/png:https://autismsocietymd.org/wp-content/uploads/2026/02/2025UNIDOSAutismWalk-1080-x-1080-px-5.9.25.png
END:VEVENT
BEGIN:VEVENT
DTSTART;TZID=America/New_York:20260518T190000
DTEND;TZID=America/New_York:20260518T203000
DTSTAMP:20260423T203047
CREATED:20260315T184307Z
LAST-MODIFIED:20260315T184417Z
UID:10002749-1779130800-1779136200@autismsocietymd.org
SUMMARY:Grupo de Apoyo Para Padres Latinos (Virtual)  - Sin reunión
DESCRIPTION:Sin reunión \nGRUPO DE APOYO PARA PADRES LATINOS – En español \nFecha: Mayo 20 \nHora: Este mes no hay reunión virtual. Únase a nosotros nuevamente en junio. \n\nPara más información\, contacte a: \n\n\nMarianela Estrada: emailnella22@gmail.com | 973-223-1024\nAlex Arevalo: ax.areval1@gmail.com | 240-374-3368\nCatalina Ramos: catalina.ramos@autismsocietymd.org | 443-518-7681
URL:https://autismsocietymd.org/event/grupo-de-apoyo-para-padres-latinos-virtual-sin-reunion/
CATEGORIES:Latino Parent Support
ATTACH;FMTTYPE=image/png:https://autismsocietymd.org/wp-content/uploads/2025/10/Latino-Parent-Support-Group-1.png
LOCATION:
END:VEVENT
END:VCALENDAR