BEGIN:VCALENDAR
VERSION:2.0
PRODID:-//Autism Society of Maryland - ECPv6.15.17.1//NONSGML v1.0//EN
CALSCALE:GREGORIAN
METHOD:PUBLISH
X-ORIGINAL-URL:https://autismsocietymd.org
X-WR-CALDESC:Events for Autism Society of Maryland
REFRESH-INTERVAL;VALUE=DURATION:PT1H
X-Robots-Tag:noindex
X-PUBLISHED-TTL:PT1H
BEGIN:VTIMEZONE
TZID:America/New_York
BEGIN:DAYLIGHT
TZOFFSETFROM:-0500
TZOFFSETTO:-0400
TZNAME:EDT
DTSTART:20240310T070000
END:DAYLIGHT
BEGIN:STANDARD
TZOFFSETFROM:-0400
TZOFFSETTO:-0500
TZNAME:EST
DTSTART:20241103T060000
END:STANDARD
BEGIN:DAYLIGHT
TZOFFSETFROM:-0500
TZOFFSETTO:-0400
TZNAME:EDT
DTSTART:20250309T070000
END:DAYLIGHT
BEGIN:STANDARD
TZOFFSETFROM:-0400
TZOFFSETTO:-0500
TZNAME:EST
DTSTART:20251102T060000
END:STANDARD
BEGIN:DAYLIGHT
TZOFFSETFROM:-0500
TZOFFSETTO:-0400
TZNAME:EDT
DTSTART:20260308T070000
END:DAYLIGHT
BEGIN:STANDARD
TZOFFSETFROM:-0400
TZOFFSETTO:-0500
TZNAME:EST
DTSTART:20261101T060000
END:STANDARD
END:VTIMEZONE
BEGIN:VEVENT
DTSTART;TZID=America/New_York:20251213T170000
DTEND;TZID=America/New_York:20251213T190000
DTSTAMP:20260423T185759
CREATED:20251015T151908Z
LAST-MODIFIED:20251031T192138Z
UID:10002568-1765645200-1765652400@autismsocietymd.org
SUMMARY:LPSG​​​​​​​  Fiesta Navideña/ Holiday Party
DESCRIPTION:Guarde la fecha/Save the Date \nGRUPO DE APOYO PARA PADRES LATINOS/Latino Parent Support Group \n​​​​​​​Fiesta Navideña/Holiday Party-Christmas Party\n​​​​​​​​​​​​​​​​​​​​13 de diciembre de 2025/December 13\, 2025\nOrganización Colaborativa Sin Fines de Lucro del Condado de Howard/Howard County Nonprofit Collaborative\n9770 Patuxent Woods Drive\, Columbia\, MD 21046                                                                                                          ​ \nEl Grupo de Apoyo a Padres Latinos les invita a una fiesta navideña con comida deliciosa\, juegos divertidos y camaradería.\nThe Latino Parents Support Group invites you to a holiday party for tasty food\, fun games and camaraderie. \nPara más informatión llame o envie un correo-e a:\nFor more information\, call or email: \nMarianela Estrada\, emailnella22@gmail.com\, 973-223-1024 \nAlex Arevalo\, ax.areval1@gmail.com\, 240-374-3368 \nCatalina Ramos\, catalina.ramos@autismsocietymd.org\, 443-518-7681
URL:https://autismsocietymd.org/event/grupo-de-apoyo-para-padres-latinos-fiesta-navidena-guarde-la-fecha/
LOCATION:Autism Society of Maryland\, 9770 Patuxent Woods Drive\, Suite 308\, Columbia\, MD\, 21046\, United States
CATEGORIES:Espanol,Latino Parent Support,Social
ATTACH;FMTTYPE=image/webp:https://autismsocietymd.org/wp-content/uploads/2025/10/2025-LPSG-Holiday-Party-SQ-REV-10.30.25-1080-x-1080-px.webp
END:VEVENT
END:VCALENDAR