BEGIN:VCALENDAR
VERSION:2.0
PRODID:-//Autism Society of Maryland - ECPv6.15.17.1//NONSGML v1.0//EN
CALSCALE:GREGORIAN
METHOD:PUBLISH
X-ORIGINAL-URL:https://autismsocietymd.org
X-WR-CALDESC:Events for Autism Society of Maryland
REFRESH-INTERVAL;VALUE=DURATION:PT1H
X-Robots-Tag:noindex
X-PUBLISHED-TTL:PT1H
BEGIN:VTIMEZONE
TZID:America/New_York
BEGIN:DAYLIGHT
TZOFFSETFROM:-0500
TZOFFSETTO:-0400
TZNAME:EDT
DTSTART:20240310T070000
END:DAYLIGHT
BEGIN:STANDARD
TZOFFSETFROM:-0400
TZOFFSETTO:-0500
TZNAME:EST
DTSTART:20241103T060000
END:STANDARD
BEGIN:DAYLIGHT
TZOFFSETFROM:-0500
TZOFFSETTO:-0400
TZNAME:EDT
DTSTART:20250309T070000
END:DAYLIGHT
BEGIN:STANDARD
TZOFFSETFROM:-0400
TZOFFSETTO:-0500
TZNAME:EST
DTSTART:20251102T060000
END:STANDARD
BEGIN:DAYLIGHT
TZOFFSETFROM:-0500
TZOFFSETTO:-0400
TZNAME:EDT
DTSTART:20260308T070000
END:DAYLIGHT
BEGIN:STANDARD
TZOFFSETFROM:-0400
TZOFFSETTO:-0500
TZNAME:EST
DTSTART:20261101T060000
END:STANDARD
END:VTIMEZONE
BEGIN:VEVENT
DTSTART;TZID=America/New_York:20250918T190000
DTEND;TZID=America/New_York:20250918T203000
DTSTAMP:20260424T030907
CREATED:20250903T215953Z
LAST-MODIFIED:20250903T215953Z
UID:10002532-1758222000-1758227400@autismsocietymd.org
SUMMARY:Grupo de Apoyo Para Padres Latinos (Virtual)
DESCRIPTION:GRUPO DE APOYO PARA PADRES LATINOS – En español \nFecha: 18 de septiembre de 2025Hora: 7:00 – 8:30 PM (por Zoom)Tema: Seguridad de Ingreso Suplementario (SSI) \nDiana Varela de la Administración del Seguro Social presentará sobre los beneficios del Ingreso de Seguridad Suplementario (SSI) y responderá a las preguntas más frecuentes relacionadas con este tema. GRATIS. \nEnlace para la reunión por Zoom:https://us06web.zoom.us/j/85843190006 \nPara más información\, contacte a: \n\n\nMarianela Estrada: emailnella22@gmail.com | 973-223-1024 \n\n\nAlex Arevalo: ax.areval1@gmail.com | 240-374-3368 \n\n\nCatalina Ramos: catalina.ramos@autismsocietymd.org | 443-518-7681
URL:https://autismsocietymd.org/event/grupo-de-apoyo-para-padres-latinos-virtual-26/
CATEGORIES:Latino Parent Support
ATTACH;FMTTYPE=image/png:https://autismsocietymd.org/wp-content/uploads/2023/10/Latino-Parent-Support-Group-Logo-10.2023-1.png
END:VEVENT
END:VCALENDAR