BEGIN:VCALENDAR
VERSION:2.0
PRODID:-//Autism Society of Maryland - ECPv6.15.17.1//NONSGML v1.0//EN
CALSCALE:GREGORIAN
METHOD:PUBLISH
X-WR-CALNAME:Autism Society of Maryland
X-ORIGINAL-URL:https://autismsocietymd.org
X-WR-CALDESC:Events for Autism Society of Maryland
REFRESH-INTERVAL;VALUE=DURATION:PT1H
X-Robots-Tag:noindex
X-PUBLISHED-TTL:PT1H
BEGIN:VTIMEZONE
TZID:America/New_York
BEGIN:DAYLIGHT
TZOFFSETFROM:-0500
TZOFFSETTO:-0400
TZNAME:EDT
DTSTART:20190310T070000
END:DAYLIGHT
BEGIN:STANDARD
TZOFFSETFROM:-0400
TZOFFSETTO:-0500
TZNAME:EST
DTSTART:20191103T060000
END:STANDARD
BEGIN:DAYLIGHT
TZOFFSETFROM:-0500
TZOFFSETTO:-0400
TZNAME:EDT
DTSTART:20200308T070000
END:DAYLIGHT
BEGIN:STANDARD
TZOFFSETFROM:-0400
TZOFFSETTO:-0500
TZNAME:EST
DTSTART:20201101T060000
END:STANDARD
BEGIN:DAYLIGHT
TZOFFSETFROM:-0500
TZOFFSETTO:-0400
TZNAME:EDT
DTSTART:20210314T070000
END:DAYLIGHT
BEGIN:STANDARD
TZOFFSETFROM:-0400
TZOFFSETTO:-0500
TZNAME:EST
DTSTART:20211107T060000
END:STANDARD
END:VTIMEZONE
BEGIN:VEVENT
DTSTART;TZID=America/New_York:20200324T190000
DTEND;TZID=America/New_York:20200324T203000
DTSTAMP:20260424T040201
CREATED:20200218T132507Z
LAST-MODIFIED:20200313T042812Z
UID:10000813-1585076400-1585081800@autismsocietymd.org
SUMMARY:Canceled - Latino Parents Support Group with AUSOM Family Navigator Michael Stromberg
DESCRIPTION:Out of an abundance of caution and after consulting with local officials\, the Autism Society of Maryland (HCAS) has decided to cancel several of its upcoming events and activities.  Please be assured\, we do not make this decision lightly and know the value our events and activities have for the AUSOM community. Below is a list of those events: \nPara más información y para inscribirse\, contacte a: Marianela Estrada emailnella22@gmail.com; 973-223-1024
URL:https://autismsocietymd.org/event/latino-parents-support-group-2/
LOCATION:Autism Society of Maryland\, 9770 Patuxent Woods Drive\, Suite 308\, Columbia\, MD\, 21046\, United States
CATEGORIES:Family Support,General Support
ATTACH;FMTTYPE=image/png:https://autismsocietymd.org/wp-content/uploads/2020/02/latino-support-group.png
END:VEVENT
BEGIN:VEVENT
DTSTART;TZID=America/New_York:20200318T120000
DTEND;TZID=America/New_York:20200318T133000
DTSTAMP:20260424T040201
CREATED:20200316T233402Z
LAST-MODIFIED:20200316T234944Z
UID:10000940-1584532800-1584538200@autismsocietymd.org
SUMMARY:ONLINE - General Support Group
DESCRIPTION:Stay connected with our noontime ONLINE General Family Support Meeting via Webex facilitated by AUSOM Family Navigator Michael Stromberg.  In these uncertain times with school out and anxiety heightened\, it is helpful to come together and discuss concerns\, share ideas and offer support for our families and children. \n\n Please follow these directions to access the meeting:\n\n\n \n\n\nMeeting link:\n\n\nhttps://howardcountyautismsociety.my.webex.com/howardcountyautismsociety.my/j.php?MTID=m05a9ecbff31f70fb596005f8d2c617a0\n\n\n \n\n\nMeeting number: 621 503 658\n\n\n \n\n\nPassword: WEfMWQnh622\n\n\n\n\n\nMore ways to join:\n\n\n \n\n\nJoin by video system\n\n\nDial 621503658@howardcountyautismsociety.my.webex.com\n\n\nYou can also dial 173.243.2.68 and enter your meeting number.\n\n\n \n\n\nJoin by phone\n\n\n+1-510-338-9438 USA Toll\n\n\nAccess code: 621 503 658\n\n\nGlobal call-in numbers
URL:https://autismsocietymd.org/event/online-general-support-group/
LOCATION:MD
CATEGORIES:General Support
ATTACH;FMTTYPE=image/png:https://autismsocietymd.org/wp-content/uploads/2020/01/general-support-group.png
END:VEVENT
BEGIN:VEVENT
DTSTART;TZID=America/New_York:20200317T190000
DTEND;TZID=America/New_York:20200317T203000
DTSTAMP:20260424T040201
CREATED:20200115T180353Z
LAST-MODIFIED:20200315T222405Z
UID:10000798-1584471600-1584477000@autismsocietymd.org
SUMMARY:ONLINE-General Support Group
DESCRIPTION:Stay connected with our very first ONLINE General Family Support Meeting via Webex facilitated by AUSOM Family Navigator Michael Stromberg.  In these uncertain times with school out and anxiety heightened\, it is helpful to come together and discuss concerns\, share ideas and offer support for our families and children.  Please follow these directions to access the meeting at 7pm on March 17\, 2020: \n  \nMeeting link::      https://howardcountyautismsociety.my.webex.com/howardcountyautismsociety.my/j.php?MTID=m0304e025429c827b07d658306cdfa961 \nMeeting number::     626 464 010 \n  \nMore ways to join \nJoin by video system \nDial 626464010@howardcountyautismsociety.my.webex.com \nYou can also dial 173.243.2.68 and enter your meeting number. \nJoin by phone \n+1-510-338-9438 USA Toll \nAccess code: 626 464 010 \nGlobal call-in numbers \n 
URL:https://autismsocietymd.org/event/general-support-group-4/
LOCATION:Autism Society of Maryland\, 9770 Patuxent Woods Drive\, Suite 308\, Columbia\, MD\, 21046\, United States
CATEGORIES:General Support
ATTACH;FMTTYPE=image/png:https://autismsocietymd.org/wp-content/uploads/2020/01/general-support-group.png
END:VEVENT
BEGIN:VEVENT
DTSTART;TZID=America/New_York:20200304T183000
DTEND;TZID=America/New_York:20200304T200000
DTSTAMP:20260424T040201
CREATED:20200212T131928Z
LAST-MODIFIED:20200303T161844Z
UID:10000923-1583346600-1583352000@autismsocietymd.org
SUMMARY:All About Dating and Relationships
DESCRIPTION:Registration has been extended through the start of the workshop on March 4th at 6:30pm! \nPresented by Accessible Resources for Independence.  Register online at HTTPS://DATINGATHCAS.EVENTBRITE.COM \nIN THIS INTERACTIVE WORKSHOP\, ACCESSIBLE RESOURCES FOR INDEPENDENCE AND Autism Society of Maryland PRESENT TO TRANSITIONING YOUTH WITH DISABILITIES AGES 14-24 SOME IMPORTANT TIPS AND TRICKS FOR NAVIGATING DATING AND RELATIONSHIPS. PARTICIPANTS WILL LEARN HOW TO HAVE FUN DATING\, COMMUNICATE BOUNDARIES\, AND PROTECT THEIR MENTAL HEALTH! SCHOLARSHIPS AVAILABLE. \nMore Info  
URL:https://autismsocietymd.org/event/all-about-dating-and-relationships/
LOCATION:Autism Society of Maryland\, 9770 Patuxent Woods Drive\, Suite 308\, Columbia\, MD\, 21046\, United States
CATEGORIES:General Support
ATTACH;FMTTYPE=image/jpeg:https://autismsocietymd.org/wp-content/uploads/2020/02/all-about-dating.jpg
END:VEVENT
BEGIN:VEVENT
DTSTART;TZID=America/New_York:20200221T173000
DTEND;TZID=America/New_York:20200221T193000
DTSTAMP:20260424T040201
CREATED:20200212T130903Z
LAST-MODIFIED:20200212T130903Z
UID:10000921-1582306200-1582313400@autismsocietymd.org
SUMMARY:Women’s Social Group
DESCRIPTION:Women’s Social Group \nPotluck and Game/Craft Night at HCAS \nFor more info\, contact melissa.rosenberg@autismsocietymd.org
URL:https://autismsocietymd.org/event/womens-social-group/
LOCATION:Autism Society of Maryland\, 9770 Patuxent Woods Drive\, Suite 308\, Columbia\, MD\, 21046\, United States
CATEGORIES:General Support
ATTACH;FMTTYPE=image/jpeg:https://autismsocietymd.org/wp-content/uploads/2020/02/womans-social-group.jpg
END:VEVENT
BEGIN:VEVENT
DTSTART;TZID=America/New_York:20200219T180000
DTEND;TZID=America/New_York:20200219T200000
DTSTAMP:20260424T040201
CREATED:20200212T130236Z
LAST-MODIFIED:20200212T130236Z
UID:10000919-1582135200-1582142400@autismsocietymd.org
SUMMARY:Dad’s Night Out
DESCRIPTION:Ask for Jim Kempton or the AUSOM Dad’s Group
URL:https://autismsocietymd.org/event/dads-night-out-3/
LOCATION:The Judges Bench\, 8385 Main Street\, Ellicott City\, 21042\, United States
CATEGORIES:General Support
ATTACH;FMTTYPE=image/jpeg:https://autismsocietymd.org/wp-content/uploads/2020/01/dads-night-out.jpg
END:VEVENT
BEGIN:VEVENT
DTSTART;TZID=America/New_York:20200218T190000
DTEND;TZID=America/New_York:20200218T203000
DTSTAMP:20260424T040201
CREATED:20200115T174721Z
LAST-MODIFIED:20200218T131142Z
UID:10000887-1582052400-1582057800@autismsocietymd.org
SUMMARY:General Support Group
DESCRIPTION:General Support Group: With a focus on newly-diagnosed families or families with younger children.
URL:https://autismsocietymd.org/event/general-support-group-3/
LOCATION:Autism Society of Maryland\, 9770 Patuxent Woods Drive\, Suite 308\, Columbia\, MD\, 21046\, United States
CATEGORIES:General Support
ATTACH;FMTTYPE=image/png:https://autismsocietymd.org/wp-content/uploads/2020/01/general-support-group.png
END:VEVENT
BEGIN:VEVENT
DTSTART;TZID=America/New_York:20200217T190000
DTEND;TZID=America/New_York:20200217T203000
DTSTAMP:20260424T040201
CREATED:20200212T125806Z
LAST-MODIFIED:20200212T132443Z
UID:10000917-1581966000-1581971400@autismsocietymd.org
SUMMARY:Latino Parents Support Group
DESCRIPTION:de la Sociedad de Autismo del Condado de Howard\nles invita coordialmente a la presentación de:\nLety Jiménez \nLa Sra. Jimenéz\, es madre de una hija con necesidades especiales y cuenta con una\nexperiencia de 35 años como maestra. Ha trabajado para las Escuelas Publicas del\nCondado de Howard por 15 años. Ella viene a compartir con nosotros su conocimiento\nde los servicios que las escuelas públicas del condado de Howard ofrecen a los alumnos\ncon necesidades especiales. \n  \nMore Info
URL:https://autismsocietymd.org/event/latino-parents-support-group/
LOCATION:Autism Society of Maryland\, 9770 Patuxent Woods Drive\, Suite 308\, Columbia\, MD\, 21046\, United States
CATEGORIES:Family Support,General Support
ATTACH;FMTTYPE=image/png:https://autismsocietymd.org/wp-content/uploads/2020/01/general-support-group.png
END:VEVENT
BEGIN:VEVENT
DTSTART;TZID=America/New_York:20200216T113000
DTEND;TZID=America/New_York:20200216T123000
DTSTAMP:20260424T040201
CREATED:20200115T174359Z
LAST-MODIFIED:20200115T181610Z
UID:10000886-1581852600-1581856200@autismsocietymd.org
SUMMARY:Sensory-Friendly Sundays
DESCRIPTION:Sensory-Friendly Sundays at Robinson Nature Center – for all ages \nCLICK for more information
URL:https://autismsocietymd.org/event/sensory-friendly-sundays/
LOCATION:Cedar Lane School\, 11630 Scaggsville Road\, Fulton\, MD\, United States
CATEGORIES:General Support
ATTACH;FMTTYPE=image/png:https://autismsocietymd.org/wp-content/uploads/2019/05/default-family-support.png
END:VEVENT
BEGIN:VEVENT
DTSTART;TZID=America/New_York:20200130T190000
DTEND;TZID=America/New_York:20200130T203000
DTSTAMP:20260424T040201
CREATED:20200114T195539Z
LAST-MODIFIED:20200114T195539Z
UID:10000874-1580410800-1580416200@autismsocietymd.org
SUMMARY:Transition Parents Group with HCPSS
DESCRIPTION:Speaker from Maryland ABLE !
URL:https://autismsocietymd.org/event/transition-parents-group-with-hcpss/
LOCATION:Autism Society of Maryland\, 9770 Patuxent Woods Drive\, Suite 308\, Columbia\, MD\, 21046\, United States
CATEGORIES:General Support
ATTACH;FMTTYPE=image/png:https://autismsocietymd.org/wp-content/uploads/2019/05/default-family-support.png
END:VEVENT
BEGIN:VEVENT
DTSTART;TZID=America/New_York:20200114T190000
DTEND;TZID=America/New_York:20200114T203000
DTSTAMP:20260424T040201
CREATED:20200114T191354Z
LAST-MODIFIED:20200114T191354Z
UID:10000862-1579028400-1579033800@autismsocietymd.org
SUMMARY:General Support Group
DESCRIPTION:This evening’s focus will be on newly diagnosed families.
URL:https://autismsocietymd.org/event/general-support-group-2/
LOCATION:Autism Society of Maryland\, 9770 Patuxent Woods Drive\, Suite 308\, Columbia\, MD\, 21046\, United States
CATEGORIES:General Support
ATTACH;FMTTYPE=image/jpeg:https://autismsocietymd.org/wp-content/uploads/2020/01/support-group.jpg
END:VEVENT
END:VCALENDAR