BEGIN:VCALENDAR
VERSION:2.0
PRODID:-//Autism Society of Maryland - ECPv6.15.17.1//NONSGML v1.0//EN
CALSCALE:GREGORIAN
METHOD:PUBLISH
X-WR-CALNAME:Autism Society of Maryland
X-ORIGINAL-URL:https://autismsocietymd.org
X-WR-CALDESC:Events for Autism Society of Maryland
REFRESH-INTERVAL;VALUE=DURATION:PT1H
X-Robots-Tag:noindex
X-PUBLISHED-TTL:PT1H
BEGIN:VTIMEZONE
TZID:America/New_York
BEGIN:DAYLIGHT
TZOFFSETFROM:-0500
TZOFFSETTO:-0400
TZNAME:EDT
DTSTART:20250309T070000
END:DAYLIGHT
BEGIN:STANDARD
TZOFFSETFROM:-0400
TZOFFSETTO:-0500
TZNAME:EST
DTSTART:20251102T060000
END:STANDARD
BEGIN:DAYLIGHT
TZOFFSETFROM:-0500
TZOFFSETTO:-0400
TZNAME:EDT
DTSTART:20260308T070000
END:DAYLIGHT
BEGIN:STANDARD
TZOFFSETFROM:-0400
TZOFFSETTO:-0500
TZNAME:EST
DTSTART:20261101T060000
END:STANDARD
BEGIN:DAYLIGHT
TZOFFSETFROM:-0500
TZOFFSETTO:-0400
TZNAME:EDT
DTSTART:20270314T070000
END:DAYLIGHT
BEGIN:STANDARD
TZOFFSETFROM:-0400
TZOFFSETTO:-0500
TZNAME:EST
DTSTART:20271107T060000
END:STANDARD
END:VTIMEZONE
BEGIN:VEVENT
DTSTART;VALUE=DATE:20260504
DTEND;VALUE=DATE:20260505
DTSTAMP:20260423T185610
CREATED:20260315T181730Z
LAST-MODIFIED:20260315T181730Z
UID:10002740-1777852800-1777939199@autismsocietymd.org
SUMMARY:Howard County & Montgomery County Resource Coordinator Office Hours
DESCRIPTION:Resource Coordinator Office Hours – Howard & Montgomery Counties \nWhen: Mondays\, Wednesdays\, and Fridays (by appointment only)Where: Autism Society of Maryland Office \nCONTACT: Sara Sommerville | sara.sommerville@autismsocietymd.org | 443-518-7680 (Direct) \nThe Autism Society of Maryland’s Resource Coordinators are available to meet with families and individuals seeking support. Office hours are held three days a week by appointment only. \nDuring your appointment\, our coordinators can: \n\n\nConnect you with local autism resources and services \n\n\nProvide guidance and referrals tailored to your needs \n\n\nAnswer questions and help you navigate available tools \n\n\nAppointments are required. Please contact us to schedule a time.
URL:https://autismsocietymd.org/event/howard-county-montgomery-county-resource-coordinator-office-hours-32/
LOCATION:Autism Society of Maryland\, 9770 Patuxent Woods Drive\, Suite 308\, Columbia\, MD\, 21046\, United States
CATEGORIES:Family Support,General Support
ATTACH;FMTTYPE=image/png:https://autismsocietymd.org/wp-content/uploads/2025/09/7.png
END:VEVENT
BEGIN:VEVENT
DTSTART;VALUE=DATE:20260506
DTEND;VALUE=DATE:20260507
DTSTAMP:20260423T185610
CREATED:20260315T182016Z
LAST-MODIFIED:20260315T182016Z
UID:10002744-1778025600-1778111999@autismsocietymd.org
SUMMARY:Anne Arundel County Resource Coordinator Office Hours
DESCRIPTION:Anne Arundel County Resource Coordinator Office Hours  \nWhen: First Wednesday of the month  \nDATES: May 6\, 2026 \nTIME: 10:00am – 1:00pm \nLOCATION: Anne Arundel County Government offices \n          1 Harry S. Truman Parkway \n          Annapolis\, MD 21401 \nPHONE:  410-290-3466×7682 \nEMAIL:  jessica.deadwyler@autismsocietymd.org \nThe Autism Society of Maryland’s Resource Coordinators are available to meet with families and individuals seeking support. Office hours are held three days a week by appointment only. \nDuring your appointment\, our coordinators can: \n\n\nConnect you with local autism resources and services \n\n\nProvide guidance and referrals tailored to your needs \n\n\nAnswer questions and help you navigate available tools
URL:https://autismsocietymd.org/event/anne-arundel-county-resource-coordinator-office-hours-4/
LOCATION:Autism Society of Maryland\, 9770 Patuxent Woods Drive\, Suite 308\, Columbia\, MD\, 21046\, United States
CATEGORIES:Family Support,General Support
ATTACH;FMTTYPE=image/png:https://autismsocietymd.org/wp-content/uploads/2026/01/Resource-Coordinator-Office-Hours_event-calendar_1080x1080-1.png
END:VEVENT
BEGIN:VEVENT
DTSTART;VALUE=DATE:20260506
DTEND;VALUE=DATE:20260507
DTSTAMP:20260423T185610
CREATED:20260315T182203Z
LAST-MODIFIED:20260315T182203Z
UID:10002745-1778025600-1778111999@autismsocietymd.org
SUMMARY:Anne Arundel County Resource Coordinator Office Hours
DESCRIPTION:Anne Arundel County Resource Coordinator Office Hours  \nWhen: First Wednesday of the month  \nDATES: June 3\, 2026 \nTIME: 10:00am – 1:00pm \nLOCATION: Anne Arundel County Government offices \n          1 Harry S. Truman Parkway \n          Annapolis\, MD 21401 \nPHONE:  410-290-3466×7682 \nEMAIL:  jessica.deadwyler@autismsocietymd.org \nThe Autism Society of Maryland’s Resource Coordinators are available to meet with families and individuals seeking support. Office hours are held three days a week by appointment only. \nDuring your appointment\, our coordinators can: \n\n\nConnect you with local autism resources and services \n\n\nProvide guidance and referrals tailored to your needs \n\n\nAnswer questions and help you navigate available tools
URL:https://autismsocietymd.org/event/anne-arundel-county-resource-coordinator-office-hours-7/
LOCATION:Autism Society of Maryland\, 9770 Patuxent Woods Drive\, Suite 308\, Columbia\, MD\, 21046\, United States
CATEGORIES:Family Support,General Support
ATTACH;FMTTYPE=image/png:https://autismsocietymd.org/wp-content/uploads/2026/01/Resource-Coordinator-Office-Hours_event-calendar_1080x1080-1.png
END:VEVENT
BEGIN:VEVENT
DTSTART;TZID=America/New_York:20260507T193000
DTEND;TZID=America/New_York:20260507T210000
DTSTAMP:20260423T185610
CREATED:20260208T212257Z
LAST-MODIFIED:20260315T180951Z
UID:10002693-1778182200-1778187600@autismsocietymd.org
SUMMARY:General Family Support Group (Virtual)
DESCRIPTION:A traditional support group for families that have a member on the Autism spectrum. FREE! ​​​​​​​​​​​​​​ \nWhether your family is new to an autism diagnosis or you’re navigating life with an autistic adult\, this group is here for parents and caregivers at every stage of the journey. Led by fellow parents\, it’s a safe\, understanding space to connect\, share\, and learn together. Held the first Thursday of every month – we hope you can join us! \n\nDATE: First Thursday of each month\nTime: 7:30–9:00 PM\nWhere: Virtual on Zoom\nCost: FREE (one-time registration required) – https://app.donorview.com/g135k \nThe Zoom Link will be sent before each meeting\n\nA one-time registration is required. If you register within 24 hours of the session\, we cannot guarantee that you’ll receive the reminder email and Zoom link. \nSponsored by the Autism Society of Maryland
URL:https://autismsocietymd.org/event/general-family-support-group-virtual-25/
LOCATION:MD
CATEGORIES:General Support
ATTACH;FMTTYPE=image/png:https://autismsocietymd.org/wp-content/uploads/2021/12/AUSOM-Family-Support-Group-Logo-10.2023.png
END:VEVENT
BEGIN:VEVENT
DTSTART;VALUE=DATE:20260511
DTEND;VALUE=DATE:20260512
DTSTAMP:20260423T185610
CREATED:20260315T181753Z
LAST-MODIFIED:20260315T181753Z
UID:10002741-1778457600-1778543999@autismsocietymd.org
SUMMARY:Howard County & Montgomery County Resource Coordinator Office Hours
DESCRIPTION:Resource Coordinator Office Hours – Howard & Montgomery Counties \nWhen: Mondays\, Wednesdays\, and Fridays (by appointment only)Where: Autism Society of Maryland Office \nCONTACT: Sara Sommerville | sara.sommerville@autismsocietymd.org | 443-518-7680 (Direct) \nThe Autism Society of Maryland’s Resource Coordinators are available to meet with families and individuals seeking support. Office hours are held three days a week by appointment only. \nDuring your appointment\, our coordinators can: \n\n\nConnect you with local autism resources and services \n\n\nProvide guidance and referrals tailored to your needs \n\n\nAnswer questions and help you navigate available tools \n\n\nAppointments are required. Please contact us to schedule a time.
URL:https://autismsocietymd.org/event/howard-county-montgomery-county-resource-coordinator-office-hours-33/
LOCATION:Autism Society of Maryland\, 9770 Patuxent Woods Drive\, Suite 308\, Columbia\, MD\, 21046\, United States
CATEGORIES:Family Support,General Support
ATTACH;FMTTYPE=image/png:https://autismsocietymd.org/wp-content/uploads/2025/09/7.png
END:VEVENT
BEGIN:VEVENT
DTSTART;TZID=America/New_York:20260512T100000
DTEND;TZID=America/New_York:20260512T140000
DTSTAMP:20260423T185610
CREATED:20260315T182300Z
LAST-MODIFIED:20260315T183920Z
UID:10002746-1778580000-1778594400@autismsocietymd.org
SUMMARY:Conozca a nuestra Coordinadora de Recursos en español de AUSOM
DESCRIPTION:Conozca a nuestra Coordinadora de Recursos en español de AUSOM: Catalina Ramos \nEste programa será el 2do. martes\nde cada mes\, 10AM-2PM \ncatalina.ramos@autismsocietymd.org \n443-518-7681 (Directo); 443-620-8441 (Textos) \nEl Centro de Multiservicios\n9900 Washington Blvd\nN. Laurel\, MD 20723 \nThis program will be the 2nd. Tuesday of each month\, 10AM-2PM\nThe Multiservice Center 9900 Washington Blvd N. Laurel\, MD 20723
URL:https://autismsocietymd.org/event/conozca-a-nuestra-coordinadora-de-recursos-en-espanol-de-ausom-13/
LOCATION:The Multiservice Center\, 9900 Washington Blvd\, Laurel\, MD\, United States
CATEGORIES:Autism Awarenss,Espanol,General Support,Outreach
ATTACH;FMTTYPE=image/png:https://autismsocietymd.org/wp-content/uploads/2025/10/Resource-Coordinator-Office-Hours_event-calendar_1080x1080-2-1.png
END:VEVENT
BEGIN:VEVENT
DTSTART;VALUE=DATE:20260518
DTEND;VALUE=DATE:20260519
DTSTAMP:20260423T185610
CREATED:20260315T181821Z
LAST-MODIFIED:20260315T181821Z
UID:10002742-1779062400-1779148799@autismsocietymd.org
SUMMARY:Howard County & Montgomery County Resource Coordinator Office Hours
DESCRIPTION:Resource Coordinator Office Hours – Howard & Montgomery Counties \nWhen: Mondays\, Wednesdays\, and Fridays (by appointment only)Where: Autism Society of Maryland Office \nCONTACT: Sara Sommerville | sara.sommerville@autismsocietymd.org | 443-518-7680 (Direct) \nThe Autism Society of Maryland’s Resource Coordinators are available to meet with families and individuals seeking support. Office hours are held three days a week by appointment only. \nDuring your appointment\, our coordinators can: \n\n\nConnect you with local autism resources and services \n\n\nProvide guidance and referrals tailored to your needs \n\n\nAnswer questions and help you navigate available tools \n\n\nAppointments are required. Please contact us to schedule a time.
URL:https://autismsocietymd.org/event/howard-county-montgomery-county-resource-coordinator-office-hours-34/
LOCATION:Autism Society of Maryland\, 9770 Patuxent Woods Drive\, Suite 308\, Columbia\, MD\, 21046\, United States
CATEGORIES:Family Support,General Support
ATTACH;FMTTYPE=image/png:https://autismsocietymd.org/wp-content/uploads/2025/09/7.png
END:VEVENT
BEGIN:VEVENT
DTSTART;VALUE=DATE:20260527
DTEND;VALUE=DATE:20260528
DTSTAMP:20260423T185610
CREATED:20260315T181853Z
LAST-MODIFIED:20260315T181917Z
UID:10002743-1779840000-1779926399@autismsocietymd.org
SUMMARY:Howard County & Montgomery County Resource Coordinator Office Hours
DESCRIPTION:Resource Coordinator Office Hours – Howard & Montgomery Counties \nWhen: NO MONDAY SESSION THIS WEEK – Wednesdays\, and Fridays (by appointment only)Where: Autism Society of Maryland Office \nCONTACT: Sara Sommerville | sara.sommerville@autismsocietymd.org | 443-518-7680 (Direct) \nThe Autism Society of Maryland’s Resource Coordinators are available to meet with families and individuals seeking support. Office hours are held three days a week by appointment only. \nDuring your appointment\, our coordinators can: \n\n\nConnect you with local autism resources and services \n\n\nProvide guidance and referrals tailored to your needs \n\n\nAnswer questions and help you navigate available tools \n\n\nAppointments are required. Please contact us to schedule a time.
URL:https://autismsocietymd.org/event/howard-county-montgomery-county-resource-coordinator-office-hours-35/
LOCATION:Autism Society of Maryland\, 9770 Patuxent Woods Drive\, Suite 308\, Columbia\, MD\, 21046\, United States
CATEGORIES:Family Support,General Support
ATTACH;FMTTYPE=image/png:https://autismsocietymd.org/wp-content/uploads/2025/09/7.png
END:VEVENT
BEGIN:VEVENT
DTSTART;TZID=America/New_York:20260604T193000
DTEND;TZID=America/New_York:20260604T210000
DTSTAMP:20260423T185610
CREATED:20260208T212331Z
LAST-MODIFIED:20260315T181432Z
UID:10002694-1780601400-1780606800@autismsocietymd.org
SUMMARY:General Family Support Group (Virtual)
DESCRIPTION:A traditional support group for families that have a member on the Autism spectrum. FREE! ​​​​​​​​​​​​​​ \nWhether your family is new to an autism diagnosis or you’re navigating life with an autistic adult\, this group is here for parents and caregivers at every stage of the journey. Led by fellow parents\, it’s a safe\, understanding space to connect\, share\, and learn together. Held the first Thursday of every month – we hope you can join us! \n\nDATE: First Thursday of each month\nTime: 7:30–9:00 PM\nWhere: Virtual on Zoom\nCost: FREE (one-time registration required) – https://app.donorview.com/g135k \nThe Zoom Link will be sent before each meeting\n\nA one-time registration is required. If you register within 24 hours of the session\, we cannot guarantee that you’ll receive the reminder email and Zoom link. \nSponsored by the Autism Society of Maryland
URL:https://autismsocietymd.org/event/general-family-support-group-virtual-26/
LOCATION:MD
CATEGORIES:General Support
ATTACH;FMTTYPE=image/png:https://autismsocietymd.org/wp-content/uploads/2021/12/AUSOM-Family-Support-Group-Logo-10.2023.png
END:VEVENT
BEGIN:VEVENT
DTSTART;TZID=America/New_York:20260609T100000
DTEND;TZID=America/New_York:20260609T140000
DTSTAMP:20260423T185610
CREATED:20260315T182612Z
LAST-MODIFIED:20260315T182612Z
UID:10002747-1780999200-1781013600@autismsocietymd.org
SUMMARY:Conozca a nuestra Coordinadora de Recursos en español de AUSOM
DESCRIPTION:Conozca a nuestra Coordinadora de Recursos en español de AUSOM: Catalina Ramos \nEste programa será el 2do. martes\nde cada mes\, 10AM-2PM \ncatalina.ramos@autismsocietymd.org \n443-518-7681 (Directo); 443-620-8441 (Textos) \nEl Centro de Multiservicios\n9900 Washington Blvd\nN. Laurel\, MD 20723 \nThis program will be the 2nd. Tuesday of each month\, 10AM-2PM\nThe Multiservice Center 9900 Washington Blvd N. Laurel\, MD 20723
URL:https://autismsocietymd.org/event/conozca-a-nuestra-coordinadora-de-recursos-en-espanol-de-ausom-14/
LOCATION:The Multiservice Center\, 9900 Washington Blvd\, Laurel\, MD\, United States
CATEGORIES:Autism Awarenss,Espanol,General Support,Outreach
ATTACH;FMTTYPE=image/png:https://autismsocietymd.org/wp-content/uploads/2025/10/Resource-Coordinator-Office-Hours_event-calendar_1080x1080-2-1.png
END:VEVENT
BEGIN:VEVENT
DTSTART;TZID=America/New_York:20260709T193000
DTEND;TZID=America/New_York:20260709T210000
DTSTAMP:20260423T185610
CREATED:20260208T212429Z
LAST-MODIFIED:20260315T181324Z
UID:10002695-1783625400-1783630800@autismsocietymd.org
SUMMARY:General Family Support Group (Virtual)
DESCRIPTION:A traditional support group for families that have a member on the Autism spectrum. FREE! ​​​​​​​​​​​​​​ \nWhether your family is new to an autism diagnosis or you’re navigating life with an autistic adult\, this group is here for parents and caregivers at every stage of the journey. Led by fellow parents\, it’s a safe\, understanding space to connect\, share\, and learn together. Held the first Thursday of every month – we hope you can join us! \n\nDATE: First Thursday of each month\nTime: 7:30–9:00 PM\nWhere: Virtual on Zoom\nCost: FREE (one-time registration required) – https://app.donorview.com/g135k \nThe Zoom Link will be sent before each meeting\n\nA one-time registration is required. If you register within 24 hours of the session\, we cannot guarantee that you’ll receive the reminder email and Zoom link. \nSponsored by the Autism Society of Maryland
URL:https://autismsocietymd.org/event/general-family-support-group-virtual-27/
LOCATION:MD
CATEGORIES:General Support
ATTACH;FMTTYPE=image/png:https://autismsocietymd.org/wp-content/uploads/2021/12/AUSOM-Family-Support-Group-Logo-10.2023.png
END:VEVENT
BEGIN:VEVENT
DTSTART;TZID=America/New_York:20260903T193000
DTEND;TZID=America/New_York:20260903T210000
DTSTAMP:20260423T185610
CREATED:20260208T212509Z
LAST-MODIFIED:20260315T181224Z
UID:10002696-1788463800-1788469200@autismsocietymd.org
SUMMARY:General Family Support Group (Virtual)
DESCRIPTION:A traditional support group for families that have a member on the Autism spectrum. FREE! ​​​​​​​​​​​​​​ \nWhether your family is new to an autism diagnosis or you’re navigating life with an autistic adult\, this group is here for parents and caregivers at every stage of the journey. Led by fellow parents\, it’s a safe\, understanding space to connect\, share\, and learn together. Held the first Thursday of every month – we hope you can join us! \n\nDATE: First Thursday of each month\nTime: 7:30–9:00 PM\nWhere: Virtual on Zoom\nCost: FREE (one-time registration required) – https://app.donorview.com/g135k \nThe Zoom Link will be sent before each meeting\n\nA one-time registration is required. If you register within 24 hours of the session\, we cannot guarantee that you’ll receive the reminder email and Zoom link. \nSponsored by the Autism Society of Maryland
URL:https://autismsocietymd.org/event/general-family-support-group-virtual-28/
LOCATION:MD
CATEGORIES:General Support
ATTACH;FMTTYPE=image/png:https://autismsocietymd.org/wp-content/uploads/2021/12/AUSOM-Family-Support-Group-Logo-10.2023.png
END:VEVENT
BEGIN:VEVENT
DTSTART;TZID=America/New_York:20261001T193000
DTEND;TZID=America/New_York:20261001T210000
DTSTAMP:20260423T185610
CREATED:20260208T212554Z
LAST-MODIFIED:20260315T181105Z
UID:10002698-1790883000-1790888400@autismsocietymd.org
SUMMARY:General Family Support Group (Virtual)
DESCRIPTION:A traditional support group for families that have a member on the Autism spectrum. FREE! ​​​​​​​​​​​​​​ \nWhether your family is new to an autism diagnosis or you’re navigating life with an autistic adult\, this group is here for parents and caregivers at every stage of the journey. Led by fellow parents\, it’s a safe\, understanding space to connect\, share\, and learn together. Held the first Thursday of every month – we hope you can join us! \n\nDATE: First Thursday of each month\nTime: 7:30–9:00 PM\nWhere: Virtual on Zoom\nCost: FREE (one-time registration required) – https://app.donorview.com/g135k \nThe Zoom Link will be sent before each meeting\n\nA one-time registration is required. If you register within 24 hours of the session\, we cannot guarantee that you’ll receive the reminder email and Zoom link. \nSponsored by the Autism Society of Maryland
URL:https://autismsocietymd.org/event/general-family-support-group-virtual-29/
LOCATION:MD
CATEGORIES:General Support
ATTACH;FMTTYPE=image/png:https://autismsocietymd.org/wp-content/uploads/2021/12/AUSOM-Family-Support-Group-Logo-10.2023.png
END:VEVENT
BEGIN:VEVENT
DTSTART;TZID=America/New_York:20261105T193000
DTEND;TZID=America/New_York:20261105T210000
DTSTAMP:20260423T185610
CREATED:20260208T212636Z
LAST-MODIFIED:20260315T181031Z
UID:10002697-1793907000-1793912400@autismsocietymd.org
SUMMARY:General Family Support Group (Virtual)
DESCRIPTION:A traditional support group for families that have a member on the Autism spectrum. FREE! ​​​​​​​​​​​​​​ \nWhether your family is new to an autism diagnosis or you’re navigating life with an autistic adult\, this group is here for parents and caregivers at every stage of the journey. Led by fellow parents\, it’s a safe\, understanding space to connect\, share\, and learn together. Held the first Thursday of every month – we hope you can join us! \n\nDATE: First Thursday of each month\nTime: 7:30–9:00 PM\nWhere: Virtual on Zoom\nCost: FREE (one-time registration required) – https://app.donorview.com/g135k \nThe Zoom Link will be sent before each meeting\n\nA one-time registration is required. If you register within 24 hours of the session\, we cannot guarantee that you’ll receive the reminder email and Zoom link. \nSponsored by the Autism Society of Maryland
URL:https://autismsocietymd.org/event/general-family-support-group-virtual-30/
LOCATION:MD
CATEGORIES:General Support
ATTACH;FMTTYPE=image/png:https://autismsocietymd.org/wp-content/uploads/2021/12/AUSOM-Family-Support-Group-Logo-10.2023.png
END:VEVENT
BEGIN:VEVENT
DTSTART;TZID=America/New_York:20261203T193000
DTEND;TZID=America/New_York:20261203T210000
DTSTAMP:20260423T185610
CREATED:20260208T212733Z
LAST-MODIFIED:20260315T180739Z
UID:10002699-1796326200-1796331600@autismsocietymd.org
SUMMARY:General Family Support Group (Virtual)
DESCRIPTION:A traditional support group for families that have a member on the Autism spectrum. FREE! ​​​​​​​​​​​​​​ \nWhether your family is new to an autism diagnosis or you’re navigating life with an autistic adult\, this group is here for parents and caregivers at every stage of the journey. Led by fellow parents\, it’s a safe\, understanding space to connect\, share\, and learn together. Held the first Thursday of every month – we hope you can join us! \n\nDATE: First Thursday of each month\nTime: 7:30–9:00 PM\nWhere: Virtual on Zoom\nCost: FREE (one-time registration required) – https://app.donorview.com/g135k \nThe Zoom Link will be sent before each meeting\n\nA one-time registration is required. If you register within 24 hours of the session\, we cannot guarantee that you’ll receive the reminder email and Zoom link. \nSponsored by the Autism Society of Maryland
URL:https://autismsocietymd.org/event/general-family-support-group-virtual-31/
LOCATION:MD
CATEGORIES:General Support
ATTACH;FMTTYPE=image/png:https://autismsocietymd.org/wp-content/uploads/2021/12/AUSOM-Family-Support-Group-Logo-10.2023.png
END:VEVENT
END:VCALENDAR