BEGIN:VCALENDAR
VERSION:2.0
PRODID:-//Autism Society of Maryland - ECPv6.15.17.1//NONSGML v1.0//EN
CALSCALE:GREGORIAN
METHOD:PUBLISH
X-WR-CALNAME:Autism Society of Maryland
X-ORIGINAL-URL:https://autismsocietymd.org
X-WR-CALDESC:Events for Autism Society of Maryland
REFRESH-INTERVAL;VALUE=DURATION:PT1H
X-Robots-Tag:noindex
X-PUBLISHED-TTL:PT1H
BEGIN:VTIMEZONE
TZID:America/New_York
BEGIN:DAYLIGHT
TZOFFSETFROM:-0500
TZOFFSETTO:-0400
TZNAME:EDT
DTSTART:20250309T070000
END:DAYLIGHT
BEGIN:STANDARD
TZOFFSETFROM:-0400
TZOFFSETTO:-0500
TZNAME:EST
DTSTART:20251102T060000
END:STANDARD
BEGIN:DAYLIGHT
TZOFFSETFROM:-0500
TZOFFSETTO:-0400
TZNAME:EDT
DTSTART:20260308T070000
END:DAYLIGHT
BEGIN:STANDARD
TZOFFSETFROM:-0400
TZOFFSETTO:-0500
TZNAME:EST
DTSTART:20261101T060000
END:STANDARD
BEGIN:DAYLIGHT
TZOFFSETFROM:-0500
TZOFFSETTO:-0400
TZNAME:EDT
DTSTART:20270314T070000
END:DAYLIGHT
BEGIN:STANDARD
TZOFFSETFROM:-0400
TZOFFSETTO:-0500
TZNAME:EST
DTSTART:20271107T060000
END:STANDARD
END:VTIMEZONE
BEGIN:VEVENT
DTSTART;VALUE=DATE:20260202
DTEND;VALUE=DATE:20260203
DTSTAMP:20260423T142332
CREATED:20260115T230007Z
LAST-MODIFIED:20260204T152752Z
UID:10002628-1769990400-1770076799@autismsocietymd.org
SUMMARY:Howard County & Montgomery County Resource Coordinator Office Hours
DESCRIPTION:Resource Coordinator Office Hours – Howard & Montgomery Counties \nWhen: Mondays\, Wednesdays\, and Fridays (by appointment only)Where: Autism Society of Maryland Office\, Zoom or phone \nCONTACT: Sara Sommerville | sara.sommerville@autismsocietymd.org | 443-518-7680 (Direct) \nThe Autism Society of Maryland’s Resource Coordinators are available to meet with families and individuals seeking support. Office hours are held three days a week by appointment only. \nDuring your appointment\, our coordinators can: \n\nConnect you with local autism resources and services\nProvide guidance and referrals tailored to your needs\nAnswer questions and help you navigate available tools\n\nAppointments are required. Please contact us to schedule a time.
URL:https://autismsocietymd.org/event/howard-county-montgomery-county-resource-coordinator-office-hours-19/
LOCATION:Autism Society of Maryland\, 9770 Patuxent Woods Drive\, Suite 308\, Columbia\, MD\, 21046\, United States
CATEGORIES:Family Support,General Support
ATTACH;FMTTYPE=image/png:https://autismsocietymd.org/wp-content/uploads/2025/09/7.png
END:VEVENT
BEGIN:VEVENT
DTSTART;VALUE=DATE:20260204
DTEND;VALUE=DATE:20260205
DTSTAMP:20260423T142332
CREATED:20260116T011714Z
LAST-MODIFIED:20260116T011905Z
UID:10002631-1770163200-1770249599@autismsocietymd.org
SUMMARY:Anne Arundel County Resource Coordinator Office Hours
DESCRIPTION:Anne Arundel County Resource Coordinator Office Hours  \nWhen: First Wednesday of the month  \nDATES: February 4\, 2026 \nTIME: 10:00am – 1:00pm \nLOCATION: Anne Arundel County Government offices \n          1 Harry S. Truman Parkway \n          Annapolis\, MD 21401 \nPHONE:  410-290-3466×7682 \nEMAIL:  jessica.deadwyler@autismsocietymd.org \nThe Autism Society of Maryland’s Resource Coordinators are available to meet with families and individuals seeking support. Office hours are held three days a week by appointment only. \nDuring your appointment\, our coordinators can: \n\n\nConnect you with local autism resources and services \n\n\nProvide guidance and referrals tailored to your needs \n\n\nAnswer questions and help you navigate available tools
URL:https://autismsocietymd.org/event/anne-arundel-county-resource-coordinator-office-hours-3/
LOCATION:Autism Society of Maryland\, 9770 Patuxent Woods Drive\, Suite 308\, Columbia\, MD\, 21046\, United States
CATEGORIES:Family Support,General Support
ATTACH;FMTTYPE=image/png:https://autismsocietymd.org/wp-content/uploads/2026/01/Resource-Coordinator-Office-Hours_event-calendar_1080x1080-1.png
END:VEVENT
BEGIN:VEVENT
DTSTART;TZID=America/New_York:20260205T193000
DTEND;TZID=America/New_York:20260205T210000
DTSTAMP:20260423T142332
CREATED:20260116T012021Z
LAST-MODIFIED:20260116T012021Z
UID:10002632-1770319800-1770325200@autismsocietymd.org
SUMMARY:General Family Support Group (Virtual)
DESCRIPTION:​​​​​​​​​​​​​​A traditional support group for families that have a member on the Autism spectrum. FREE! A one-time registration is required at https://app.donorview.com/g135k . The login will be sent before each Zoom meeting.
URL:https://autismsocietymd.org/event/general-family-support-group-virtual-22/
LOCATION:MD
CATEGORIES:General Support
ATTACH;FMTTYPE=image/png:https://autismsocietymd.org/wp-content/uploads/2021/12/AUSOM-Family-Support-Group-Logo-10.2023.png
END:VEVENT
BEGIN:VEVENT
DTSTART;VALUE=DATE:20260209
DTEND;VALUE=DATE:20260210
DTSTAMP:20260423T142332
CREATED:20260115T230134Z
LAST-MODIFIED:20260208T193535Z
UID:10002629-1770595200-1770681599@autismsocietymd.org
SUMMARY:Howard County & Montgomery County Resource Coordinator Office Hours
DESCRIPTION:Resource Coordinator Office Hours – Howard & Montgomery Counties \nWhen: Mondays\, Wednesdays\, and Fridays (by appointment only)Where: Autism Society of Maryland Office \nCONTACT: Sara Sommerville | sara.sommerville@autismsocietymd.org | 443-518-7680 (Direct) \nThe Autism Society of Maryland’s Resource Coordinators are available to meet with families and individuals seeking support. Office hours are held three days a week by appointment only. \nDuring your appointment\, our coordinators can: \n\nConnect you with local autism resources and services\nProvide guidance and referrals tailored to your needs\nAnswer questions and help you navigate available tools\n\nAppointments are required. Please contact us to schedule a time.
URL:https://autismsocietymd.org/event/howard-county-montgomery-county-resource-coordinator-office-hours-20/
LOCATION:Autism Society of Maryland\, 9770 Patuxent Woods Drive\, Suite 308\, Columbia\, MD\, 21046\, United States
CATEGORIES:Family Support,General Support
ATTACH;FMTTYPE=image/png:https://autismsocietymd.org/wp-content/uploads/2025/09/7.png
END:VEVENT
BEGIN:VEVENT
DTSTART;TZID=America/New_York:20260210T100000
DTEND;TZID=America/New_York:20260210T140000
DTSTAMP:20260423T142332
CREATED:20251015T215242Z
LAST-MODIFIED:20260116T012849Z
UID:10002572-1770717600-1770732000@autismsocietymd.org
SUMMARY:Conozca a nuestra Coordinadora de Recursos en español de AUSOM
DESCRIPTION:Conozca a nuestra Coordinadora de Recursos en español de AUSOM: Catalina Ramos \nEste programa será el 2do. martes\nde cada mes\, 10AM-2PM \ncatalina.ramos@autismsocietymd.org \n443-518-7681 (Directo); 443-620-8441 (Textos) \nEl Centro de Multiservicios\n9900 Washington Blvd\nN. Laurel\, MD 20723 \nThis program will be the 2nd. Tuesday of each month\, 10AM-2PM\nThe Multiservice Center 9900 Washington Blvd N. Laurel\, MD 20723
URL:https://autismsocietymd.org/event/conozca-a-nuestra-coordinadora-de-recursos-en-espanol-de-ausom-10/
LOCATION:MD
CATEGORIES:Autism Awarenss,General Support,Outreach
ATTACH;FMTTYPE=image/png:https://autismsocietymd.org/wp-content/uploads/2025/10/Resource-Coordinator-Office-Hours_event-calendar_1080x1080-2-1.png
END:VEVENT
BEGIN:VEVENT
DTSTART;VALUE=DATE:20260216
DTEND;VALUE=DATE:20260217
DTSTAMP:20260423T142332
CREATED:20260116T010950Z
LAST-MODIFIED:20260116T014322Z
UID:10002630-1771200000-1771286399@autismsocietymd.org
SUMMARY:Howard County & Montgomery County Resource Coordinator Office Hours
DESCRIPTION:Resource Coordinator Office Hours – Howard & Montgomery Counties \nWhen: Mondays\, Wednesdays\, and Fridays (by appointment only)Where: Autism Society of Maryland Office \nCONTACT: Sara Sommerville | sara.sommerville@autismsocietymd.org | 443-518-7680 (Direct) \nThe Autism Society of Maryland’s Resource Coordinators are available to meet with families and individuals seeking support. Office hours are held three days a week by appointment only. \nDuring your appointment\, our coordinators can: \n\n\nConnect you with local autism resources and services \n\n\nProvide guidance and referrals tailored to your needs \n\n\nAnswer questions and help you navigate available tools \n\n\nAppointments are required. Please contact us to schedule a time.
URL:https://autismsocietymd.org/event/howard-county-montgomery-county-resource-coordinator-office-hours-21/
LOCATION:Autism Society of Maryland\, 9770 Patuxent Woods Drive\, Suite 308\, Columbia\, MD\, 21046\, United States
CATEGORIES:Family Support,General Support
ATTACH;FMTTYPE=image/png:https://autismsocietymd.org/wp-content/uploads/2025/09/7.png
END:VEVENT
BEGIN:VEVENT
DTSTART;VALUE=DATE:20260223
DTEND;VALUE=DATE:20260224
DTSTAMP:20260423T142332
CREATED:20260116T014222Z
LAST-MODIFIED:20260116T014222Z
UID:10002639-1771804800-1771891199@autismsocietymd.org
SUMMARY:Howard County & Montgomery County Resource Coordinator Office Hours
DESCRIPTION:Resource Coordinator Office Hours – Howard & Montgomery Counties \nWhen: Mondays\, Wednesdays\, and Fridays (by appointment only)Where: Autism Society of Maryland Office \nCONTACT: Sara Sommerville | sara.sommerville@autismsocietymd.org | 443-518-7680 (Direct) \nThe Autism Society of Maryland’s Resource Coordinators are available to meet with families and individuals seeking support. Office hours are held three days a week by appointment only. \nDuring your appointment\, our coordinators can: \n\n\nConnect you with local autism resources and services \n\n\nProvide guidance and referrals tailored to your needs \n\n\nAnswer questions and help you navigate available tools \n\n\nAppointments are required. Please contact us to schedule a time.
URL:https://autismsocietymd.org/event/howard-county-montgomery-county-resource-coordinator-office-hours-22/
LOCATION:Autism Society of Maryland\, 9770 Patuxent Woods Drive\, Suite 308\, Columbia\, MD\, 21046\, United States
CATEGORIES:Family Support,General Support
ATTACH;FMTTYPE=image/png:https://autismsocietymd.org/wp-content/uploads/2025/09/7.png
END:VEVENT
END:VCALENDAR