BEGIN:VCALENDAR
VERSION:2.0
PRODID:-//Autism Society of Maryland - ECPv6.15.17.1//NONSGML v1.0//EN
CALSCALE:GREGORIAN
METHOD:PUBLISH
X-ORIGINAL-URL:https://autismsocietymd.org
X-WR-CALDESC:Events for Autism Society of Maryland
REFRESH-INTERVAL;VALUE=DURATION:PT1H
X-Robots-Tag:noindex
X-PUBLISHED-TTL:PT1H
BEGIN:VTIMEZONE
TZID:America/New_York
BEGIN:DAYLIGHT
TZOFFSETFROM:-0500
TZOFFSETTO:-0400
TZNAME:EDT
DTSTART:20240310T070000
END:DAYLIGHT
BEGIN:STANDARD
TZOFFSETFROM:-0400
TZOFFSETTO:-0500
TZNAME:EST
DTSTART:20241103T060000
END:STANDARD
BEGIN:DAYLIGHT
TZOFFSETFROM:-0500
TZOFFSETTO:-0400
TZNAME:EDT
DTSTART:20250309T070000
END:DAYLIGHT
BEGIN:STANDARD
TZOFFSETFROM:-0400
TZOFFSETTO:-0500
TZNAME:EST
DTSTART:20251102T060000
END:STANDARD
BEGIN:DAYLIGHT
TZOFFSETFROM:-0500
TZOFFSETTO:-0400
TZNAME:EDT
DTSTART:20260308T070000
END:DAYLIGHT
BEGIN:STANDARD
TZOFFSETFROM:-0400
TZOFFSETTO:-0500
TZNAME:EST
DTSTART:20261101T060000
END:STANDARD
END:VTIMEZONE
BEGIN:VEVENT
DTSTART;VALUE=DATE:20251105
DTEND;VALUE=DATE:20251106
DTSTAMP:20260423T190140
CREATED:20250929T024334Z
LAST-MODIFIED:20250929T024433Z
UID:10002555-1762300800-1762387199@autismsocietymd.org
SUMMARY:Anne Arundel County Resource Coordinator Office Hours
DESCRIPTION:NEW THIS FALL! \nResource Coordinator Office Hours – Howard & Montgomery Counties \nWhen: First Wednesday of the month  \nDATES: November 5\, December 3 \nTIME: 10:00am – 1:00pm \nLOCATION: Anne Arundel County Government offices \n          1 Harry S. Truman Parkway \n          Annapolis\, MD 21401 \nPHONE:  410-290-3466×7682 \nEMAIL:  jessica.deadwyler@autismsocietymd.org \nThe Autism Society of Maryland’s Resource Coordinators are available to meet with families and individuals seeking support. Office hours are held three days a week by appointment only. \nDuring your appointment\, our coordinators can: \n\n\nConnect you with local autism resources and services \n\n\nProvide guidance and referrals tailored to your needs \n\n\nAnswer questions and help you navigate available tools
URL:https://autismsocietymd.org/event/anne-arundel-county-resource-coordinator-office-hours/
LOCATION:Autism Society of Maryland\, 9770 Patuxent Woods Drive\, Suite 308\, Columbia\, MD\, 21046\, United States
CATEGORIES:Family Support,General Support
ATTACH;FMTTYPE=image/png:https://autismsocietymd.org/wp-content/uploads/2025/09/Resource-Coordinator-Office-Hours_event-calendar_1080x1080-4.png
END:VEVENT
BEGIN:VEVENT
DTSTART;TZID=America/New_York:20251106T193000
DTEND;TZID=America/New_York:20251106T210000
DTSTAMP:20260423T190140
CREATED:20250903T170618Z
LAST-MODIFIED:20250903T170618Z
UID:10002526-1762457400-1762462800@autismsocietymd.org
SUMMARY:General Family Support Group (Virtual)
DESCRIPTION:​​​​​​​​​​​​​​A traditional support group for families that have a member on the Autism spectrum. FREE! A one-time registration is required at https://app.donorview.com/g135k . The login will be sent before each Zoom meeting.
URL:https://autismsocietymd.org/event/general-family-support-group-virtual-20/
LOCATION:MD
CATEGORIES:General Support
ATTACH;FMTTYPE=image/png:https://autismsocietymd.org/wp-content/uploads/2021/12/AUSOM-Family-Support-Group-Logo-10.2023.png
END:VEVENT
BEGIN:VEVENT
DTSTART;TZID=America/New_York:20251111T100000
DTEND;TZID=America/New_York:20251111T140000
DTSTAMP:20260423T190140
CREATED:20250929T024904Z
LAST-MODIFIED:20250929T024951Z
UID:10002556-1762855200-1762869600@autismsocietymd.org
SUMMARY:Conozca a nuestra Coordinadora de Recursos en español de AUSOM
DESCRIPTION:Conozca a nuestra Coordinadora de Recursos en español de AUSOM: Catalina Ramos \nEste programa será el 2do. martes\nde cada mes\, 10AM-2PM \ncatalina.ramos@autismsocietymd.org \n443-518-7681 (Directo); 443-620-8441 (Textos) \nEl Centro de Multiservicios\n9900 Washington Blvd\nN. Laurel\, MD 20723 \nThis program will be the 2nd. Tuesday of each month\, 10AM-2PM\nThe Multiservice Center 9900 Washington Blvd N. Laurel\, MD 20723
URL:https://autismsocietymd.org/event/conozca-a-nuestra-coordinadora-de-recursos-en-espanol-de-ausom-9/
LOCATION:MD
CATEGORIES:Autism Awarenss,General Support,Outreach
ATTACH;FMTTYPE=image/png:https://autismsocietymd.org/wp-content/uploads/2025/09/Resource-Coordinator-Office-Hours_event-calendar_1080x1080-5.png
END:VEVENT
END:VCALENDAR