BEGIN:VCALENDAR
VERSION:2.0
PRODID:-//Autism Society of Maryland - ECPv6.15.17.1//NONSGML v1.0//EN
CALSCALE:GREGORIAN
METHOD:PUBLISH
X-ORIGINAL-URL:https://autismsocietymd.org
X-WR-CALDESC:Events for Autism Society of Maryland
REFRESH-INTERVAL;VALUE=DURATION:PT1H
X-Robots-Tag:noindex
X-PUBLISHED-TTL:PT1H
BEGIN:VTIMEZONE
TZID:America/New_York
BEGIN:DAYLIGHT
TZOFFSETFROM:-0500
TZOFFSETTO:-0400
TZNAME:EDT
DTSTART:20240310T070000
END:DAYLIGHT
BEGIN:STANDARD
TZOFFSETFROM:-0400
TZOFFSETTO:-0500
TZNAME:EST
DTSTART:20241103T060000
END:STANDARD
BEGIN:DAYLIGHT
TZOFFSETFROM:-0500
TZOFFSETTO:-0400
TZNAME:EDT
DTSTART:20250309T070000
END:DAYLIGHT
BEGIN:STANDARD
TZOFFSETFROM:-0400
TZOFFSETTO:-0500
TZNAME:EST
DTSTART:20251102T060000
END:STANDARD
BEGIN:DAYLIGHT
TZOFFSETFROM:-0500
TZOFFSETTO:-0400
TZNAME:EDT
DTSTART:20260308T070000
END:DAYLIGHT
BEGIN:STANDARD
TZOFFSETFROM:-0400
TZOFFSETTO:-0500
TZNAME:EST
DTSTART:20261101T060000
END:STANDARD
END:VTIMEZONE
BEGIN:VEVENT
DTSTART;VALUE=DATE:20251202
DTEND;VALUE=DATE:20251203
DTSTAMP:20260423T234839
CREATED:20251015T220915Z
LAST-MODIFIED:20251031T230125Z
UID:10002575-1764633600-1764719999@autismsocietymd.org
SUMMARY:Giving Tuesday #GiftsofAcceptance
DESCRIPTION:Save the Date \nGIVING TUESDAY \nDecember 2\, 2025 \nYour Giving Tuesday donation to the Autism Society of Maryland (AUSOM) connects families with vital resources\, empowers self-advocates\, offers inclusive social and community events\, and provides guidance for people of all ages on the autism journey. Together\, we create opportunities\, strengthen connections\, and make sure every voice is heard. Join AUSOM on this global day of giving in our efforts to shape Maryland into a place where everyone belongs. \nAs always thank you for your continued support of our mission and organization! To donate now please CLICK HERE!
URL:https://autismsocietymd.org/event/giving-tuesday-giftsofacceptance/
CATEGORIES:Fundraiser
ATTACH;FMTTYPE=image/webp:https://autismsocietymd.org/wp-content/uploads/2025/10/GivingTuesday2024-Instagram.webp
END:VEVENT
END:VCALENDAR