BEGIN:VCALENDAR
VERSION:2.0
PRODID:-//Autism Society of Maryland - ECPv6.15.17.1//NONSGML v1.0//EN
CALSCALE:GREGORIAN
METHOD:PUBLISH
X-ORIGINAL-URL:https://autismsocietymd.org
X-WR-CALDESC:Events for Autism Society of Maryland
REFRESH-INTERVAL;VALUE=DURATION:PT1H
X-Robots-Tag:noindex
X-PUBLISHED-TTL:PT1H
BEGIN:VTIMEZONE
TZID:America/New_York
BEGIN:DAYLIGHT
TZOFFSETFROM:-0500
TZOFFSETTO:-0400
TZNAME:EDT
DTSTART:20240310T070000
END:DAYLIGHT
BEGIN:STANDARD
TZOFFSETFROM:-0400
TZOFFSETTO:-0500
TZNAME:EST
DTSTART:20241103T060000
END:STANDARD
BEGIN:DAYLIGHT
TZOFFSETFROM:-0500
TZOFFSETTO:-0400
TZNAME:EDT
DTSTART:20250309T070000
END:DAYLIGHT
BEGIN:STANDARD
TZOFFSETFROM:-0400
TZOFFSETTO:-0500
TZNAME:EST
DTSTART:20251102T060000
END:STANDARD
BEGIN:DAYLIGHT
TZOFFSETFROM:-0500
TZOFFSETTO:-0400
TZNAME:EDT
DTSTART:20260308T070000
END:DAYLIGHT
BEGIN:STANDARD
TZOFFSETFROM:-0400
TZOFFSETTO:-0500
TZNAME:EST
DTSTART:20261101T060000
END:STANDARD
END:VTIMEZONE
BEGIN:VEVENT
DTSTART;TZID=America/New_York:20251126T170000
DTEND;TZID=America/New_York:20251126T220000
DTSTAMP:20260424T051335
CREATED:20251116T154739Z
LAST-MODIFIED:20251124T172415Z
UID:10002592-1764176400-1764194400@autismsocietymd.org
SUMMARY:AUSOM BINGO FUNDRAISER
DESCRIPTION:AUSOM Weekly Bingo Fundraiser – November 26\nJoin us as we kick off our new weekly bingo fundraiser supporting the Autism Society of Maryland. Enjoy an easy\, welcoming evening of games\, prizes\, and community connection.Time: 5:00–10:00 PM \n\n5:00 PM – Doors Open\n6:30 PM – Early Bird\n7:00 PM – Regular Game\n\nLocation: Ridgley’s Run Community Center\, 8400 Mission Road\, Jessup\, MD \nAGE: All participants must be 18 years or older \nCOST: \n\nBingo cards:  Start at $17 for 12 cards\nPull Tabs: $1.00\n\nFOOD & DRINKS:  \nPizza\, chips\, beverages\, and pulled chicken sandwiches\, will be available for purchase. \nWhether you’re a seasoned bingo player or a first-timer\, everyone is welcome! All proceeds directly support our programs\, helping us continue\nBring your friends\, family\, and your best bingo luck—together\, we can make a meaningful impact while having a great time.\nWe can’t wait to see you there!
URL:https://autismsocietymd.org/event/ausom-bingo-fundraiser/
LOCATION:Ridgley’s Run Community Center\, 8400 Mission Road\, Jessup\, 20701\, United States
CATEGORIES:Fundraiser,Support AUSOM!
ATTACH;FMTTYPE=image/webp:https://autismsocietymd.org/wp-content/uploads/2025/11/1.webp
END:VEVENT
END:VCALENDAR