BEGIN:VCALENDAR
VERSION:2.0
PRODID:-//Autism Society of Maryland - ECPv6.15.17.1//NONSGML v1.0//EN
CALSCALE:GREGORIAN
METHOD:PUBLISH
X-ORIGINAL-URL:https://autismsocietymd.org
X-WR-CALDESC:Events for Autism Society of Maryland
REFRESH-INTERVAL;VALUE=DURATION:PT1H
X-Robots-Tag:noindex
X-PUBLISHED-TTL:PT1H
BEGIN:VTIMEZONE
TZID:America/New_York
BEGIN:DAYLIGHT
TZOFFSETFROM:-0500
TZOFFSETTO:-0400
TZNAME:EDT
DTSTART:20250309T070000
END:DAYLIGHT
BEGIN:STANDARD
TZOFFSETFROM:-0400
TZOFFSETTO:-0500
TZNAME:EST
DTSTART:20251102T060000
END:STANDARD
BEGIN:DAYLIGHT
TZOFFSETFROM:-0500
TZOFFSETTO:-0400
TZNAME:EDT
DTSTART:20260308T070000
END:DAYLIGHT
BEGIN:STANDARD
TZOFFSETFROM:-0400
TZOFFSETTO:-0500
TZNAME:EST
DTSTART:20261101T060000
END:STANDARD
BEGIN:DAYLIGHT
TZOFFSETFROM:-0500
TZOFFSETTO:-0400
TZNAME:EDT
DTSTART:20270314T070000
END:DAYLIGHT
BEGIN:STANDARD
TZOFFSETFROM:-0400
TZOFFSETTO:-0500
TZNAME:EST
DTSTART:20271107T060000
END:STANDARD
END:VTIMEZONE
BEGIN:VEVENT
DTSTART;TZID=America/New_York:20260315T120000
DTEND;TZID=America/New_York:20260315T170000
DTSTAMP:20260423T160822
CREATED:20260307T162609Z
LAST-MODIFIED:20260307T164552Z
UID:10002704-1773576000-1773594000@autismsocietymd.org
SUMMARY:SUPER BINGO
DESCRIPTION:Join us for AUSOM Super Bingo and try your luck while supporting the mission of the Autism Society of Maryland. \nDate: Sunday\, March 15\, 2026Time: Doors open at 12:00 PM; Bingo begins at 1:30 PMLocation: Ridgley’s Run Community Center\, 8400 Mission Road\, Jessup\, MDTickets: $50 per person (includes 12 Bingo cards\, 3 specialty games\, light bites\, and 1 beverage)Age Requirement: 18 and older \nPurchase Tickets: https://app.dvforms.net/api/dv/7pdlr5 \nAdditional pull tabs and game cards will be available for purchase. Cash prizes and a $500 jackpot will be awarded. Space is limited\, so purchase your tickets online.
URL:https://autismsocietymd.org/event/super-bingo/
LOCATION:Ridgley’s Run Community Center\, 8400 Mission Road\, Jessup\, 20701\, United States
CATEGORIES:Fundraiser
ATTACH;FMTTYPE=image/png:https://autismsocietymd.org/wp-content/uploads/2026/03/AUSOM-Lucky-Super-BINGO-1080-x-1080-2.png
END:VEVENT
END:VCALENDAR