BEGIN:VCALENDAR
VERSION:2.0
PRODID:-//Autism Society of Maryland - ECPv6.15.17.1//NONSGML v1.0//EN
CALSCALE:GREGORIAN
METHOD:PUBLISH
X-ORIGINAL-URL:https://autismsocietymd.org
X-WR-CALDESC:Events for Autism Society of Maryland
REFRESH-INTERVAL;VALUE=DURATION:PT1H
X-Robots-Tag:noindex
X-PUBLISHED-TTL:PT1H
BEGIN:VTIMEZONE
TZID:America/New_York
BEGIN:DAYLIGHT
TZOFFSETFROM:-0500
TZOFFSETTO:-0400
TZNAME:EDT
DTSTART:20240310T070000
END:DAYLIGHT
BEGIN:STANDARD
TZOFFSETFROM:-0400
TZOFFSETTO:-0500
TZNAME:EST
DTSTART:20241103T060000
END:STANDARD
BEGIN:DAYLIGHT
TZOFFSETFROM:-0500
TZOFFSETTO:-0400
TZNAME:EDT
DTSTART:20250309T070000
END:DAYLIGHT
BEGIN:STANDARD
TZOFFSETFROM:-0400
TZOFFSETTO:-0500
TZNAME:EST
DTSTART:20251102T060000
END:STANDARD
BEGIN:DAYLIGHT
TZOFFSETFROM:-0500
TZOFFSETTO:-0400
TZNAME:EDT
DTSTART:20260308T070000
END:DAYLIGHT
BEGIN:STANDARD
TZOFFSETFROM:-0400
TZOFFSETTO:-0500
TZNAME:EST
DTSTART:20261101T060000
END:STANDARD
BEGIN:DAYLIGHT
TZOFFSETFROM:-0500
TZOFFSETTO:-0400
TZNAME:EDT
DTSTART:20270314T070000
END:DAYLIGHT
BEGIN:STANDARD
TZOFFSETFROM:-0400
TZOFFSETTO:-0500
TZNAME:EST
DTSTART:20271107T060000
END:STANDARD
END:VTIMEZONE
BEGIN:VEVENT
DTSTART;TZID=America/New_York:20260207T153000
DTEND;TZID=America/New_York:20260207T163000
DTSTAMP:20260424T230757
CREATED:20260116T012348Z
LAST-MODIFIED:20260116T012348Z
UID:10002633-1770478200-1770481800@autismsocietymd.org
SUMMARY:Yoga Connections - Virtual
DESCRIPTION:Virtual by Zoom Every Saturday 3:30-4:30PM ​​​​​​​ \nAll ages welcome! Made possible through a grant from The Hussman Foundation.  \nComplete a one-time registration at https://app.donorview.com/m4ykx to receive the weekly Zoom link by email
URL:https://autismsocietymd.org/event/yoga-connections-virtual-71/
LOCATION:MD
CATEGORIES:Fitness
ATTACH;FMTTYPE=image/png:https://autismsocietymd.org/wp-content/uploads/2024/05/YOGA-for-children-teens-adults.png
END:VEVENT
BEGIN:VEVENT
DTSTART;TZID=America/New_York:20260131T153000
DTEND;TZID=America/New_York:20260131T163000
DTSTAMP:20260424T230757
CREATED:20251218T012555Z
LAST-MODIFIED:20251218T012555Z
UID:10002607-1769873400-1769877000@autismsocietymd.org
SUMMARY:Yoga Connections - Virtual
DESCRIPTION:Virtual by Zoom Every Saturday 3:30-4:30PM ​​​​​​​ \nAll ages welcome! Made possible through a grant from The Hussman Foundation.  \nComplete a one-time registration at https://app.donorview.com/m4ykx to receive the weekly Zoom link by email
URL:https://autismsocietymd.org/event/yoga-connections-virtual-70/
LOCATION:MD
CATEGORIES:Fitness
ATTACH;FMTTYPE=image/png:https://autismsocietymd.org/wp-content/uploads/2024/05/YOGA-for-children-teens-adults.png
END:VEVENT
BEGIN:VEVENT
DTSTART;TZID=America/New_York:20260124T153000
DTEND;TZID=America/New_York:20260124T163000
DTSTAMP:20260424T230757
CREATED:20251218T012512Z
LAST-MODIFIED:20251218T012512Z
UID:10002606-1769268600-1769272200@autismsocietymd.org
SUMMARY:Yoga Connections - Virtual
DESCRIPTION:Virtual by Zoom Every Saturday 3:30-4:30PM ​​​​​​​ \nAll ages welcome! Made possible through a grant from The Hussman Foundation.  \nComplete a one-time registration at https://app.donorview.com/m4ykx to receive the weekly Zoom link by email
URL:https://autismsocietymd.org/event/yoga-connections-virtual-69/
LOCATION:MD
CATEGORIES:Fitness
ATTACH;FMTTYPE=image/png:https://autismsocietymd.org/wp-content/uploads/2024/05/YOGA-for-children-teens-adults.png
END:VEVENT
BEGIN:VEVENT
DTSTART;TZID=America/New_York:20260117T153000
DTEND;TZID=America/New_York:20260117T163000
DTSTAMP:20260424T230757
CREATED:20251218T012411Z
LAST-MODIFIED:20251218T012411Z
UID:10002605-1768663800-1768667400@autismsocietymd.org
SUMMARY:Yoga Connections - Virtual
DESCRIPTION:Virtual by Zoom Every Saturday 3:30-4:30PM ​​​​​​​ \nAll ages welcome! Made possible through a grant from The Hussman Foundation.  \nComplete a one-time registration at https://app.donorview.com/m4ykx to receive the weekly Zoom link by email
URL:https://autismsocietymd.org/event/yoga-connections-virtual-68/
LOCATION:MD
CATEGORIES:Fitness
ATTACH;FMTTYPE=image/png:https://autismsocietymd.org/wp-content/uploads/2024/05/YOGA-for-children-teens-adults.png
END:VEVENT
BEGIN:VEVENT
DTSTART;TZID=America/New_York:20260110T153000
DTEND;TZID=America/New_York:20260110T163000
DTSTAMP:20260424T230757
CREATED:20251218T012241Z
LAST-MODIFIED:20251218T012241Z
UID:10002604-1768059000-1768062600@autismsocietymd.org
SUMMARY:Yoga Connections - Virtual
DESCRIPTION:Virtual by Zoom Every Saturday 3:30-4:30PM ​​​​​​​ \nAll ages welcome! Made possible through a grant from The Hussman Foundation.  \nComplete a one-time registration at https://app.donorview.com/m4ykx to receive the weekly Zoom link by email
URL:https://autismsocietymd.org/event/yoga-connections-virtual-67/
LOCATION:MD
CATEGORIES:Fitness
ATTACH;FMTTYPE=image/png:https://autismsocietymd.org/wp-content/uploads/2024/05/YOGA-for-children-teens-adults.png
END:VEVENT
BEGIN:VEVENT
DTSTART;TZID=America/New_York:20260103T153000
DTEND;TZID=America/New_York:20260103T163000
DTSTAMP:20260424T230757
CREATED:20251218T012135Z
LAST-MODIFIED:20251218T012135Z
UID:10002603-1767454200-1767457800@autismsocietymd.org
SUMMARY:Yoga Connections - Virtual
DESCRIPTION:Virtual by Zoom Every Saturday 3:30-4:30PM ​​​​​​​ \nAll ages welcome! Made possible through a grant from The Hussman Foundation.  \nComplete a one-time registration at https://app.donorview.com/m4ykx to receive the weekly Zoom link by email
URL:https://autismsocietymd.org/event/yoga-connections-virtual-66/
LOCATION:MD
CATEGORIES:Fitness
ATTACH;FMTTYPE=image/png:https://autismsocietymd.org/wp-content/uploads/2024/05/YOGA-for-children-teens-adults.png
END:VEVENT
BEGIN:VEVENT
DTSTART;TZID=America/New_York:20251227T153000
DTEND;TZID=America/New_York:20251227T163000
DTSTAMP:20260424T230757
CREATED:20251016T202434Z
LAST-MODIFIED:20251016T202434Z
UID:10002587-1766849400-1766853000@autismsocietymd.org
SUMMARY:Yoga Connections - Virtual
DESCRIPTION:Virtual by Zoom Every Saturday 3:30-4:30PM ​​​​​​​ \nAll ages welcome! Made possible through a grant from The Hussman Foundation.  \nComplete a one-time registration at https://app.donorview.com/m4ykx to receive the weekly Zoom link by email
URL:https://autismsocietymd.org/event/yoga-connections-virtual-65/
LOCATION:MD
CATEGORIES:Fitness
ATTACH;FMTTYPE=image/png:https://autismsocietymd.org/wp-content/uploads/2024/05/YOGA-for-children-teens-adults.png
END:VEVENT
BEGIN:VEVENT
DTSTART;TZID=America/New_York:20251220T153000
DTEND;TZID=America/New_York:20251220T163000
DTSTAMP:20260424T230757
CREATED:20251016T202330Z
LAST-MODIFIED:20251016T202330Z
UID:10002586-1766244600-1766248200@autismsocietymd.org
SUMMARY:Yoga Connections - Virtual
DESCRIPTION:Virtual by Zoom Every Saturday 3:30-4:30PM ​​​​​​​ \nAll ages welcome! Made possible through a grant from The Hussman Foundation.  \nComplete a one-time registration at https://app.donorview.com/m4ykx to receive the weekly Zoom link by email
URL:https://autismsocietymd.org/event/yoga-connections-virtual-64/
LOCATION:MD
CATEGORIES:Fitness
ATTACH;FMTTYPE=image/png:https://autismsocietymd.org/wp-content/uploads/2024/05/YOGA-for-children-teens-adults.png
END:VEVENT
BEGIN:VEVENT
DTSTART;TZID=America/New_York:20251213T153000
DTEND;TZID=America/New_York:20251213T163000
DTSTAMP:20260424T230757
CREATED:20251016T202307Z
LAST-MODIFIED:20251016T202307Z
UID:10002585-1765639800-1765643400@autismsocietymd.org
SUMMARY:Yoga Connections - Virtual
DESCRIPTION:Virtual by Zoom Every Saturday 3:30-4:30PM ​​​​​​​ \nAll ages welcome! Made possible through a grant from The Hussman Foundation.  \nComplete a one-time registration at https://app.donorview.com/m4ykx to receive the weekly Zoom link by email
URL:https://autismsocietymd.org/event/yoga-connections-virtual-63/
LOCATION:MD
CATEGORIES:Fitness
ATTACH;FMTTYPE=image/png:https://autismsocietymd.org/wp-content/uploads/2024/05/YOGA-for-children-teens-adults.png
END:VEVENT
BEGIN:VEVENT
DTSTART;TZID=America/New_York:20251206T153000
DTEND;TZID=America/New_York:20251206T163000
DTSTAMP:20260424T230757
CREATED:20251016T202245Z
LAST-MODIFIED:20251016T202245Z
UID:10002584-1765035000-1765038600@autismsocietymd.org
SUMMARY:Yoga Connections - Virtual
DESCRIPTION:Virtual by Zoom Every Saturday 3:30-4:30PM ​​​​​​​ \nAll ages welcome! Made possible through a grant from The Hussman Foundation.  \nComplete a one-time registration at https://app.donorview.com/m4ykx to receive the weekly Zoom link by email
URL:https://autismsocietymd.org/event/yoga-connections-virtual-62/
LOCATION:MD
CATEGORIES:Fitness
ATTACH;FMTTYPE=image/png:https://autismsocietymd.org/wp-content/uploads/2024/05/YOGA-for-children-teens-adults.png
END:VEVENT
BEGIN:VEVENT
DTSTART;TZID=America/New_York:20251129T153000
DTEND;TZID=America/New_York:20251129T163000
DTSTAMP:20260424T230757
CREATED:20251016T202124Z
LAST-MODIFIED:20251016T202200Z
UID:10002583-1764430200-1764433800@autismsocietymd.org
SUMMARY:Yoga Connections - Virtual
DESCRIPTION:Virtual by Zoom Every Saturday 3:30-4:30PM ​​​​​​​ \nAll ages welcome! Made possible through a grant from The Hussman Foundation.  \nComplete a one-time registration at https://app.donorview.com/m4ykx to receive the weekly Zoom link by email
URL:https://autismsocietymd.org/event/yoga-connections-virtual-61/
LOCATION:MD
CATEGORIES:Fitness
ATTACH;FMTTYPE=image/png:https://autismsocietymd.org/wp-content/uploads/2024/05/YOGA-for-children-teens-adults.png
END:VEVENT
BEGIN:VEVENT
DTSTART;TZID=America/New_York:20251122T153000
DTEND;TZID=America/New_York:20251122T163000
DTSTAMP:20260424T230757
CREATED:20251016T202102Z
LAST-MODIFIED:20251016T202102Z
UID:10002582-1763825400-1763829000@autismsocietymd.org
SUMMARY:Yoga Connections - Virtual
DESCRIPTION:Virtual by Zoom Every Saturday 3:30-4:30PM ​​​​​​​ \nAll ages welcome! Made possible through a grant from The Hussman Foundation.  \nComplete a one-time registration at https://app.donorview.com/m4ykx to receive the weekly Zoom link by email
URL:https://autismsocietymd.org/event/yoga-connections-virtual-60/
LOCATION:MD
CATEGORIES:Fitness
ATTACH;FMTTYPE=image/png:https://autismsocietymd.org/wp-content/uploads/2024/05/YOGA-for-children-teens-adults.png
END:VEVENT
BEGIN:VEVENT
DTSTART;TZID=America/New_York:20251115T153000
DTEND;TZID=America/New_York:20251115T163000
DTSTAMP:20260424T230757
CREATED:20251016T202031Z
LAST-MODIFIED:20251016T202031Z
UID:10002581-1763220600-1763224200@autismsocietymd.org
SUMMARY:Yoga Connections - Virtual
DESCRIPTION:Virtual by Zoom Every Saturday 3:30-4:30PM ​​​​​​​ \nAll ages welcome! Made possible through a grant from The Hussman Foundation.  \nComplete a one-time registration at https://app.donorview.com/m4ykx to receive the weekly Zoom link by email
URL:https://autismsocietymd.org/event/yoga-connections-virtual-59/
LOCATION:MD
CATEGORIES:Fitness
ATTACH;FMTTYPE=image/png:https://autismsocietymd.org/wp-content/uploads/2024/05/YOGA-for-children-teens-adults.png
END:VEVENT
BEGIN:VEVENT
DTSTART;TZID=America/New_York:20251108T153000
DTEND;TZID=America/New_York:20251108T163000
DTSTAMP:20260424T230757
CREATED:20251016T201957Z
LAST-MODIFIED:20251016T201957Z
UID:10002580-1762615800-1762619400@autismsocietymd.org
SUMMARY:Yoga Connections - Virtual
DESCRIPTION:Virtual by Zoom Every Saturday 3:30-4:30PM ​​​​​​​ \nAll ages welcome! Made possible through a grant from The Hussman Foundation.  \nComplete a one-time registration at https://app.donorview.com/m4ykx to receive the weekly Zoom link by email
URL:https://autismsocietymd.org/event/yoga-connections-virtual-58/
LOCATION:MD
CATEGORIES:Fitness
ATTACH;FMTTYPE=image/png:https://autismsocietymd.org/wp-content/uploads/2024/05/YOGA-for-children-teens-adults.png
END:VEVENT
BEGIN:VEVENT
DTSTART;TZID=America/New_York:20251101T153000
DTEND;TZID=America/New_York:20251101T163000
DTSTAMP:20260424T230757
CREATED:20251016T201851Z
LAST-MODIFIED:20251016T201851Z
UID:10002579-1762011000-1762014600@autismsocietymd.org
SUMMARY:Yoga Connections - Virtual
DESCRIPTION:Virtual by Zoom Every Saturday 3:30-4:30PM ​​​​​​​ \nAll ages welcome! Made possible through a grant from The Hussman Foundation.  \nComplete a one-time registration at https://app.donorview.com/m4ykx to receive the weekly Zoom link by email
URL:https://autismsocietymd.org/event/yoga-connections-virtual-57/
LOCATION:MD
CATEGORIES:Fitness
ATTACH;FMTTYPE=image/png:https://autismsocietymd.org/wp-content/uploads/2024/05/YOGA-for-children-teens-adults.png
END:VEVENT
BEGIN:VEVENT
DTSTART;TZID=America/New_York:20251025T153000
DTEND;TZID=America/New_York:20251025T163000
DTSTAMP:20260424T230757
CREATED:20251016T201811Z
LAST-MODIFIED:20251016T201811Z
UID:10002578-1761406200-1761409800@autismsocietymd.org
SUMMARY:Yoga Connections - Virtual
DESCRIPTION:Virtual by Zoom Every Saturday 3:30-4:30PM ​​​​​​​ \nAll ages welcome! Made possible through a grant from The Hussman Foundation.  \nComplete a one-time registration at https://app.donorview.com/m4ykx to receive the weekly Zoom link by email
URL:https://autismsocietymd.org/event/yoga-connections-virtual-56/
LOCATION:MD
CATEGORIES:Fitness
ATTACH;FMTTYPE=image/png:https://autismsocietymd.org/wp-content/uploads/2024/05/YOGA-for-children-teens-adults.png
END:VEVENT
BEGIN:VEVENT
DTSTART;TZID=America/New_York:20251018T153000
DTEND;TZID=America/New_York:20251018T163000
DTSTAMP:20260424T230757
CREATED:20251016T201733Z
LAST-MODIFIED:20251016T201733Z
UID:10002577-1760801400-1760805000@autismsocietymd.org
SUMMARY:Yoga Connections - Virtual
DESCRIPTION:Virtual by Zoom Every Saturday 3:30-4:30PM ​​​​​​​ \nAll ages welcome! Made possible through a grant from The Hussman Foundation.  \nComplete a one-time registration at https://app.donorview.com/m4ykx to receive the weekly Zoom link by email
URL:https://autismsocietymd.org/event/yoga-connections-virtual-55/
LOCATION:MD
CATEGORIES:Fitness
ATTACH;FMTTYPE=image/png:https://autismsocietymd.org/wp-content/uploads/2024/05/YOGA-for-children-teens-adults.png
END:VEVENT
BEGIN:VEVENT
DTSTART;TZID=America/New_York:20250628T153000
DTEND;TZID=America/New_York:20250628T163000
DTSTAMP:20260424T230757
CREATED:20250321T022805Z
LAST-MODIFIED:20250321T022805Z
UID:10002485-1751124600-1751128200@autismsocietymd.org
SUMMARY:Yoga Connections - Virtual
DESCRIPTION:Virtual by Zoom Every Saturday 3:30-4:30PM ​​​​​​​ \nAll ages welcome! Made possible through a grant from The Hussman Foundation.  \nComplete a one-time registration at https://app.donorview.com/m4ykx to receive the weekly Zoom link by email
URL:https://autismsocietymd.org/event/yoga-connections-virtual-54/
LOCATION:MD
CATEGORIES:Fitness
ATTACH;FMTTYPE=image/png:https://autismsocietymd.org/wp-content/uploads/2024/05/YOGA-for-children-teens-adults.png
END:VEVENT
BEGIN:VEVENT
DTSTART;TZID=America/New_York:20250621T153000
DTEND;TZID=America/New_York:20250621T163000
DTSTAMP:20260424T230757
CREATED:20250321T022551Z
LAST-MODIFIED:20250601T233659Z
UID:10002484-1750519800-1750523400@autismsocietymd.org
SUMMARY:Yoga Connections - Virtual
DESCRIPTION:Virtual by Zoom Every Saturday 3:30-4:30PM ​​​​​​​ \nAll ages welcome! Made possible through a grant from The Hussman Foundation.  \nComplete a one-time registration at https://app.donorview.com/m4ykx to receive the weekly Zoom link by email
URL:https://autismsocietymd.org/event/yoga-connections-virtual-53/
LOCATION:MD
CATEGORIES:Fitness
ATTACH;FMTTYPE=image/png:https://autismsocietymd.org/wp-content/uploads/2024/05/YOGA-for-children-teens-adults.png
END:VEVENT
BEGIN:VEVENT
DTSTART;TZID=America/New_York:20250614T153000
DTEND;TZID=America/New_York:20250614T163000
DTSTAMP:20260424T230757
CREATED:20250321T022509Z
LAST-MODIFIED:20250321T022509Z
UID:10002483-1749915000-1749918600@autismsocietymd.org
SUMMARY:Yoga Connections - Virtual
DESCRIPTION:Virtual by Zoom Every Saturday 3:30-4:30PM ​​​​​​​ \nAll ages welcome! Made possible through a grant from The Hussman Foundation.  \nComplete a one-time registration at https://app.donorview.com/m4ykx to receive the weekly Zoom link by email
URL:https://autismsocietymd.org/event/yoga-connections-virtual-52/
LOCATION:MD
CATEGORIES:Fitness
ATTACH;FMTTYPE=image/png:https://autismsocietymd.org/wp-content/uploads/2024/05/YOGA-for-children-teens-adults.png
END:VEVENT
BEGIN:VEVENT
DTSTART;TZID=America/New_York:20250607T153000
DTEND;TZID=America/New_York:20250607T163000
DTSTAMP:20260424T230757
CREATED:20250321T022431Z
LAST-MODIFIED:20250321T022431Z
UID:10002482-1749310200-1749313800@autismsocietymd.org
SUMMARY:Yoga Connections - Virtual
DESCRIPTION:Virtual by Zoom Every Saturday 3:30-4:30PM ​​​​​​​ \nAll ages welcome! Made possible through a grant from The Hussman Foundation.  \nComplete a one-time registration at https://app.donorview.com/m4ykx to receive the weekly Zoom link by email
URL:https://autismsocietymd.org/event/yoga-connections-virtual-51/
LOCATION:MD
CATEGORIES:Fitness
ATTACH;FMTTYPE=image/png:https://autismsocietymd.org/wp-content/uploads/2024/05/YOGA-for-children-teens-adults.png
END:VEVENT
BEGIN:VEVENT
DTSTART;TZID=America/New_York:20250531T153000
DTEND;TZID=America/New_York:20250531T163000
DTSTAMP:20260424T230757
CREATED:20250321T020053Z
LAST-MODIFIED:20250321T020053Z
UID:10002477-1748705400-1748709000@autismsocietymd.org
SUMMARY:Yoga Connections - Virtual
DESCRIPTION:Virtual by Zoom Every Saturday 3:30-4:30PM ​​​​​​​ \nAll ages welcome! Made possible through a grant from The Hussman Foundation.  \nComplete a one-time registration at https://app.donorview.com/m4ykx to receive the weekly Zoom link by email
URL:https://autismsocietymd.org/event/yoga-connections-virtual-50/
LOCATION:MD
CATEGORIES:Fitness
ATTACH;FMTTYPE=image/png:https://autismsocietymd.org/wp-content/uploads/2024/05/YOGA-for-children-teens-adults.png
END:VEVENT
BEGIN:VEVENT
DTSTART;TZID=America/New_York:20250524T153000
DTEND;TZID=America/New_York:20250524T163000
DTSTAMP:20260424T230757
CREATED:20250321T020021Z
LAST-MODIFIED:20250321T020021Z
UID:10002476-1748100600-1748104200@autismsocietymd.org
SUMMARY:Yoga Connections - Virtual
DESCRIPTION:Virtual by Zoom Every Saturday 3:30-4:30PM ​​​​​​​ \nAll ages welcome! Made possible through a grant from The Hussman Foundation.  \nComplete a one-time registration at https://app.donorview.com/m4ykx to receive the weekly Zoom link by email
URL:https://autismsocietymd.org/event/yoga-connections-virtual-49/
LOCATION:MD
CATEGORIES:Fitness
ATTACH;FMTTYPE=image/png:https://autismsocietymd.org/wp-content/uploads/2024/05/YOGA-for-children-teens-adults.png
END:VEVENT
BEGIN:VEVENT
DTSTART;TZID=America/New_York:20250517T153000
DTEND;TZID=America/New_York:20250517T163000
DTSTAMP:20260424T230757
CREATED:20250321T015956Z
LAST-MODIFIED:20250321T015956Z
UID:10002475-1747495800-1747499400@autismsocietymd.org
SUMMARY:Yoga Connections - Virtual
DESCRIPTION:Virtual by Zoom Every Saturday 3:30-4:30PM ​​​​​​​ \nAll ages welcome! Made possible through a grant from The Hussman Foundation.  \nComplete a one-time registration at https://app.donorview.com/m4ykx to receive the weekly Zoom link by email
URL:https://autismsocietymd.org/event/yoga-connections-virtual-48/
LOCATION:MD
CATEGORIES:Fitness
ATTACH;FMTTYPE=image/png:https://autismsocietymd.org/wp-content/uploads/2024/05/YOGA-for-children-teens-adults.png
END:VEVENT
BEGIN:VEVENT
DTSTART;TZID=America/New_York:20250510T153000
DTEND;TZID=America/New_York:20250510T163000
DTSTAMP:20260424T230757
CREATED:20250321T015933Z
LAST-MODIFIED:20250321T015933Z
UID:10002474-1746891000-1746894600@autismsocietymd.org
SUMMARY:Yoga Connections - Virtual
DESCRIPTION:Virtual by Zoom Every Saturday 3:30-4:30PM ​​​​​​​ \nAll ages welcome! Made possible through a grant from The Hussman Foundation.  \nComplete a one-time registration at https://app.donorview.com/m4ykx to receive the weekly Zoom link by email
URL:https://autismsocietymd.org/event/yoga-connections-virtual-47/
LOCATION:MD
CATEGORIES:Fitness
ATTACH;FMTTYPE=image/png:https://autismsocietymd.org/wp-content/uploads/2024/05/YOGA-for-children-teens-adults.png
END:VEVENT
BEGIN:VEVENT
DTSTART;TZID=America/New_York:20250503T153000
DTEND;TZID=America/New_York:20250503T163000
DTSTAMP:20260424T230757
CREATED:20250321T015852Z
LAST-MODIFIED:20250321T015852Z
UID:10002473-1746286200-1746289800@autismsocietymd.org
SUMMARY:Yoga Connections - Virtual
DESCRIPTION:Virtual by Zoom Every Saturday 3:30-4:30PM ​​​​​​​ \nAll ages welcome! Made possible through a grant from The Hussman Foundation.  \nComplete a one-time registration at https://app.donorview.com/m4ykx to receive the weekly Zoom link by email
URL:https://autismsocietymd.org/event/yoga-connections-virtual-46/
LOCATION:MD
CATEGORIES:Fitness
ATTACH;FMTTYPE=image/png:https://autismsocietymd.org/wp-content/uploads/2024/05/YOGA-for-children-teens-adults.png
END:VEVENT
BEGIN:VEVENT
DTSTART;TZID=America/New_York:20250426T153000
DTEND;TZID=America/New_York:20250426T163000
DTSTAMP:20260424T230757
CREATED:20250321T014729Z
LAST-MODIFIED:20250321T014729Z
UID:10002471-1745681400-1745685000@autismsocietymd.org
SUMMARY:Yoga Connections - Virtual
DESCRIPTION:Virtual by Zoom Every Saturday 3:30-4:30PM ​​​​​​​ \nAll ages welcome! Made possible through a grant from The Hussman Foundation.  \nComplete a one-time registration at https://app.donorview.com/m4ykx to receive the weekly Zoom link by email
URL:https://autismsocietymd.org/event/yoga-connections-virtual-45/
LOCATION:MD
CATEGORIES:Fitness
ATTACH;FMTTYPE=image/png:https://autismsocietymd.org/wp-content/uploads/2024/05/YOGA-for-children-teens-adults.png
END:VEVENT
BEGIN:VEVENT
DTSTART;TZID=America/New_York:20250419T153000
DTEND;TZID=America/New_York:20250419T163000
DTSTAMP:20260424T230757
CREATED:20250321T014635Z
LAST-MODIFIED:20250321T014708Z
UID:10002470-1745076600-1745080200@autismsocietymd.org
SUMMARY:Yoga Connections - Virtual
DESCRIPTION:Virtual by Zoom Every Saturday 3:30-4:30PM ​​​​​​​ \nAll ages welcome! Made possible through a grant from The Hussman Foundation.  \nComplete a one-time registration at https://app.donorview.com/m4ykx to receive the weekly Zoom link by email
URL:https://autismsocietymd.org/event/yoga-connections-virtual-44/
LOCATION:MD
CATEGORIES:Fitness
ATTACH;FMTTYPE=image/png:https://autismsocietymd.org/wp-content/uploads/2024/05/YOGA-for-children-teens-adults.png
END:VEVENT
BEGIN:VEVENT
DTSTART;TZID=America/New_York:20250412T153000
DTEND;TZID=America/New_York:20250412T163000
DTSTAMP:20260424T230757
CREATED:20250321T014604Z
LAST-MODIFIED:20250321T014605Z
UID:10002469-1744471800-1744475400@autismsocietymd.org
SUMMARY:Yoga Connections - Virtual
DESCRIPTION:Virtual by Zoom Every Saturday 3:30-4:30PM ​​​​​​​ \nAll ages welcome! Made possible through a grant from The Hussman Foundation.  \nComplete a one-time registration at https://app.donorview.com/m4ykx to receive the weekly Zoom link by email
URL:https://autismsocietymd.org/event/yoga-connections-virtual-43/
LOCATION:MD
CATEGORIES:Fitness
ATTACH;FMTTYPE=image/png:https://autismsocietymd.org/wp-content/uploads/2024/05/YOGA-for-children-teens-adults.png
END:VEVENT
BEGIN:VEVENT
DTSTART;TZID=America/New_York:20250405T153000
DTEND;TZID=America/New_York:20250405T163000
DTSTAMP:20260424T230757
CREATED:20250321T013643Z
LAST-MODIFIED:20250321T013643Z
UID:10002467-1743867000-1743870600@autismsocietymd.org
SUMMARY:Yoga Connections - Virtual
DESCRIPTION:Virtual by Zoom Every Saturday 3:30-4:30PM ​​​​​​​ \nAll ages welcome! Made possible through a grant from The Hussman Foundation.  \nComplete a one-time registration at https://app.donorview.com/m4ykx to receive the weekly Zoom link by email
URL:https://autismsocietymd.org/event/yoga-connections-virtual-42/
LOCATION:MD
CATEGORIES:Fitness
ATTACH;FMTTYPE=image/png:https://autismsocietymd.org/wp-content/uploads/2024/05/YOGA-for-children-teens-adults.png
END:VEVENT
END:VCALENDAR