BEGIN:VCALENDAR
VERSION:2.0
PRODID:-//Autism Society of Maryland - ECPv6.15.17.1//NONSGML v1.0//EN
CALSCALE:GREGORIAN
METHOD:PUBLISH
X-ORIGINAL-URL:https://autismsocietymd.org
X-WR-CALDESC:Events for Autism Society of Maryland
REFRESH-INTERVAL;VALUE=DURATION:PT1H
X-Robots-Tag:noindex
X-PUBLISHED-TTL:PT1H
BEGIN:VTIMEZONE
TZID:America/New_York
BEGIN:DAYLIGHT
TZOFFSETFROM:-0500
TZOFFSETTO:-0400
TZNAME:EDT
DTSTART:20250309T070000
END:DAYLIGHT
BEGIN:STANDARD
TZOFFSETFROM:-0400
TZOFFSETTO:-0500
TZNAME:EST
DTSTART:20251102T060000
END:STANDARD
BEGIN:DAYLIGHT
TZOFFSETFROM:-0500
TZOFFSETTO:-0400
TZNAME:EDT
DTSTART:20260308T070000
END:DAYLIGHT
BEGIN:STANDARD
TZOFFSETFROM:-0400
TZOFFSETTO:-0500
TZNAME:EST
DTSTART:20261101T060000
END:STANDARD
BEGIN:DAYLIGHT
TZOFFSETFROM:-0500
TZOFFSETTO:-0400
TZNAME:EDT
DTSTART:20270314T070000
END:DAYLIGHT
BEGIN:STANDARD
TZOFFSETFROM:-0400
TZOFFSETTO:-0500
TZNAME:EST
DTSTART:20271107T060000
END:STANDARD
END:VTIMEZONE
BEGIN:VEVENT
DTSTART;TZID=America/New_York:20260523T153000
DTEND;TZID=America/New_York:20260523T163000
DTSTAMP:20260424T233311
CREATED:20260315T174341Z
LAST-MODIFIED:20260315T174341Z
UID:10002725-1779550200-1779553800@autismsocietymd.org
SUMMARY:Yoga Connections - Virtual
DESCRIPTION:Virtual by Zoom Every Saturday 3:30-4:30PM ​​​​​​​ \nAll ages welcome! Made possible through a grant from The Hussman Foundation.  \nComplete a one-time registration at https://app.donorview.com/m4ykx to receive the weekly Zoom link by email
URL:https://autismsocietymd.org/event/yoga-connections-virtual-86/
CATEGORIES:Fitness
ATTACH;FMTTYPE=image/png:https://autismsocietymd.org/wp-content/uploads/2024/05/YOGA-for-children-teens-adults.png
END:VEVENT
BEGIN:VEVENT
DTSTART;TZID=America/New_York:20260530T153000
DTEND;TZID=America/New_York:20260530T163000
DTSTAMP:20260424T233311
CREATED:20260315T174420Z
LAST-MODIFIED:20260315T174420Z
UID:10002726-1780155000-1780158600@autismsocietymd.org
SUMMARY:Yoga Connections - Virtual
DESCRIPTION:Virtual by Zoom Every Saturday 3:30-4:30PM ​​​​​​​ \nAll ages welcome! Made possible through a grant from The Hussman Foundation.  \nComplete a one-time registration at https://app.donorview.com/m4ykx to receive the weekly Zoom link by email
URL:https://autismsocietymd.org/event/yoga-connections-virtual-87/
CATEGORIES:Fitness
ATTACH;FMTTYPE=image/png:https://autismsocietymd.org/wp-content/uploads/2024/05/YOGA-for-children-teens-adults.png
END:VEVENT
BEGIN:VEVENT
DTSTART;TZID=America/New_York:20260606T153000
DTEND;TZID=America/New_York:20260606T163000
DTSTAMP:20260424T233311
CREATED:20260315T175217Z
LAST-MODIFIED:20260315T175217Z
UID:10002729-1780759800-1780763400@autismsocietymd.org
SUMMARY:Yoga Connections - Virtual
DESCRIPTION:Virtual by Zoom Every Saturday 3:30-4:30PM ​​​​​​​ \nAll ages welcome! Made possible through a grant from The Hussman Foundation.  \nComplete a one-time registration at https://app.donorview.com/m4ykx to receive the weekly Zoom link by email
URL:https://autismsocietymd.org/event/yoga-connections-virtual-90/
CATEGORIES:Fitness
ATTACH;FMTTYPE=image/png:https://autismsocietymd.org/wp-content/uploads/2024/05/YOGA-for-children-teens-adults.png
END:VEVENT
BEGIN:VEVENT
DTSTART;TZID=America/New_York:20260613T153000
DTEND;TZID=America/New_York:20260613T163000
DTSTAMP:20260424T233311
CREATED:20260315T174506Z
LAST-MODIFIED:20260315T174528Z
UID:10002727-1781364600-1781368200@autismsocietymd.org
SUMMARY:Yoga Connections - Virtual
DESCRIPTION:Virtual by Zoom Every Saturday 3:30-4:30PM ​​​​​​​ \nAll ages welcome! Made possible through a grant from The Hussman Foundation.  \nComplete a one-time registration at https://app.donorview.com/m4ykx to receive the weekly Zoom link by email
URL:https://autismsocietymd.org/event/yoga-connections-virtual-88/
CATEGORIES:Fitness
ATTACH;FMTTYPE=image/png:https://autismsocietymd.org/wp-content/uploads/2024/05/YOGA-for-children-teens-adults.png
END:VEVENT
BEGIN:VEVENT
DTSTART;TZID=America/New_York:20260620T153000
DTEND;TZID=America/New_York:20260620T163000
DTSTAMP:20260424T233311
CREATED:20260315T175318Z
LAST-MODIFIED:20260315T175318Z
UID:10002730-1781969400-1781973000@autismsocietymd.org
SUMMARY:Yoga Connections - Virtual
DESCRIPTION:Virtual by Zoom Every Saturday 3:30-4:30PM ​​​​​​​ \nAll ages welcome! Made possible through a grant from The Hussman Foundation.  \nComplete a one-time registration at https://app.donorview.com/m4ykx to receive the weekly Zoom link by email
URL:https://autismsocietymd.org/event/yoga-connections-virtual-91/
CATEGORIES:Fitness
ATTACH;FMTTYPE=image/png:https://autismsocietymd.org/wp-content/uploads/2024/05/YOGA-for-children-teens-adults.png
END:VEVENT
BEGIN:VEVENT
DTSTART;TZID=America/New_York:20260627T153000
DTEND;TZID=America/New_York:20260627T163000
DTSTAMP:20260424T233311
CREATED:20260315T174551Z
LAST-MODIFIED:20260315T174606Z
UID:10002728-1782574200-1782577800@autismsocietymd.org
SUMMARY:Yoga Connections - Virtual
DESCRIPTION:Virtual by Zoom Every Saturday 3:30-4:30PM ​​​​​​​ \nAll ages welcome! Made possible through a grant from The Hussman Foundation.  \nComplete a one-time registration at https://app.donorview.com/m4ykx to receive the weekly Zoom link by email
URL:https://autismsocietymd.org/event/yoga-connections-virtual-89/
CATEGORIES:Fitness
ATTACH;FMTTYPE=image/png:https://autismsocietymd.org/wp-content/uploads/2024/05/YOGA-for-children-teens-adults.png
END:VEVENT
END:VCALENDAR