BEGIN:VCALENDAR
VERSION:2.0
PRODID:-//Autism Society of Maryland - ECPv6.15.17.1//NONSGML v1.0//EN
CALSCALE:GREGORIAN
METHOD:PUBLISH
X-WR-CALNAME:Autism Society of Maryland
X-ORIGINAL-URL:https://autismsocietymd.org
X-WR-CALDESC:Events for Autism Society of Maryland
REFRESH-INTERVAL;VALUE=DURATION:PT1H
X-Robots-Tag:noindex
X-PUBLISHED-TTL:PT1H
BEGIN:VTIMEZONE
TZID:America/New_York
BEGIN:DAYLIGHT
TZOFFSETFROM:-0500
TZOFFSETTO:-0400
TZNAME:EDT
DTSTART:20250309T070000
END:DAYLIGHT
BEGIN:STANDARD
TZOFFSETFROM:-0400
TZOFFSETTO:-0500
TZNAME:EST
DTSTART:20251102T060000
END:STANDARD
BEGIN:DAYLIGHT
TZOFFSETFROM:-0500
TZOFFSETTO:-0400
TZNAME:EDT
DTSTART:20260308T070000
END:DAYLIGHT
BEGIN:STANDARD
TZOFFSETFROM:-0400
TZOFFSETTO:-0500
TZNAME:EST
DTSTART:20261101T060000
END:STANDARD
BEGIN:DAYLIGHT
TZOFFSETFROM:-0500
TZOFFSETTO:-0400
TZNAME:EDT
DTSTART:20270314T070000
END:DAYLIGHT
BEGIN:STANDARD
TZOFFSETFROM:-0400
TZOFFSETTO:-0500
TZNAME:EST
DTSTART:20271107T060000
END:STANDARD
END:VTIMEZONE
BEGIN:VEVENT
DTSTART;VALUE=DATE:20260427
DTEND;VALUE=DATE:20260428
DTSTAMP:20260423T131602
CREATED:20260121T020752Z
LAST-MODIFIED:20260121T020752Z
UID:10002684-1777248000-1777334399@autismsocietymd.org
SUMMARY:Howard County & Montgomery County Resource Coordinator Office Hours
DESCRIPTION:Resource Coordinator Office Hours – Howard & Montgomery Counties \nWhen: Mondays\, Wednesdays\, and Fridays (by appointment only)Where: Autism Society of Maryland Office \nCONTACT: Sara Sommerville | sara.sommerville@autismsocietymd.org | 443-518-7680 (Direct) \nThe Autism Society of Maryland’s Resource Coordinators are available to meet with families and individuals seeking support. Office hours are held three days a week by appointment only. \nDuring your appointment\, our coordinators can: \n\n\nConnect you with local autism resources and services \n\n\nProvide guidance and referrals tailored to your needs \n\n\nAnswer questions and help you navigate available tools \n\n\nAppointments are required. Please contact us to schedule a time.
URL:https://autismsocietymd.org/event/howard-county-montgomery-county-resource-coordinator-office-hours-31/
LOCATION:Autism Society of Maryland\, 9770 Patuxent Woods Drive\, Suite 308\, Columbia\, MD\, 21046\, United States
CATEGORIES:Family Support,General Support
ATTACH;FMTTYPE=image/png:https://autismsocietymd.org/wp-content/uploads/2025/09/7.png
END:VEVENT
BEGIN:VEVENT
DTSTART;TZID=America/New_York:20260428T190000
DTEND;TZID=America/New_York:20260428T200000
DTSTAMP:20260423T131602
CREATED:20260310T021102Z
LAST-MODIFIED:20260310T034040Z
UID:10002706-1777402800-1777406400@autismsocietymd.org
SUMMARY:Adult Sibling Support Group
DESCRIPTION:Adult Sibling Support Group (Virtual)​​​​​​​ \nThe Adult Sibling Support Group is a free group that offers support to adult siblings who are caring for sisters and brothers with a range of disabilities\, not only Autism. We invite you to join us for discussions offering mutual support and resource-sharing. \nA one time registration for the group is required: https://app.donorview.com/pEk7r \nOnce registered you will receive an email with the zoom link. \nIf you register within 24 hours of the session\, we cannot guarantee that you’ll receive the reminder email and Zoom link. \nIf you have questions or concerns please contact Kelly Kryspin at kelly.kryspin@autismsocietymd.org for more details \n 
URL:https://autismsocietymd.org/event/adult-sibling-support-group-11/
CATEGORIES:Autism Awarenss,Family Support
ATTACH;FMTTYPE=image/png:https://autismsocietymd.org/wp-content/uploads/2024/02/Adult-Siblings-Group.png
END:VEVENT
END:VCALENDAR